BEGIN:VCALENDAR
VERSION:2.0
PRODID:-//The Boerne Life - ECPv6.15.15//NONSGML v1.0//EN
CALSCALE:GREGORIAN
METHOD:PUBLISH
X-WR-CALNAME:The Boerne Life
X-ORIGINAL-URL:https://theboernelife.com
X-WR-CALDESC:Events for The Boerne Life
REFRESH-INTERVAL;VALUE=DURATION:PT1H
X-Robots-Tag:noindex
X-PUBLISHED-TTL:PT1H
BEGIN:VTIMEZONE
TZID:America/Chicago
BEGIN:DAYLIGHT
TZOFFSETFROM:-0600
TZOFFSETTO:-0500
TZNAME:CDT
DTSTART:20250309T080000
END:DAYLIGHT
BEGIN:STANDARD
TZOFFSETFROM:-0500
TZOFFSETTO:-0600
TZNAME:CST
DTSTART:20251102T070000
END:STANDARD
BEGIN:DAYLIGHT
TZOFFSETFROM:-0600
TZOFFSETTO:-0500
TZNAME:CDT
DTSTART:20260308T080000
END:DAYLIGHT
BEGIN:STANDARD
TZOFFSETFROM:-0500
TZOFFSETTO:-0600
TZNAME:CST
DTSTART:20261101T070000
END:STANDARD
BEGIN:DAYLIGHT
TZOFFSETFROM:-0600
TZOFFSETTO:-0500
TZNAME:CDT
DTSTART:20270314T080000
END:DAYLIGHT
BEGIN:STANDARD
TZOFFSETFROM:-0500
TZOFFSETTO:-0600
TZNAME:CST
DTSTART:20271107T070000
END:STANDARD
END:VTIMEZONE
BEGIN:VEVENT
DTSTART;TZID=America/Chicago:20260514T113000
DTEND;TZID=America/Chicago:20260514T213000
DTSTAMP:20260423T023306
CREATED:20260422T030705Z
LAST-MODIFIED:20260422T030705Z
UID:10038013-1778758200-1778794200@theboernelife.com
SUMMARY:Swing Strong Till It’s Gone 2026 at Tapatio Springs Hill Country Resort
DESCRIPTION:Swing Strong Till It’s Gone 2026 returns for its fifth annual golf tournament and fundraising event supporting Parkinson’s research\, taking place May 14–15\, 2026 at Tapatio Springs Hill Country Resort\, 1 Resort Way\, Boerne\, TX 78006. This two-day event combines golf\, live music\, and community engagement\, with proceeds benefiting the Michael J. Fox Foundation for Parkinson’s Research. \nThe event begins on Thursday\, May 14 with registration for the practice round at 11:30 am\, followed by a Kick-Off Party and free concert featuring the Faith Jacobs Band at 6:30 pm. On Friday\, May 15\, tournament registration opens at 10 am\, with evening festivities including a dinner and silent auction at 6:30 pm\, a live auction at 7 pm\, and a concert at 8 pm. \nParticipants and guests can expect a lively atmosphere filled with entertainment\, friendly competition\, and opportunities to give back\, building on the success of previous years that raised significant funds for research. Tickets\, donations\, and sponsorship opportunities are available at https://swingstrongtx.org/.
URL:https://theboernelife.com/events/swing-strong-till-its-gone-2026-at-tapatio-springs-hill-country-resort/2026-05-14/
LOCATION:Tapatio Springs Hill Country Resort\, 1 Resort Way\, Boerne\, 78006
CATEGORIES:Gaming
ATTACH;FMTTYPE=image/jpeg:https://theboernelife.com/wp-content/uploads/2026/04/swing-strong-till-its-gone-2026-at-tapatio-springs-hill-country-resort.jpg
END:VEVENT
BEGIN:VEVENT
DTSTART;TZID=America/Chicago:20260515T100000
DTEND;TZID=America/Chicago:20260515T230000
DTSTAMP:20260423T023306
CREATED:20260422T030705Z
LAST-MODIFIED:20260422T030705Z
UID:10038014-1778839200-1778886000@theboernelife.com
SUMMARY:Swing Strong Till It’s Gone 2026 at Tapatio Springs Hill Country Resort
DESCRIPTION:Swing Strong Till It’s Gone 2026 returns for its fifth annual golf tournament and fundraising event supporting Parkinson’s research\, taking place May 14–15\, 2026 at Tapatio Springs Hill Country Resort\, 1 Resort Way\, Boerne\, TX 78006. This two-day event combines golf\, live music\, and community engagement\, with proceeds benefiting the Michael J. Fox Foundation for Parkinson’s Research. \nThe event begins on Thursday\, May 14 with registration for the practice round at 11:30 am\, followed by a Kick-Off Party and free concert featuring the Faith Jacobs Band at 6:30 pm. On Friday\, May 15\, tournament registration opens at 10 am\, with evening festivities including a dinner and silent auction at 6:30 pm\, a live auction at 7 pm\, and a concert at 8 pm. \nParticipants and guests can expect a lively atmosphere filled with entertainment\, friendly competition\, and opportunities to give back\, building on the success of previous years that raised significant funds for research. Tickets\, donations\, and sponsorship opportunities are available at https://swingstrongtx.org/.
URL:https://theboernelife.com/events/swing-strong-till-its-gone-2026-at-tapatio-springs-hill-country-resort/2026-05-15/
LOCATION:Tapatio Springs Hill Country Resort\, 1 Resort Way\, Boerne\, 78006
CATEGORIES:Gaming
ATTACH;FMTTYPE=image/jpeg:https://theboernelife.com/wp-content/uploads/2026/04/swing-strong-till-its-gone-2026-at-tapatio-springs-hill-country-resort.jpg
END:VEVENT
END:VCALENDAR