BEGIN:VCALENDAR
VERSION:2.0
PRODID:-//The Boerne Life - ECPv6.15.15//NONSGML v1.0//EN
CALSCALE:GREGORIAN
METHOD:PUBLISH
X-WR-CALNAME:The Boerne Life
X-ORIGINAL-URL:https://theboernelife.com
X-WR-CALDESC:Events for The Boerne Life
REFRESH-INTERVAL;VALUE=DURATION:PT1H
X-Robots-Tag:noindex
X-PUBLISHED-TTL:PT1H
BEGIN:VTIMEZONE
TZID:America/Chicago
BEGIN:DAYLIGHT
TZOFFSETFROM:-0600
TZOFFSETTO:-0500
TZNAME:CDT
DTSTART:20250309T080000
END:DAYLIGHT
BEGIN:STANDARD
TZOFFSETFROM:-0500
TZOFFSETTO:-0600
TZNAME:CST
DTSTART:20251102T070000
END:STANDARD
BEGIN:DAYLIGHT
TZOFFSETFROM:-0600
TZOFFSETTO:-0500
TZNAME:CDT
DTSTART:20260308T080000
END:DAYLIGHT
BEGIN:STANDARD
TZOFFSETFROM:-0500
TZOFFSETTO:-0600
TZNAME:CST
DTSTART:20261101T070000
END:STANDARD
BEGIN:DAYLIGHT
TZOFFSETFROM:-0600
TZOFFSETTO:-0500
TZNAME:CDT
DTSTART:20270314T080000
END:DAYLIGHT
BEGIN:STANDARD
TZOFFSETFROM:-0500
TZOFFSETTO:-0600
TZNAME:CST
DTSTART:20271107T070000
END:STANDARD
END:VTIMEZONE
BEGIN:VEVENT
DTSTART;TZID=America/Chicago:20260516T080000
DTEND;TZID=America/Chicago:20260516T093000
DTSTAMP:20260422T190520
CREATED:20260422T072858Z
LAST-MODIFIED:20260422T072858Z
UID:10038044-1778918400-1778923800@theboernelife.com
SUMMARY:VFW Post 688 Monthly River Road Clean-up at Boerne River Road Park
DESCRIPTION:VFW Post 688 Monthly River Road Clean-up offers a hands-on way to give back to the community while helping keep Boerne’s River Road Park clean and enjoyable for everyone. This recurring volunteer event takes place every third Saturday of the month at Boerne River Road Park in Boerne\, TX. \nFrom May through October\, the clean-up runs from 8 am to 9:30 am\, and from November through December\, it shifts to 9 am to 10:30 am. Volunteers can join VFW Post 688 veterans in maintaining the park\, with both individuals and groups welcome to participate. \nThis community service opportunity is also suitable for students\, with volunteer hours available for credit.
URL:https://theboernelife.com/events/vfw-post-688-monthly-river-road-clean-up-at-boerne-river-road-park/2026-05-16/
LOCATION:Boerne River Road Park\, 100 River Rd\, Boerne\, TX\, 78006\, United States
CATEGORIES:General
ATTACH;FMTTYPE=image/jpeg:https://theboernelife.com/wp-content/uploads/2026/04/vfw-post-688-monthly-river-road-clean-up-at-boerne-river-road-park.jpg
END:VEVENT
BEGIN:VEVENT
DTSTART;TZID=America/Chicago:20260620T080000
DTEND;TZID=America/Chicago:20260620T093000
DTSTAMP:20260422T190520
CREATED:20260422T072858Z
LAST-MODIFIED:20260422T072858Z
UID:10038045-1781942400-1781947800@theboernelife.com
SUMMARY:VFW Post 688 Monthly River Road Clean-up at Boerne River Road Park
DESCRIPTION:VFW Post 688 Monthly River Road Clean-up offers a hands-on way to give back to the community while helping keep Boerne’s River Road Park clean and enjoyable for everyone. This recurring volunteer event takes place every third Saturday of the month at Boerne River Road Park in Boerne\, TX. \nFrom May through October\, the clean-up runs from 8 am to 9:30 am\, and from November through December\, it shifts to 9 am to 10:30 am. Volunteers can join VFW Post 688 veterans in maintaining the park\, with both individuals and groups welcome to participate. \nThis community service opportunity is also suitable for students\, with volunteer hours available for credit.
URL:https://theboernelife.com/events/vfw-post-688-monthly-river-road-clean-up-at-boerne-river-road-park/2026-06-20/
LOCATION:Boerne River Road Park\, 100 River Rd\, Boerne\, TX\, 78006\, United States
CATEGORIES:General
ATTACH;FMTTYPE=image/jpeg:https://theboernelife.com/wp-content/uploads/2026/04/vfw-post-688-monthly-river-road-clean-up-at-boerne-river-road-park.jpg
END:VEVENT
BEGIN:VEVENT
DTSTART;TZID=America/Chicago:20260718T080000
DTEND;TZID=America/Chicago:20260718T093000
DTSTAMP:20260422T190520
CREATED:20260422T072858Z
LAST-MODIFIED:20260422T072858Z
UID:10038046-1784361600-1784367000@theboernelife.com
SUMMARY:VFW Post 688 Monthly River Road Clean-up at Boerne River Road Park
DESCRIPTION:VFW Post 688 Monthly River Road Clean-up offers a hands-on way to give back to the community while helping keep Boerne’s River Road Park clean and enjoyable for everyone. This recurring volunteer event takes place every third Saturday of the month at Boerne River Road Park in Boerne\, TX. \nFrom May through October\, the clean-up runs from 8 am to 9:30 am\, and from November through December\, it shifts to 9 am to 10:30 am. Volunteers can join VFW Post 688 veterans in maintaining the park\, with both individuals and groups welcome to participate. \nThis community service opportunity is also suitable for students\, with volunteer hours available for credit.
URL:https://theboernelife.com/events/vfw-post-688-monthly-river-road-clean-up-at-boerne-river-road-park/2026-07-18/
LOCATION:Boerne River Road Park\, 100 River Rd\, Boerne\, TX\, 78006\, United States
CATEGORIES:General
ATTACH;FMTTYPE=image/jpeg:https://theboernelife.com/wp-content/uploads/2026/04/vfw-post-688-monthly-river-road-clean-up-at-boerne-river-road-park.jpg
END:VEVENT
BEGIN:VEVENT
DTSTART;TZID=America/Chicago:20260815T080000
DTEND;TZID=America/Chicago:20260815T093000
DTSTAMP:20260422T190520
CREATED:20260422T072858Z
LAST-MODIFIED:20260422T072858Z
UID:10038047-1786780800-1786786200@theboernelife.com
SUMMARY:VFW Post 688 Monthly River Road Clean-up at Boerne River Road Park
DESCRIPTION:VFW Post 688 Monthly River Road Clean-up offers a hands-on way to give back to the community while helping keep Boerne’s River Road Park clean and enjoyable for everyone. This recurring volunteer event takes place every third Saturday of the month at Boerne River Road Park in Boerne\, TX. \nFrom May through October\, the clean-up runs from 8 am to 9:30 am\, and from November through December\, it shifts to 9 am to 10:30 am. Volunteers can join VFW Post 688 veterans in maintaining the park\, with both individuals and groups welcome to participate. \nThis community service opportunity is also suitable for students\, with volunteer hours available for credit.
URL:https://theboernelife.com/events/vfw-post-688-monthly-river-road-clean-up-at-boerne-river-road-park/2026-08-15/
LOCATION:Boerne River Road Park\, 100 River Rd\, Boerne\, TX\, 78006\, United States
CATEGORIES:General
ATTACH;FMTTYPE=image/jpeg:https://theboernelife.com/wp-content/uploads/2026/04/vfw-post-688-monthly-river-road-clean-up-at-boerne-river-road-park.jpg
END:VEVENT
BEGIN:VEVENT
DTSTART;TZID=America/Chicago:20260919T080000
DTEND;TZID=America/Chicago:20260919T093000
DTSTAMP:20260422T190520
CREATED:20260422T072858Z
LAST-MODIFIED:20260422T072858Z
UID:10038048-1789804800-1789810200@theboernelife.com
SUMMARY:VFW Post 688 Monthly River Road Clean-up at Boerne River Road Park
DESCRIPTION:VFW Post 688 Monthly River Road Clean-up offers a hands-on way to give back to the community while helping keep Boerne’s River Road Park clean and enjoyable for everyone. This recurring volunteer event takes place every third Saturday of the month at Boerne River Road Park in Boerne\, TX. \nFrom May through October\, the clean-up runs from 8 am to 9:30 am\, and from November through December\, it shifts to 9 am to 10:30 am. Volunteers can join VFW Post 688 veterans in maintaining the park\, with both individuals and groups welcome to participate. \nThis community service opportunity is also suitable for students\, with volunteer hours available for credit.
URL:https://theboernelife.com/events/vfw-post-688-monthly-river-road-clean-up-at-boerne-river-road-park/2026-09-19/
LOCATION:Boerne River Road Park\, 100 River Rd\, Boerne\, TX\, 78006\, United States
CATEGORIES:General
ATTACH;FMTTYPE=image/jpeg:https://theboernelife.com/wp-content/uploads/2026/04/vfw-post-688-monthly-river-road-clean-up-at-boerne-river-road-park.jpg
END:VEVENT
BEGIN:VEVENT
DTSTART;TZID=America/Chicago:20261017T080000
DTEND;TZID=America/Chicago:20261017T093000
DTSTAMP:20260422T190520
CREATED:20260422T072858Z
LAST-MODIFIED:20260422T072858Z
UID:10038049-1792224000-1792229400@theboernelife.com
SUMMARY:VFW Post 688 Monthly River Road Clean-up at Boerne River Road Park
DESCRIPTION:VFW Post 688 Monthly River Road Clean-up offers a hands-on way to give back to the community while helping keep Boerne’s River Road Park clean and enjoyable for everyone. This recurring volunteer event takes place every third Saturday of the month at Boerne River Road Park in Boerne\, TX. \nFrom May through October\, the clean-up runs from 8 am to 9:30 am\, and from November through December\, it shifts to 9 am to 10:30 am. Volunteers can join VFW Post 688 veterans in maintaining the park\, with both individuals and groups welcome to participate. \nThis community service opportunity is also suitable for students\, with volunteer hours available for credit.
URL:https://theboernelife.com/events/vfw-post-688-monthly-river-road-clean-up-at-boerne-river-road-park/2026-10-17/
LOCATION:Boerne River Road Park\, 100 River Rd\, Boerne\, TX\, 78006\, United States
CATEGORIES:General
ATTACH;FMTTYPE=image/jpeg:https://theboernelife.com/wp-content/uploads/2026/04/vfw-post-688-monthly-river-road-clean-up-at-boerne-river-road-park.jpg
END:VEVENT
BEGIN:VEVENT
DTSTART;TZID=America/Chicago:20261121T090000
DTEND;TZID=America/Chicago:20261121T103000
DTSTAMP:20260422T190520
CREATED:20260422T072858Z
LAST-MODIFIED:20260422T072858Z
UID:10038050-1795251600-1795257000@theboernelife.com
SUMMARY:VFW Post 688 Monthly River Road Clean-up at Boerne River Road Park
DESCRIPTION:VFW Post 688 Monthly River Road Clean-up offers a hands-on way to give back to the community while helping keep Boerne’s River Road Park clean and enjoyable for everyone. This recurring volunteer event takes place every third Saturday of the month at Boerne River Road Park in Boerne\, TX. \nFrom May through October\, the clean-up runs from 8 am to 9:30 am\, and from November through December\, it shifts to 9 am to 10:30 am. Volunteers can join VFW Post 688 veterans in maintaining the park\, with both individuals and groups welcome to participate. \nThis community service opportunity is also suitable for students\, with volunteer hours available for credit.
URL:https://theboernelife.com/events/vfw-post-688-monthly-river-road-clean-up-at-boerne-river-road-park/2026-11-21/
LOCATION:Boerne River Road Park\, 100 River Rd\, Boerne\, TX\, 78006\, United States
CATEGORIES:General
ATTACH;FMTTYPE=image/jpeg:https://theboernelife.com/wp-content/uploads/2026/04/vfw-post-688-monthly-river-road-clean-up-at-boerne-river-road-park.jpg
END:VEVENT
BEGIN:VEVENT
DTSTART;TZID=America/Chicago:20261219T090000
DTEND;TZID=America/Chicago:20261219T103000
DTSTAMP:20260422T190520
CREATED:20260422T072858Z
LAST-MODIFIED:20260422T072858Z
UID:10038051-1797670800-1797676200@theboernelife.com
SUMMARY:VFW Post 688 Monthly River Road Clean-up at Boerne River Road Park
DESCRIPTION:VFW Post 688 Monthly River Road Clean-up offers a hands-on way to give back to the community while helping keep Boerne’s River Road Park clean and enjoyable for everyone. This recurring volunteer event takes place every third Saturday of the month at Boerne River Road Park in Boerne\, TX. \nFrom May through October\, the clean-up runs from 8 am to 9:30 am\, and from November through December\, it shifts to 9 am to 10:30 am. Volunteers can join VFW Post 688 veterans in maintaining the park\, with both individuals and groups welcome to participate. \nThis community service opportunity is also suitable for students\, with volunteer hours available for credit.
URL:https://theboernelife.com/events/vfw-post-688-monthly-river-road-clean-up-at-boerne-river-road-park/2026-12-19/
LOCATION:Boerne River Road Park\, 100 River Rd\, Boerne\, TX\, 78006\, United States
CATEGORIES:General
ATTACH;FMTTYPE=image/jpeg:https://theboernelife.com/wp-content/uploads/2026/04/vfw-post-688-monthly-river-road-clean-up-at-boerne-river-road-park.jpg
END:VEVENT
END:VCALENDAR