BEGIN:VCALENDAR
VERSION:2.0
PRODID:-//The Boerne Life - ECPv6.15.15//NONSGML v1.0//EN
CALSCALE:GREGORIAN
METHOD:PUBLISH
X-ORIGINAL-URL:https://theboernelife.com
X-WR-CALDESC:Events for The Boerne Life
REFRESH-INTERVAL;VALUE=DURATION:PT1H
X-Robots-Tag:noindex
X-PUBLISHED-TTL:PT1H
BEGIN:VTIMEZONE
TZID:America/Chicago
BEGIN:DAYLIGHT
TZOFFSETFROM:-0600
TZOFFSETTO:-0500
TZNAME:CDT
DTSTART:20250309T080000
END:DAYLIGHT
BEGIN:STANDARD
TZOFFSETFROM:-0500
TZOFFSETTO:-0600
TZNAME:CST
DTSTART:20251102T070000
END:STANDARD
BEGIN:DAYLIGHT
TZOFFSETFROM:-0600
TZOFFSETTO:-0500
TZNAME:CDT
DTSTART:20260308T080000
END:DAYLIGHT
BEGIN:STANDARD
TZOFFSETFROM:-0500
TZOFFSETTO:-0600
TZNAME:CST
DTSTART:20261101T070000
END:STANDARD
BEGIN:DAYLIGHT
TZOFFSETFROM:-0600
TZOFFSETTO:-0500
TZNAME:CDT
DTSTART:20270314T080000
END:DAYLIGHT
BEGIN:STANDARD
TZOFFSETFROM:-0500
TZOFFSETTO:-0600
TZNAME:CST
DTSTART:20271107T070000
END:STANDARD
END:VTIMEZONE
BEGIN:VEVENT
DTSTART;TZID=America/Chicago:20260725T180000
DTEND;TZID=America/Chicago:20260725T233000
DTSTAMP:20260421T182224
CREATED:20250204T155520Z
LAST-MODIFIED:20260302T122143Z
UID:10035039-1785002400-1785022200@theboernelife.com
SUMMARY:Antique Tractor Pull at The AgriCultural
DESCRIPTION:The AgriCultural Museum & Arts Center in Boerne is hosting a series of antique tractor pulls and a trail ride throughout 2025. These events celebrate farming heritage with powerful antique tractors in action\, making for a fun-filled experience for the entire family. \nMark your calendars for the following dates: \nSpring Antique Tractor Pull – April 4\, 2026\nHot Summer Night Pull – July 25\, 2026\nHarvest Time Antique Tractor Pull – October 24\, 2026 \nAll events take place at The AgriCultural Museum & Arts Center\, located at 102 City Park Rd.\, Boerne\, TX 78006. For more information\, call 210-445-1080 or visit www.TheAgriCultural.org.
URL:https://theboernelife.com/events/antique-tractor-pull/2026-07-25/
LOCATION:The AgriCultural Museum & Arts Center\, 102 City Park Rd.\, Boerne\, TX\, 78006\, United States
CATEGORIES:Kids and Family,Outdoors
ATTACH;FMTTYPE=image/jpeg:https://theboernelife.com/wp-content/uploads/2025/02/Antique-Tractor-Pull-2025.jpg
END:VEVENT
END:VCALENDAR