BEGIN:VCALENDAR
VERSION:2.0
PRODID:-//The Boerne Life - ECPv6.15.15//NONSGML v1.0//EN
CALSCALE:GREGORIAN
METHOD:PUBLISH
X-ORIGINAL-URL:https://theboernelife.com
X-WR-CALDESC:Events for The Boerne Life
REFRESH-INTERVAL;VALUE=DURATION:PT1H
X-Robots-Tag:noindex
X-PUBLISHED-TTL:PT1H
BEGIN:VTIMEZONE
TZID:America/Chicago
BEGIN:DAYLIGHT
TZOFFSETFROM:-0600
TZOFFSETTO:-0500
TZNAME:CDT
DTSTART:20250309T080000
END:DAYLIGHT
BEGIN:STANDARD
TZOFFSETFROM:-0500
TZOFFSETTO:-0600
TZNAME:CST
DTSTART:20251102T070000
END:STANDARD
BEGIN:DAYLIGHT
TZOFFSETFROM:-0600
TZOFFSETTO:-0500
TZNAME:CDT
DTSTART:20260308T080000
END:DAYLIGHT
BEGIN:STANDARD
TZOFFSETFROM:-0500
TZOFFSETTO:-0600
TZNAME:CST
DTSTART:20261101T070000
END:STANDARD
BEGIN:DAYLIGHT
TZOFFSETFROM:-0600
TZOFFSETTO:-0500
TZNAME:CDT
DTSTART:20270314T080000
END:DAYLIGHT
BEGIN:STANDARD
TZOFFSETFROM:-0500
TZOFFSETTO:-0600
TZNAME:CST
DTSTART:20271107T070000
END:STANDARD
END:VTIMEZONE
BEGIN:VEVENT
DTSTART;TZID=America/Chicago:20260501T190000
DTEND;TZID=America/Chicago:20260501T220000
DTSTAMP:20260422T063633
CREATED:20260420T024353Z
LAST-MODIFIED:20260420T024353Z
UID:10037698-1777662000-1777672800@theboernelife.com
SUMMARY:Cirque Ma’Ceo: The Year of the Horse at Kendall County Fairgrounds
DESCRIPTION:Cirque Ma’Ceo: The Year of the Horse brings a captivating blend of acrobatics\, horsemanship\, and theatrical storytelling to Boerne for a limited engagement. The show runs from May 1 through May 10 at the Kendall County Fairgrounds\, located at 1307 River Road\, Boerne\, TX 78006. \nThis live performance showcases the powerful connection between horse and human through a mix of daring aerial acts\, equestrian artistry\, and immersive staging that places audiences close to the action. Guests can expect an unforgettable experience filled with high-energy moments\, graceful choreography\, and the excitement of a traditional big top atmosphere. \nShowtimes are scheduled for Fridays at 7 pm\, Saturdays at 4 pm and 7 pm\, and Sundays at 1 pm and 4 pm. Tickets are required\, and more information can be found at https://tickets.cirquemaceo.com/events?venueId=69b1c934e43be4d699fc43a2.
URL:https://theboernelife.com/events/cirque-maceo-the-year-of-the-horse-at-kendall-county-fairgrounds/2026-05-01/
LOCATION:Kendall County Fairgrounds\, 1307 River Road\, Boerne\, TX\, 78006\, United States
CATEGORIES:Kids and Family
ATTACH;FMTTYPE=image/jpeg:https://theboernelife.com/wp-content/uploads/2026/04/cirque-maceo-the-year-of-the-horse-at-kendall-county-fairgrounds.jpg
END:VEVENT
BEGIN:VEVENT
DTSTART;TZID=America/Chicago:20260502T160000
DTEND;TZID=America/Chicago:20260502T190000
DTSTAMP:20260422T063633
CREATED:20260420T024353Z
LAST-MODIFIED:20260420T024353Z
UID:10037699-1777737600-1777748400@theboernelife.com
SUMMARY:Cirque Ma’Ceo: The Year of the Horse at Kendall County Fairgrounds
DESCRIPTION:Cirque Ma’Ceo: The Year of the Horse brings a captivating blend of acrobatics\, horsemanship\, and theatrical storytelling to Boerne for a limited engagement. The show runs from May 1 through May 10 at the Kendall County Fairgrounds\, located at 1307 River Road\, Boerne\, TX 78006. \nThis live performance showcases the powerful connection between horse and human through a mix of daring aerial acts\, equestrian artistry\, and immersive staging that places audiences close to the action. Guests can expect an unforgettable experience filled with high-energy moments\, graceful choreography\, and the excitement of a traditional big top atmosphere. \nShowtimes are scheduled for Fridays at 7 pm\, Saturdays at 4 pm and 7 pm\, and Sundays at 1 pm and 4 pm. Tickets are required\, and more information can be found at https://tickets.cirquemaceo.com/events?venueId=69b1c934e43be4d699fc43a2.
URL:https://theboernelife.com/events/cirque-maceo-the-year-of-the-horse-at-kendall-county-fairgrounds/2026-05-02/1/
LOCATION:Kendall County Fairgrounds\, 1307 River Road\, Boerne\, TX\, 78006\, United States
CATEGORIES:Kids and Family
ATTACH;FMTTYPE=image/jpeg:https://theboernelife.com/wp-content/uploads/2026/04/cirque-maceo-the-year-of-the-horse-at-kendall-county-fairgrounds.jpg
END:VEVENT
BEGIN:VEVENT
DTSTART;TZID=America/Chicago:20260502T190000
DTEND;TZID=America/Chicago:20260502T220000
DTSTAMP:20260422T063634
CREATED:20260420T024353Z
LAST-MODIFIED:20260420T024353Z
UID:10037700-1777748400-1777759200@theboernelife.com
SUMMARY:Cirque Ma’Ceo: The Year of the Horse at Kendall County Fairgrounds
DESCRIPTION:Cirque Ma’Ceo: The Year of the Horse brings a captivating blend of acrobatics\, horsemanship\, and theatrical storytelling to Boerne for a limited engagement. The show runs from May 1 through May 10 at the Kendall County Fairgrounds\, located at 1307 River Road\, Boerne\, TX 78006. \nThis live performance showcases the powerful connection between horse and human through a mix of daring aerial acts\, equestrian artistry\, and immersive staging that places audiences close to the action. Guests can expect an unforgettable experience filled with high-energy moments\, graceful choreography\, and the excitement of a traditional big top atmosphere. \nShowtimes are scheduled for Fridays at 7 pm\, Saturdays at 4 pm and 7 pm\, and Sundays at 1 pm and 4 pm. Tickets are required\, and more information can be found at https://tickets.cirquemaceo.com/events?venueId=69b1c934e43be4d699fc43a2.
URL:https://theboernelife.com/events/cirque-maceo-the-year-of-the-horse-at-kendall-county-fairgrounds/2026-05-02/2/
LOCATION:Kendall County Fairgrounds\, 1307 River Road\, Boerne\, TX\, 78006\, United States
CATEGORIES:Kids and Family
ATTACH;FMTTYPE=image/jpeg:https://theboernelife.com/wp-content/uploads/2026/04/cirque-maceo-the-year-of-the-horse-at-kendall-county-fairgrounds.jpg
END:VEVENT
BEGIN:VEVENT
DTSTART;TZID=America/Chicago:20260503T130000
DTEND;TZID=America/Chicago:20260503T150000
DTSTAMP:20260422T063634
CREATED:20260420T024353Z
LAST-MODIFIED:20260420T024353Z
UID:10037701-1777813200-1777820400@theboernelife.com
SUMMARY:Cirque Ma’Ceo: The Year of the Horse at Kendall County Fairgrounds
DESCRIPTION:Cirque Ma’Ceo: The Year of the Horse brings a captivating blend of acrobatics\, horsemanship\, and theatrical storytelling to Boerne for a limited engagement. The show runs from May 1 through May 10 at the Kendall County Fairgrounds\, located at 1307 River Road\, Boerne\, TX 78006. \nThis live performance showcases the powerful connection between horse and human through a mix of daring aerial acts\, equestrian artistry\, and immersive staging that places audiences close to the action. Guests can expect an unforgettable experience filled with high-energy moments\, graceful choreography\, and the excitement of a traditional big top atmosphere. \nShowtimes are scheduled for Fridays at 7 pm\, Saturdays at 4 pm and 7 pm\, and Sundays at 1 pm and 4 pm. Tickets are required\, and more information can be found at https://tickets.cirquemaceo.com/events?venueId=69b1c934e43be4d699fc43a2.
URL:https://theboernelife.com/events/cirque-maceo-the-year-of-the-horse-at-kendall-county-fairgrounds/2026-05-03/1/
LOCATION:Kendall County Fairgrounds\, 1307 River Road\, Boerne\, TX\, 78006\, United States
CATEGORIES:Kids and Family
ATTACH;FMTTYPE=image/jpeg:https://theboernelife.com/wp-content/uploads/2026/04/cirque-maceo-the-year-of-the-horse-at-kendall-county-fairgrounds.jpg
END:VEVENT
BEGIN:VEVENT
DTSTART;TZID=America/Chicago:20260503T160000
DTEND;TZID=America/Chicago:20260503T190000
DTSTAMP:20260422T063634
CREATED:20260420T024353Z
LAST-MODIFIED:20260420T024353Z
UID:10037702-1777824000-1777834800@theboernelife.com
SUMMARY:Cirque Ma’Ceo: The Year of the Horse at Kendall County Fairgrounds
DESCRIPTION:Cirque Ma’Ceo: The Year of the Horse brings a captivating blend of acrobatics\, horsemanship\, and theatrical storytelling to Boerne for a limited engagement. The show runs from May 1 through May 10 at the Kendall County Fairgrounds\, located at 1307 River Road\, Boerne\, TX 78006. \nThis live performance showcases the powerful connection between horse and human through a mix of daring aerial acts\, equestrian artistry\, and immersive staging that places audiences close to the action. Guests can expect an unforgettable experience filled with high-energy moments\, graceful choreography\, and the excitement of a traditional big top atmosphere. \nShowtimes are scheduled for Fridays at 7 pm\, Saturdays at 4 pm and 7 pm\, and Sundays at 1 pm and 4 pm. Tickets are required\, and more information can be found at https://tickets.cirquemaceo.com/events?venueId=69b1c934e43be4d699fc43a2.
URL:https://theboernelife.com/events/cirque-maceo-the-year-of-the-horse-at-kendall-county-fairgrounds/2026-05-03/2/
LOCATION:Kendall County Fairgrounds\, 1307 River Road\, Boerne\, TX\, 78006\, United States
CATEGORIES:Kids and Family
ATTACH;FMTTYPE=image/jpeg:https://theboernelife.com/wp-content/uploads/2026/04/cirque-maceo-the-year-of-the-horse-at-kendall-county-fairgrounds.jpg
END:VEVENT
BEGIN:VEVENT
DTSTART;TZID=America/Chicago:20260508T190000
DTEND;TZID=America/Chicago:20260508T220000
DTSTAMP:20260422T063634
CREATED:20260420T024353Z
LAST-MODIFIED:20260420T024353Z
UID:10037703-1778266800-1778277600@theboernelife.com
SUMMARY:Cirque Ma’Ceo: The Year of the Horse at Kendall County Fairgrounds
DESCRIPTION:Cirque Ma’Ceo: The Year of the Horse brings a captivating blend of acrobatics\, horsemanship\, and theatrical storytelling to Boerne for a limited engagement. The show runs from May 1 through May 10 at the Kendall County Fairgrounds\, located at 1307 River Road\, Boerne\, TX 78006. \nThis live performance showcases the powerful connection between horse and human through a mix of daring aerial acts\, equestrian artistry\, and immersive staging that places audiences close to the action. Guests can expect an unforgettable experience filled with high-energy moments\, graceful choreography\, and the excitement of a traditional big top atmosphere. \nShowtimes are scheduled for Fridays at 7 pm\, Saturdays at 4 pm and 7 pm\, and Sundays at 1 pm and 4 pm. Tickets are required\, and more information can be found at https://tickets.cirquemaceo.com/events?venueId=69b1c934e43be4d699fc43a2.
URL:https://theboernelife.com/events/cirque-maceo-the-year-of-the-horse-at-kendall-county-fairgrounds/2026-05-08/
LOCATION:Kendall County Fairgrounds\, 1307 River Road\, Boerne\, TX\, 78006\, United States
CATEGORIES:Kids and Family
ATTACH;FMTTYPE=image/jpeg:https://theboernelife.com/wp-content/uploads/2026/04/cirque-maceo-the-year-of-the-horse-at-kendall-county-fairgrounds.jpg
END:VEVENT
BEGIN:VEVENT
DTSTART;TZID=America/Chicago:20260509T160000
DTEND;TZID=America/Chicago:20260509T190000
DTSTAMP:20260422T063634
CREATED:20260420T024353Z
LAST-MODIFIED:20260420T024353Z
UID:10037704-1778342400-1778353200@theboernelife.com
SUMMARY:Cirque Ma’Ceo: The Year of the Horse at Kendall County Fairgrounds
DESCRIPTION:Cirque Ma’Ceo: The Year of the Horse brings a captivating blend of acrobatics\, horsemanship\, and theatrical storytelling to Boerne for a limited engagement. The show runs from May 1 through May 10 at the Kendall County Fairgrounds\, located at 1307 River Road\, Boerne\, TX 78006. \nThis live performance showcases the powerful connection between horse and human through a mix of daring aerial acts\, equestrian artistry\, and immersive staging that places audiences close to the action. Guests can expect an unforgettable experience filled with high-energy moments\, graceful choreography\, and the excitement of a traditional big top atmosphere. \nShowtimes are scheduled for Fridays at 7 pm\, Saturdays at 4 pm and 7 pm\, and Sundays at 1 pm and 4 pm. Tickets are required\, and more information can be found at https://tickets.cirquemaceo.com/events?venueId=69b1c934e43be4d699fc43a2.
URL:https://theboernelife.com/events/cirque-maceo-the-year-of-the-horse-at-kendall-county-fairgrounds/2026-05-09/1/
LOCATION:Kendall County Fairgrounds\, 1307 River Road\, Boerne\, TX\, 78006\, United States
CATEGORIES:Kids and Family
ATTACH;FMTTYPE=image/jpeg:https://theboernelife.com/wp-content/uploads/2026/04/cirque-maceo-the-year-of-the-horse-at-kendall-county-fairgrounds.jpg
END:VEVENT
BEGIN:VEVENT
DTSTART;TZID=America/Chicago:20260509T190000
DTEND;TZID=America/Chicago:20260509T220000
DTSTAMP:20260422T063634
CREATED:20260420T024353Z
LAST-MODIFIED:20260420T024353Z
UID:10037705-1778353200-1778364000@theboernelife.com
SUMMARY:Cirque Ma’Ceo: The Year of the Horse at Kendall County Fairgrounds
DESCRIPTION:Cirque Ma’Ceo: The Year of the Horse brings a captivating blend of acrobatics\, horsemanship\, and theatrical storytelling to Boerne for a limited engagement. The show runs from May 1 through May 10 at the Kendall County Fairgrounds\, located at 1307 River Road\, Boerne\, TX 78006. \nThis live performance showcases the powerful connection between horse and human through a mix of daring aerial acts\, equestrian artistry\, and immersive staging that places audiences close to the action. Guests can expect an unforgettable experience filled with high-energy moments\, graceful choreography\, and the excitement of a traditional big top atmosphere. \nShowtimes are scheduled for Fridays at 7 pm\, Saturdays at 4 pm and 7 pm\, and Sundays at 1 pm and 4 pm. Tickets are required\, and more information can be found at https://tickets.cirquemaceo.com/events?venueId=69b1c934e43be4d699fc43a2.
URL:https://theboernelife.com/events/cirque-maceo-the-year-of-the-horse-at-kendall-county-fairgrounds/2026-05-09/2/
LOCATION:Kendall County Fairgrounds\, 1307 River Road\, Boerne\, TX\, 78006\, United States
CATEGORIES:Kids and Family
ATTACH;FMTTYPE=image/jpeg:https://theboernelife.com/wp-content/uploads/2026/04/cirque-maceo-the-year-of-the-horse-at-kendall-county-fairgrounds.jpg
END:VEVENT
BEGIN:VEVENT
DTSTART;TZID=America/Chicago:20260510T130000
DTEND;TZID=America/Chicago:20260510T150000
DTSTAMP:20260422T063634
CREATED:20260420T024353Z
LAST-MODIFIED:20260420T024353Z
UID:10037706-1778418000-1778425200@theboernelife.com
SUMMARY:Cirque Ma’Ceo: The Year of the Horse at Kendall County Fairgrounds
DESCRIPTION:Cirque Ma’Ceo: The Year of the Horse brings a captivating blend of acrobatics\, horsemanship\, and theatrical storytelling to Boerne for a limited engagement. The show runs from May 1 through May 10 at the Kendall County Fairgrounds\, located at 1307 River Road\, Boerne\, TX 78006. \nThis live performance showcases the powerful connection between horse and human through a mix of daring aerial acts\, equestrian artistry\, and immersive staging that places audiences close to the action. Guests can expect an unforgettable experience filled with high-energy moments\, graceful choreography\, and the excitement of a traditional big top atmosphere. \nShowtimes are scheduled for Fridays at 7 pm\, Saturdays at 4 pm and 7 pm\, and Sundays at 1 pm and 4 pm. Tickets are required\, and more information can be found at https://tickets.cirquemaceo.com/events?venueId=69b1c934e43be4d699fc43a2.
URL:https://theboernelife.com/events/cirque-maceo-the-year-of-the-horse-at-kendall-county-fairgrounds/2026-05-10/
LOCATION:Kendall County Fairgrounds\, 1307 River Road\, Boerne\, TX\, 78006\, United States
CATEGORIES:Kids and Family
ATTACH;FMTTYPE=image/jpeg:https://theboernelife.com/wp-content/uploads/2026/04/cirque-maceo-the-year-of-the-horse-at-kendall-county-fairgrounds.jpg
END:VEVENT
END:VCALENDAR