BEGIN:VCALENDAR
VERSION:2.0
PRODID:-//The Boerne Life - ECPv6.15.15//NONSGML v1.0//EN
CALSCALE:GREGORIAN
METHOD:PUBLISH
X-ORIGINAL-URL:https://theboernelife.com
X-WR-CALDESC:Events for The Boerne Life
REFRESH-INTERVAL;VALUE=DURATION:PT1H
X-Robots-Tag:noindex
X-PUBLISHED-TTL:PT1H
BEGIN:VTIMEZONE
TZID:America/Chicago
BEGIN:DAYLIGHT
TZOFFSETFROM:-0600
TZOFFSETTO:-0500
TZNAME:CDT
DTSTART:20250309T080000
END:DAYLIGHT
BEGIN:STANDARD
TZOFFSETFROM:-0500
TZOFFSETTO:-0600
TZNAME:CST
DTSTART:20251102T070000
END:STANDARD
BEGIN:DAYLIGHT
TZOFFSETFROM:-0600
TZOFFSETTO:-0500
TZNAME:CDT
DTSTART:20260308T080000
END:DAYLIGHT
BEGIN:STANDARD
TZOFFSETFROM:-0500
TZOFFSETTO:-0600
TZNAME:CST
DTSTART:20261101T070000
END:STANDARD
BEGIN:DAYLIGHT
TZOFFSETFROM:-0600
TZOFFSETTO:-0500
TZNAME:CDT
DTSTART:20270314T080000
END:DAYLIGHT
BEGIN:STANDARD
TZOFFSETFROM:-0500
TZOFFSETTO:-0600
TZNAME:CST
DTSTART:20271107T070000
END:STANDARD
END:VTIMEZONE
BEGIN:VEVENT
DTSTART;TZID=America/Chicago:20260501T100000
DTEND;TZID=America/Chicago:20260501T110000
DTSTAMP:20260421T155558
CREATED:20260420T024730Z
LAST-MODIFIED:20260420T024730Z
UID:10037707-1777629600-1777633200@theboernelife.com
SUMMARY:Parent-Child Workshop at Patrick Heath Public Library
DESCRIPTION:Parent-Child Workshop offers a fun and interactive opportunity for young children and their caregivers to learn and play together. The program takes place every Friday in May from 10 am to 11 am at the Patrick Heath Public Library. \nDesigned for children ages 1–3 and their parent or caregiver\, this 5-week open play series focuses on early literacy and developmental learning through engaging\, hands-on activities. Each session includes guidance from child development professionals\, along with playtime\, mini storytime\, and creative art experiences. \nSpace is limited\, and registration is required. For more information or to reserve a spot\, visit https://forms.gle/uRBVPqt6zoLDLQ8r9 or email cherrera@boernelibrary.org.
URL:https://theboernelife.com/events/parent-child-workshop-at-patrick-heath-public-library/2026-05-01/
LOCATION:Patrick Heath Public Library\, 451 N. Main Street\, Boerne\, TX\, 78006\, United States
CATEGORIES:Kids and Family
ATTACH;FMTTYPE=image/jpeg:https://theboernelife.com/wp-content/uploads/2026/04/parent-child-workshop-at-patrick-heath-public-library.jpg
END:VEVENT
BEGIN:VEVENT
DTSTART;TZID=America/Chicago:20260508T100000
DTEND;TZID=America/Chicago:20260508T110000
DTSTAMP:20260421T155558
CREATED:20260420T024730Z
LAST-MODIFIED:20260420T024730Z
UID:10037708-1778234400-1778238000@theboernelife.com
SUMMARY:Parent-Child Workshop at Patrick Heath Public Library
DESCRIPTION:Parent-Child Workshop offers a fun and interactive opportunity for young children and their caregivers to learn and play together. The program takes place every Friday in May from 10 am to 11 am at the Patrick Heath Public Library. \nDesigned for children ages 1–3 and their parent or caregiver\, this 5-week open play series focuses on early literacy and developmental learning through engaging\, hands-on activities. Each session includes guidance from child development professionals\, along with playtime\, mini storytime\, and creative art experiences. \nSpace is limited\, and registration is required. For more information or to reserve a spot\, visit https://forms.gle/uRBVPqt6zoLDLQ8r9 or email cherrera@boernelibrary.org.
URL:https://theboernelife.com/events/parent-child-workshop-at-patrick-heath-public-library/2026-05-08/
LOCATION:Patrick Heath Public Library\, 451 N. Main Street\, Boerne\, TX\, 78006\, United States
CATEGORIES:Kids and Family
ATTACH;FMTTYPE=image/jpeg:https://theboernelife.com/wp-content/uploads/2026/04/parent-child-workshop-at-patrick-heath-public-library.jpg
END:VEVENT
BEGIN:VEVENT
DTSTART;TZID=America/Chicago:20260515T100000
DTEND;TZID=America/Chicago:20260515T110000
DTSTAMP:20260421T155558
CREATED:20260420T024730Z
LAST-MODIFIED:20260420T024730Z
UID:10037709-1778839200-1778842800@theboernelife.com
SUMMARY:Parent-Child Workshop at Patrick Heath Public Library
DESCRIPTION:Parent-Child Workshop offers a fun and interactive opportunity for young children and their caregivers to learn and play together. The program takes place every Friday in May from 10 am to 11 am at the Patrick Heath Public Library. \nDesigned for children ages 1–3 and their parent or caregiver\, this 5-week open play series focuses on early literacy and developmental learning through engaging\, hands-on activities. Each session includes guidance from child development professionals\, along with playtime\, mini storytime\, and creative art experiences. \nSpace is limited\, and registration is required. For more information or to reserve a spot\, visit https://forms.gle/uRBVPqt6zoLDLQ8r9 or email cherrera@boernelibrary.org.
URL:https://theboernelife.com/events/parent-child-workshop-at-patrick-heath-public-library/2026-05-15/
LOCATION:Patrick Heath Public Library\, 451 N. Main Street\, Boerne\, TX\, 78006\, United States
CATEGORIES:Kids and Family
ATTACH;FMTTYPE=image/jpeg:https://theboernelife.com/wp-content/uploads/2026/04/parent-child-workshop-at-patrick-heath-public-library.jpg
END:VEVENT
BEGIN:VEVENT
DTSTART;TZID=America/Chicago:20260522T100000
DTEND;TZID=America/Chicago:20260522T110000
DTSTAMP:20260421T155558
CREATED:20260420T024730Z
LAST-MODIFIED:20260420T024730Z
UID:10037710-1779444000-1779447600@theboernelife.com
SUMMARY:Parent-Child Workshop at Patrick Heath Public Library
DESCRIPTION:Parent-Child Workshop offers a fun and interactive opportunity for young children and their caregivers to learn and play together. The program takes place every Friday in May from 10 am to 11 am at the Patrick Heath Public Library. \nDesigned for children ages 1–3 and their parent or caregiver\, this 5-week open play series focuses on early literacy and developmental learning through engaging\, hands-on activities. Each session includes guidance from child development professionals\, along with playtime\, mini storytime\, and creative art experiences. \nSpace is limited\, and registration is required. For more information or to reserve a spot\, visit https://forms.gle/uRBVPqt6zoLDLQ8r9 or email cherrera@boernelibrary.org.
URL:https://theboernelife.com/events/parent-child-workshop-at-patrick-heath-public-library/2026-05-22/
LOCATION:Patrick Heath Public Library\, 451 N. Main Street\, Boerne\, TX\, 78006\, United States
CATEGORIES:Kids and Family
ATTACH;FMTTYPE=image/jpeg:https://theboernelife.com/wp-content/uploads/2026/04/parent-child-workshop-at-patrick-heath-public-library.jpg
END:VEVENT
BEGIN:VEVENT
DTSTART;TZID=America/Chicago:20260529T100000
DTEND;TZID=America/Chicago:20260529T110000
DTSTAMP:20260421T155558
CREATED:20260420T024730Z
LAST-MODIFIED:20260420T024730Z
UID:10037711-1780048800-1780052400@theboernelife.com
SUMMARY:Parent-Child Workshop at Patrick Heath Public Library
DESCRIPTION:Parent-Child Workshop offers a fun and interactive opportunity for young children and their caregivers to learn and play together. The program takes place every Friday in May from 10 am to 11 am at the Patrick Heath Public Library. \nDesigned for children ages 1–3 and their parent or caregiver\, this 5-week open play series focuses on early literacy and developmental learning through engaging\, hands-on activities. Each session includes guidance from child development professionals\, along with playtime\, mini storytime\, and creative art experiences. \nSpace is limited\, and registration is required. For more information or to reserve a spot\, visit https://forms.gle/uRBVPqt6zoLDLQ8r9 or email cherrera@boernelibrary.org.
URL:https://theboernelife.com/events/parent-child-workshop-at-patrick-heath-public-library/2026-05-29/
LOCATION:Patrick Heath Public Library\, 451 N. Main Street\, Boerne\, TX\, 78006\, United States
CATEGORIES:Kids and Family
ATTACH;FMTTYPE=image/jpeg:https://theboernelife.com/wp-content/uploads/2026/04/parent-child-workshop-at-patrick-heath-public-library.jpg
END:VEVENT
END:VCALENDAR