BEGIN:VCALENDAR
VERSION:2.0
PRODID:-//The Boerne Life - ECPv6.15.15//NONSGML v1.0//EN
CALSCALE:GREGORIAN
METHOD:PUBLISH
X-ORIGINAL-URL:https://theboernelife.com
X-WR-CALDESC:Events for The Boerne Life
REFRESH-INTERVAL;VALUE=DURATION:PT1H
X-Robots-Tag:noindex
X-PUBLISHED-TTL:PT1H
BEGIN:VTIMEZONE
TZID:America/Chicago
BEGIN:DAYLIGHT
TZOFFSETFROM:-0600
TZOFFSETTO:-0500
TZNAME:CDT
DTSTART:20250309T080000
END:DAYLIGHT
BEGIN:STANDARD
TZOFFSETFROM:-0500
TZOFFSETTO:-0600
TZNAME:CST
DTSTART:20251102T070000
END:STANDARD
BEGIN:DAYLIGHT
TZOFFSETFROM:-0600
TZOFFSETTO:-0500
TZNAME:CDT
DTSTART:20260308T080000
END:DAYLIGHT
BEGIN:STANDARD
TZOFFSETFROM:-0500
TZOFFSETTO:-0600
TZNAME:CST
DTSTART:20261101T070000
END:STANDARD
BEGIN:DAYLIGHT
TZOFFSETFROM:-0600
TZOFFSETTO:-0500
TZNAME:CDT
DTSTART:20270314T080000
END:DAYLIGHT
BEGIN:STANDARD
TZOFFSETFROM:-0500
TZOFFSETTO:-0600
TZNAME:CST
DTSTART:20271107T070000
END:STANDARD
END:VTIMEZONE
BEGIN:VEVENT
DTSTART;TZID=America/Chicago:20260509T110000
DTEND;TZID=America/Chicago:20260509T130000
DTSTAMP:20260425T135203
CREATED:20260421T080332Z
LAST-MODIFIED:20260421T080332Z
UID:10037940-1778324400-1778331600@theboernelife.com
SUMMARY:Bluegrass Jam at The AgriCultural Museum and Arts Center
DESCRIPTION:Bluegrass Jam offers a laid-back gathering for music lovers and musicians alike at The AgriCultural Museum and Arts Center. The event takes place on the second and fourth Saturdays of each month from 11 am to 1 pm. \nGuests are welcome to bring an instrument and join in the jam or simply relax and enjoy the live bluegrass music. The setting provides a casual and welcoming atmosphere where visitors can also explore the museum’s exhibits and outdoor grounds while listening. \nThis event is free and open to the public\, with donations appreciated.
URL:https://theboernelife.com/events/bluegrass-jam-at-the-agricultural-museum-and-arts-center/2026-05-09/
LOCATION:The AgriCultural Museum & Arts Center\, 102 City Park Rd.\, Boerne\, TX\, 78006\, United States
CATEGORIES:Music
ATTACH;FMTTYPE=image/jpeg:https://theboernelife.com/wp-content/uploads/2026/04/bluegrass-jam-at-the-agricultural-museum-and-arts-center.jpg
END:VEVENT
BEGIN:VEVENT
DTSTART;TZID=America/Chicago:20260613T110000
DTEND;TZID=America/Chicago:20260613T130000
DTSTAMP:20260425T135203
CREATED:20260421T080332Z
LAST-MODIFIED:20260421T080332Z
UID:10037941-1781348400-1781355600@theboernelife.com
SUMMARY:Bluegrass Jam at The AgriCultural Museum and Arts Center
DESCRIPTION:Bluegrass Jam offers a laid-back gathering for music lovers and musicians alike at The AgriCultural Museum and Arts Center. The event takes place on the second and fourth Saturdays of each month from 11 am to 1 pm. \nGuests are welcome to bring an instrument and join in the jam or simply relax and enjoy the live bluegrass music. The setting provides a casual and welcoming atmosphere where visitors can also explore the museum’s exhibits and outdoor grounds while listening. \nThis event is free and open to the public\, with donations appreciated.
URL:https://theboernelife.com/events/bluegrass-jam-at-the-agricultural-museum-and-arts-center/2026-06-13/
LOCATION:The AgriCultural Museum & Arts Center\, 102 City Park Rd.\, Boerne\, TX\, 78006\, United States
CATEGORIES:Music
ATTACH;FMTTYPE=image/jpeg:https://theboernelife.com/wp-content/uploads/2026/04/bluegrass-jam-at-the-agricultural-museum-and-arts-center.jpg
END:VEVENT
BEGIN:VEVENT
DTSTART;TZID=America/Chicago:20260711T110000
DTEND;TZID=America/Chicago:20260711T130000
DTSTAMP:20260425T135203
CREATED:20260421T080332Z
LAST-MODIFIED:20260421T080332Z
UID:10037942-1783767600-1783774800@theboernelife.com
SUMMARY:Bluegrass Jam at The AgriCultural Museum and Arts Center
DESCRIPTION:Bluegrass Jam offers a laid-back gathering for music lovers and musicians alike at The AgriCultural Museum and Arts Center. The event takes place on the second and fourth Saturdays of each month from 11 am to 1 pm. \nGuests are welcome to bring an instrument and join in the jam or simply relax and enjoy the live bluegrass music. The setting provides a casual and welcoming atmosphere where visitors can also explore the museum’s exhibits and outdoor grounds while listening. \nThis event is free and open to the public\, with donations appreciated.
URL:https://theboernelife.com/events/bluegrass-jam-at-the-agricultural-museum-and-arts-center/2026-07-11/
LOCATION:The AgriCultural Museum & Arts Center\, 102 City Park Rd.\, Boerne\, TX\, 78006\, United States
CATEGORIES:Music
ATTACH;FMTTYPE=image/jpeg:https://theboernelife.com/wp-content/uploads/2026/04/bluegrass-jam-at-the-agricultural-museum-and-arts-center.jpg
END:VEVENT
BEGIN:VEVENT
DTSTART;TZID=America/Chicago:20260808T110000
DTEND;TZID=America/Chicago:20260808T130000
DTSTAMP:20260425T135203
CREATED:20260421T080332Z
LAST-MODIFIED:20260421T080332Z
UID:10037943-1786186800-1786194000@theboernelife.com
SUMMARY:Bluegrass Jam at The AgriCultural Museum and Arts Center
DESCRIPTION:Bluegrass Jam offers a laid-back gathering for music lovers and musicians alike at The AgriCultural Museum and Arts Center. The event takes place on the second and fourth Saturdays of each month from 11 am to 1 pm. \nGuests are welcome to bring an instrument and join in the jam or simply relax and enjoy the live bluegrass music. The setting provides a casual and welcoming atmosphere where visitors can also explore the museum’s exhibits and outdoor grounds while listening. \nThis event is free and open to the public\, with donations appreciated.
URL:https://theboernelife.com/events/bluegrass-jam-at-the-agricultural-museum-and-arts-center/2026-08-08/
LOCATION:The AgriCultural Museum & Arts Center\, 102 City Park Rd.\, Boerne\, TX\, 78006\, United States
CATEGORIES:Music
ATTACH;FMTTYPE=image/jpeg:https://theboernelife.com/wp-content/uploads/2026/04/bluegrass-jam-at-the-agricultural-museum-and-arts-center.jpg
END:VEVENT
BEGIN:VEVENT
DTSTART;TZID=America/Chicago:20260912T110000
DTEND;TZID=America/Chicago:20260912T130000
DTSTAMP:20260425T135203
CREATED:20260421T080332Z
LAST-MODIFIED:20260421T080332Z
UID:10037944-1789210800-1789218000@theboernelife.com
SUMMARY:Bluegrass Jam at The AgriCultural Museum and Arts Center
DESCRIPTION:Bluegrass Jam offers a laid-back gathering for music lovers and musicians alike at The AgriCultural Museum and Arts Center. The event takes place on the second and fourth Saturdays of each month from 11 am to 1 pm. \nGuests are welcome to bring an instrument and join in the jam or simply relax and enjoy the live bluegrass music. The setting provides a casual and welcoming atmosphere where visitors can also explore the museum’s exhibits and outdoor grounds while listening. \nThis event is free and open to the public\, with donations appreciated.
URL:https://theboernelife.com/events/bluegrass-jam-at-the-agricultural-museum-and-arts-center/2026-09-12/
LOCATION:The AgriCultural Museum & Arts Center\, 102 City Park Rd.\, Boerne\, TX\, 78006\, United States
CATEGORIES:Music
ATTACH;FMTTYPE=image/jpeg:https://theboernelife.com/wp-content/uploads/2026/04/bluegrass-jam-at-the-agricultural-museum-and-arts-center.jpg
END:VEVENT
BEGIN:VEVENT
DTSTART;TZID=America/Chicago:20261010T110000
DTEND;TZID=America/Chicago:20261010T130000
DTSTAMP:20260425T135203
CREATED:20260421T080332Z
LAST-MODIFIED:20260421T080332Z
UID:10037945-1791630000-1791637200@theboernelife.com
SUMMARY:Bluegrass Jam at The AgriCultural Museum and Arts Center
DESCRIPTION:Bluegrass Jam offers a laid-back gathering for music lovers and musicians alike at The AgriCultural Museum and Arts Center. The event takes place on the second and fourth Saturdays of each month from 11 am to 1 pm. \nGuests are welcome to bring an instrument and join in the jam or simply relax and enjoy the live bluegrass music. The setting provides a casual and welcoming atmosphere where visitors can also explore the museum’s exhibits and outdoor grounds while listening. \nThis event is free and open to the public\, with donations appreciated.
URL:https://theboernelife.com/events/bluegrass-jam-at-the-agricultural-museum-and-arts-center/2026-10-10/
LOCATION:The AgriCultural Museum & Arts Center\, 102 City Park Rd.\, Boerne\, TX\, 78006\, United States
CATEGORIES:Music
ATTACH;FMTTYPE=image/jpeg:https://theboernelife.com/wp-content/uploads/2026/04/bluegrass-jam-at-the-agricultural-museum-and-arts-center.jpg
END:VEVENT
BEGIN:VEVENT
DTSTART;TZID=America/Chicago:20261114T110000
DTEND;TZID=America/Chicago:20261114T130000
DTSTAMP:20260425T135203
CREATED:20260421T080332Z
LAST-MODIFIED:20260421T080332Z
UID:10037946-1794654000-1794661200@theboernelife.com
SUMMARY:Bluegrass Jam at The AgriCultural Museum and Arts Center
DESCRIPTION:Bluegrass Jam offers a laid-back gathering for music lovers and musicians alike at The AgriCultural Museum and Arts Center. The event takes place on the second and fourth Saturdays of each month from 11 am to 1 pm. \nGuests are welcome to bring an instrument and join in the jam or simply relax and enjoy the live bluegrass music. The setting provides a casual and welcoming atmosphere where visitors can also explore the museum’s exhibits and outdoor grounds while listening. \nThis event is free and open to the public\, with donations appreciated.
URL:https://theboernelife.com/events/bluegrass-jam-at-the-agricultural-museum-and-arts-center/2026-11-14/
LOCATION:The AgriCultural Museum & Arts Center\, 102 City Park Rd.\, Boerne\, TX\, 78006\, United States
CATEGORIES:Music
ATTACH;FMTTYPE=image/jpeg:https://theboernelife.com/wp-content/uploads/2026/04/bluegrass-jam-at-the-agricultural-museum-and-arts-center.jpg
END:VEVENT
BEGIN:VEVENT
DTSTART;TZID=America/Chicago:20261212T110000
DTEND;TZID=America/Chicago:20261212T130000
DTSTAMP:20260425T135203
CREATED:20260421T080332Z
LAST-MODIFIED:20260421T080332Z
UID:10037947-1797073200-1797080400@theboernelife.com
SUMMARY:Bluegrass Jam at The AgriCultural Museum and Arts Center
DESCRIPTION:Bluegrass Jam offers a laid-back gathering for music lovers and musicians alike at The AgriCultural Museum and Arts Center. The event takes place on the second and fourth Saturdays of each month from 11 am to 1 pm. \nGuests are welcome to bring an instrument and join in the jam or simply relax and enjoy the live bluegrass music. The setting provides a casual and welcoming atmosphere where visitors can also explore the museum’s exhibits and outdoor grounds while listening. \nThis event is free and open to the public\, with donations appreciated.
URL:https://theboernelife.com/events/bluegrass-jam-at-the-agricultural-museum-and-arts-center/2026-12-12/
LOCATION:The AgriCultural Museum & Arts Center\, 102 City Park Rd.\, Boerne\, TX\, 78006\, United States
CATEGORIES:Music
ATTACH;FMTTYPE=image/jpeg:https://theboernelife.com/wp-content/uploads/2026/04/bluegrass-jam-at-the-agricultural-museum-and-arts-center.jpg
END:VEVENT
END:VCALENDAR