BEGIN:VCALENDAR
VERSION:2.0
PRODID:-//The Boerne Life - ECPv6.15.15//NONSGML v1.0//EN
CALSCALE:GREGORIAN
METHOD:PUBLISH
X-ORIGINAL-URL:https://theboernelife.com
X-WR-CALDESC:Events for The Boerne Life
REFRESH-INTERVAL;VALUE=DURATION:PT1H
X-Robots-Tag:noindex
X-PUBLISHED-TTL:PT1H
BEGIN:VTIMEZONE
TZID:America/Chicago
BEGIN:DAYLIGHT
TZOFFSETFROM:-0600
TZOFFSETTO:-0500
TZNAME:CDT
DTSTART:20250309T080000
END:DAYLIGHT
BEGIN:STANDARD
TZOFFSETFROM:-0500
TZOFFSETTO:-0600
TZNAME:CST
DTSTART:20251102T070000
END:STANDARD
BEGIN:DAYLIGHT
TZOFFSETFROM:-0600
TZOFFSETTO:-0500
TZNAME:CDT
DTSTART:20260308T080000
END:DAYLIGHT
BEGIN:STANDARD
TZOFFSETFROM:-0500
TZOFFSETTO:-0600
TZNAME:CST
DTSTART:20261101T070000
END:STANDARD
BEGIN:DAYLIGHT
TZOFFSETFROM:-0600
TZOFFSETTO:-0500
TZNAME:CDT
DTSTART:20270314T080000
END:DAYLIGHT
BEGIN:STANDARD
TZOFFSETFROM:-0500
TZOFFSETTO:-0600
TZNAME:CST
DTSTART:20271107T070000
END:STANDARD
END:VTIMEZONE
BEGIN:VEVENT
DTSTART;TZID=America/Chicago:20260505T090000
DTEND;TZID=America/Chicago:20260505T100000
DTSTAMP:20260424T093150
CREATED:20260422T034351Z
LAST-MODIFIED:20260422T034351Z
UID:10038029-1777971600-1777975200@theboernelife.com
SUMMARY:The Marketing Foundations Series for Small Businesses at Greater Boerne Chamber of Commerce
DESCRIPTION:The Marketing Foundations Series for Small Businesses is a three-part workshop series designed to help entrepreneurs build strong\, effective marketing strategies. The sessions will take place on May 5\, May 12\, and May 19 from 9 am to 10 am at the Greater Boerne Chamber of Commerce\, 121 S Main St\, Boerne\, TX 78006. \nLed by Natalie Alves of Nat Marie Design in collaboration with The UTSA Small Business Development Center\, the series covers essential topics for growing a business. The first session on May 5 focuses on branding and building a cohesive identity that establishes trust. The second session on May 12 explores how to create a website that clearly communicates services and encourages engagement. The final session on May 19 dives into social media and content strategy\, helping attendees develop consistent and purposeful online presence. \nRegistration is required due to limited space. Pricing is $35 for members for all three sessions or $15 per session\, and $90 for non-members for all sessions or $35 per session. The registration fee is non-refundable. Breakfast and coffee will be provided\, and attendees are encouraged to bring materials for note-taking. \nFor more information or to register\, visit https://business.boerne.org/events/details/workshop-series-the-marketing-foundations-series-for-small-businesses-32298 or email steely@boerne.org.
URL:https://theboernelife.com/events/the-marketing-foundations-series-for-small-businesses-at-greater-boerne-chamber-of-commerce/2026-05-05/
LOCATION:Greater Boerne Chamber of Commerce\, 121 S Main St\, Boerne\, TX\, 78006\, United States
CATEGORIES:Business and Networking
ATTACH;FMTTYPE=image/jpeg:https://theboernelife.com/wp-content/uploads/2026/04/the-marketing-foundations-series-for-small-businesses-at-greater-boerne-chamber-of-commerce.jpg
END:VEVENT
BEGIN:VEVENT
DTSTART;TZID=America/Chicago:20260512T090000
DTEND;TZID=America/Chicago:20260512T100000
DTSTAMP:20260424T093150
CREATED:20260422T034351Z
LAST-MODIFIED:20260422T034351Z
UID:10038030-1778576400-1778580000@theboernelife.com
SUMMARY:The Marketing Foundations Series for Small Businesses at Greater Boerne Chamber of Commerce
DESCRIPTION:The Marketing Foundations Series for Small Businesses is a three-part workshop series designed to help entrepreneurs build strong\, effective marketing strategies. The sessions will take place on May 5\, May 12\, and May 19 from 9 am to 10 am at the Greater Boerne Chamber of Commerce\, 121 S Main St\, Boerne\, TX 78006. \nLed by Natalie Alves of Nat Marie Design in collaboration with The UTSA Small Business Development Center\, the series covers essential topics for growing a business. The first session on May 5 focuses on branding and building a cohesive identity that establishes trust. The second session on May 12 explores how to create a website that clearly communicates services and encourages engagement. The final session on May 19 dives into social media and content strategy\, helping attendees develop consistent and purposeful online presence. \nRegistration is required due to limited space. Pricing is $35 for members for all three sessions or $15 per session\, and $90 for non-members for all sessions or $35 per session. The registration fee is non-refundable. Breakfast and coffee will be provided\, and attendees are encouraged to bring materials for note-taking. \nFor more information or to register\, visit https://business.boerne.org/events/details/workshop-series-the-marketing-foundations-series-for-small-businesses-32298 or email steely@boerne.org.
URL:https://theboernelife.com/events/the-marketing-foundations-series-for-small-businesses-at-greater-boerne-chamber-of-commerce/2026-05-12/
LOCATION:Greater Boerne Chamber of Commerce\, 121 S Main St\, Boerne\, TX\, 78006\, United States
CATEGORIES:Business and Networking
ATTACH;FMTTYPE=image/jpeg:https://theboernelife.com/wp-content/uploads/2026/04/the-marketing-foundations-series-for-small-businesses-at-greater-boerne-chamber-of-commerce.jpg
END:VEVENT
BEGIN:VEVENT
DTSTART;TZID=America/Chicago:20260519T090000
DTEND;TZID=America/Chicago:20260519T100000
DTSTAMP:20260424T093150
CREATED:20260422T034351Z
LAST-MODIFIED:20260422T034351Z
UID:10038031-1779181200-1779184800@theboernelife.com
SUMMARY:The Marketing Foundations Series for Small Businesses at Greater Boerne Chamber of Commerce
DESCRIPTION:The Marketing Foundations Series for Small Businesses is a three-part workshop series designed to help entrepreneurs build strong\, effective marketing strategies. The sessions will take place on May 5\, May 12\, and May 19 from 9 am to 10 am at the Greater Boerne Chamber of Commerce\, 121 S Main St\, Boerne\, TX 78006. \nLed by Natalie Alves of Nat Marie Design in collaboration with The UTSA Small Business Development Center\, the series covers essential topics for growing a business. The first session on May 5 focuses on branding and building a cohesive identity that establishes trust. The second session on May 12 explores how to create a website that clearly communicates services and encourages engagement. The final session on May 19 dives into social media and content strategy\, helping attendees develop consistent and purposeful online presence. \nRegistration is required due to limited space. Pricing is $35 for members for all three sessions or $15 per session\, and $90 for non-members for all sessions or $35 per session. The registration fee is non-refundable. Breakfast and coffee will be provided\, and attendees are encouraged to bring materials for note-taking. \nFor more information or to register\, visit https://business.boerne.org/events/details/workshop-series-the-marketing-foundations-series-for-small-businesses-32298 or email steely@boerne.org.
URL:https://theboernelife.com/events/the-marketing-foundations-series-for-small-businesses-at-greater-boerne-chamber-of-commerce/2026-05-19/
LOCATION:Greater Boerne Chamber of Commerce\, 121 S Main St\, Boerne\, TX\, 78006\, United States
CATEGORIES:Business and Networking
ATTACH;FMTTYPE=image/jpeg:https://theboernelife.com/wp-content/uploads/2026/04/the-marketing-foundations-series-for-small-businesses-at-greater-boerne-chamber-of-commerce.jpg
END:VEVENT
END:VCALENDAR