BEGIN:VCALENDAR
VERSION:2.0
PRODID:-//The Boerne Life - ECPv6.15.15//NONSGML v1.0//EN
CALSCALE:GREGORIAN
METHOD:PUBLISH
X-ORIGINAL-URL:https://theboernelife.com
X-WR-CALDESC:Events for The Boerne Life
REFRESH-INTERVAL;VALUE=DURATION:PT1H
X-Robots-Tag:noindex
X-PUBLISHED-TTL:PT1H
BEGIN:VTIMEZONE
TZID:America/Chicago
BEGIN:DAYLIGHT
TZOFFSETFROM:-0600
TZOFFSETTO:-0500
TZNAME:CDT
DTSTART:20240310T080000
END:DAYLIGHT
BEGIN:STANDARD
TZOFFSETFROM:-0500
TZOFFSETTO:-0600
TZNAME:CST
DTSTART:20241103T070000
END:STANDARD
BEGIN:DAYLIGHT
TZOFFSETFROM:-0600
TZOFFSETTO:-0500
TZNAME:CDT
DTSTART:20250309T080000
END:DAYLIGHT
BEGIN:STANDARD
TZOFFSETFROM:-0500
TZOFFSETTO:-0600
TZNAME:CST
DTSTART:20251102T070000
END:STANDARD
BEGIN:DAYLIGHT
TZOFFSETFROM:-0600
TZOFFSETTO:-0500
TZNAME:CDT
DTSTART:20260308T080000
END:DAYLIGHT
BEGIN:STANDARD
TZOFFSETFROM:-0500
TZOFFSETTO:-0600
TZNAME:CST
DTSTART:20261101T070000
END:STANDARD
END:VTIMEZONE
BEGIN:VEVENT
DTSTART;TZID=America/Chicago:20251026T080000
DTEND;TZID=America/Chicago:20251026T110000
DTSTAMP:20260422T081148
CREATED:20251013T235153Z
LAST-MODIFIED:20251015T013120Z
UID:10032777-1761465600-1761476400@theboernelife.com
SUMMARY:Boo Breakfast at La Cascada Table & Bar
DESCRIPTION:La Cascada Table & Bar will host a festive\, family-friendly Halloween-themed breakfast on Sunday\, October 26\, from 8 am to 11 am. Guests of all ages are invited to arrive in costume and enjoy a spook-tacular morning of delicious food\, Halloween cheer\, and memorable moments. \nThe breakfast is priced at $21 per adult and $12 per child ages 4–12. Children under 4 eat free. Pricing excludes tax and gratuity. Costumes are encouraged for kids and adults alike\, making this a fun and festive way to start the day. \nLa Cascada Table & Bar is located at Tapatio Springs Hill Country Resort\, 1 Resort Way\, Boerne\, TX 78006. Reservations are required and can be made by calling 830-537-6245 or online at bit.ly/LaCascadaReservations.
URL:https://theboernelife.com/events/boo-breakfast-at-la-cascada-table-bar/
LOCATION:La Cascada Table & Bar\, 1 Resort Way\, Boerne\, TX\, 78006\, United States
CATEGORIES:Food and Drink,Holiday,Kids and Family
ATTACH;FMTTYPE=image/jpeg:https://theboernelife.com/wp-content/uploads/2025/10/boo-breakfast-at-la-cascada-table-and-bar.jpg
END:VEVENT
END:VCALENDAR