BEGIN:VCALENDAR
VERSION:2.0
PRODID:-//The Boerne Life - ECPv6.15.15//NONSGML v1.0//EN
CALSCALE:GREGORIAN
METHOD:PUBLISH
X-WR-CALNAME:The Boerne Life
X-ORIGINAL-URL:https://theboernelife.com
X-WR-CALDESC:Events for The Boerne Life
REFRESH-INTERVAL;VALUE=DURATION:PT1H
X-Robots-Tag:noindex
X-PUBLISHED-TTL:PT1H
BEGIN:VTIMEZONE
TZID:America/Chicago
BEGIN:DAYLIGHT
TZOFFSETFROM:-0600
TZOFFSETTO:-0500
TZNAME:CDT
DTSTART:20240310T080000
END:DAYLIGHT
BEGIN:STANDARD
TZOFFSETFROM:-0500
TZOFFSETTO:-0600
TZNAME:CST
DTSTART:20241103T070000
END:STANDARD
BEGIN:DAYLIGHT
TZOFFSETFROM:-0600
TZOFFSETTO:-0500
TZNAME:CDT
DTSTART:20250309T080000
END:DAYLIGHT
BEGIN:STANDARD
TZOFFSETFROM:-0500
TZOFFSETTO:-0600
TZNAME:CST
DTSTART:20251102T070000
END:STANDARD
BEGIN:DAYLIGHT
TZOFFSETFROM:-0600
TZOFFSETTO:-0500
TZNAME:CDT
DTSTART:20260308T080000
END:DAYLIGHT
BEGIN:STANDARD
TZOFFSETFROM:-0500
TZOFFSETTO:-0600
TZNAME:CST
DTSTART:20261101T070000
END:STANDARD
END:VTIMEZONE
BEGIN:VEVENT
DTSTART;VALUE=DATE:20251004
DTEND;VALUE=DATE:20251005
DTSTAMP:20260425T184946
CREATED:20240830T161620Z
LAST-MODIFIED:20250919T010601Z
UID:10021858-1759536000-1759622399@theboernelife.com
SUMMARY:Family Camp Out
DESCRIPTION:Grab your camping gear and head out for the only day of the year that camping is allowed at Boerne Lake! Sponsored by Boerne Parks and Recreation\, the Family Camp Out is a fun time with a fishing\, food\, raffle prizes\, games\, and more family-friendly fun. \nThe Saturday fun starts at 10 am. The Boerne Parks and Rec team will provide hot dogs\, chips\, and drinks for dinner. You can also bring your own food if you like. They’ll also provide coffee\, donuts\, and juice the next morning at 8 am. \nBring you tents\, chairs\, drinking water\, and anything else you need. These will be primitive camp sites\, so no drinking water\, electricity\, etc. will be provided. \nRemember\, Boerne City Lake Park is now alcohol-free. And if you plan to fish and are over age 17\, make sure you have your license! \nRegister now. Just click here and secure your spot. It’s all free! \n 
URL:https://theboernelife.com/events/family-camp-out/
LOCATION:Boerne City Lake Park\, 1 City Lake Rd\, Boerne\, TX\, 78006\, United States
CATEGORIES:Kids and Family,Outdoors
ATTACH;FMTTYPE=image/jpeg:https://theboernelife.com/wp-content/uploads/2024/08/531780723_1171954188302283_9110048573291479993_n.jpg
END:VEVENT
END:VCALENDAR