BEGIN:VCALENDAR
VERSION:2.0
PRODID:-//The Boerne Life - ECPv6.15.15//NONSGML v1.0//EN
CALSCALE:GREGORIAN
METHOD:PUBLISH
X-ORIGINAL-URL:https://theboernelife.com
X-WR-CALDESC:Events for The Boerne Life
REFRESH-INTERVAL;VALUE=DURATION:PT1H
X-Robots-Tag:noindex
X-PUBLISHED-TTL:PT1H
BEGIN:VTIMEZONE
TZID:America/Chicago
BEGIN:DAYLIGHT
TZOFFSETFROM:-0600
TZOFFSETTO:-0500
TZNAME:CDT
DTSTART:20250309T080000
END:DAYLIGHT
BEGIN:STANDARD
TZOFFSETFROM:-0500
TZOFFSETTO:-0600
TZNAME:CST
DTSTART:20251102T070000
END:STANDARD
BEGIN:DAYLIGHT
TZOFFSETFROM:-0600
TZOFFSETTO:-0500
TZNAME:CDT
DTSTART:20260308T080000
END:DAYLIGHT
BEGIN:STANDARD
TZOFFSETFROM:-0500
TZOFFSETTO:-0600
TZNAME:CST
DTSTART:20261101T070000
END:STANDARD
BEGIN:DAYLIGHT
TZOFFSETFROM:-0600
TZOFFSETTO:-0500
TZNAME:CDT
DTSTART:20270314T080000
END:DAYLIGHT
BEGIN:STANDARD
TZOFFSETFROM:-0500
TZOFFSETTO:-0600
TZNAME:CST
DTSTART:20271107T070000
END:STANDARD
END:VTIMEZONE
BEGIN:VEVENT
DTSTART;TZID=America/Chicago:20260405T113000
DTEND;TZID=America/Chicago:20260405T140000
DTSTAMP:20260421T231549
CREATED:20260402T114206Z
LAST-MODIFIED:20260402T114229Z
UID:10037251-1775388600-1775397600@theboernelife.com
SUMMARY:Easter Sunday Brunch at Riven Rock Ranch
DESCRIPTION:The Ashers will be serving up a splendid Easter Brunch here at Riven Rock Ranch in Comfort on Sunday\, April 5th!\n\nOmelette Bar\, Shrimp & Grits\, Belgian Waffles\, Eggs Benedict (2 kinds)\, Scrambled Eggs\, Biscuits & Gravy\, Bacon\, Sausage\, Fruit\, Yogurt Bar\, and more! Praise & Worship Music\, scrumptious food\, all served in a beautiful setting!\n\nEmail info@rivenrockranch.com or call Karen at 830-995-4045 for reservations or more information. Adults $40 per person\, and children 12 & Under $20 each!
URL:https://theboernelife.com/events/easter-sunday-brunch-at-riven-rock-ranch/
LOCATION:Riven Rock Ranch\, 390 Hermann Sons Road\, Comfort
CATEGORIES:Food and Drink
ATTACH;FMTTYPE=image/jpeg:https://theboernelife.com/wp-content/uploads/2026/04/648312832_1523608326436108_3265395547134533945_n.jpg
END:VEVENT
BEGIN:VEVENT
DTSTART;TZID=America/Chicago:20260405T130000
DTEND;TZID=America/Chicago:20260405T160000
DTSTAMP:20260421T231549
CREATED:20260315T015937Z
LAST-MODIFIED:20260315T015937Z
UID:10036772-1775394000-1775404800@theboernelife.com
SUMMARY:Dave Kemp Live at Singing Water Vineyards
DESCRIPTION:An afternoon of Hill Country music takes place during Dave Kemp Live on Sunday\, April 5 from 1 pm to 4 pm at Singing Water Vineyards\, 316 Mill Dam Rd.\, Comfort\, TX 78013. \nDave Kemp\, a country artist well-loved throughout the Texas Hill Country\, will perform a lively set of music for guests visiting the winery. Known for his engaging style and crowd-pleasing performances\, Kemp’s music creates a welcoming atmosphere for a relaxed day at the vineyard. \nGuests can enjoy the live performance while taking in the scenic surroundings and spending time with friends and family at Singing Water Vineyards. \nAdmission is free and open to the public\, and no tickets are required. For more information\, contact Singing Water Vineyards directly.
URL:https://theboernelife.com/events/dave-kemp-live-at-singing-water-vineyards/
LOCATION:Singing Water Vineyards\, 316 Mill Dam Rd\, Comfort\, TX\, 78006\, United States
CATEGORIES:Music
ATTACH;FMTTYPE=image/jpeg:https://theboernelife.com/wp-content/uploads/2026/03/dave-kemp-live-at-singing-water-vineyards.jpg
END:VEVENT
END:VCALENDAR