BEGIN:VCALENDAR
VERSION:2.0
PRODID:-//The Boerne Life - ECPv6.15.15//NONSGML v1.0//EN
CALSCALE:GREGORIAN
METHOD:PUBLISH
X-ORIGINAL-URL:https://theboernelife.com
X-WR-CALDESC:Events for The Boerne Life
REFRESH-INTERVAL;VALUE=DURATION:PT1H
X-Robots-Tag:noindex
X-PUBLISHED-TTL:PT1H
BEGIN:VTIMEZONE
TZID:America/Chicago
BEGIN:DAYLIGHT
TZOFFSETFROM:-0600
TZOFFSETTO:-0500
TZNAME:CDT
DTSTART:20250309T080000
END:DAYLIGHT
BEGIN:STANDARD
TZOFFSETFROM:-0500
TZOFFSETTO:-0600
TZNAME:CST
DTSTART:20251102T070000
END:STANDARD
BEGIN:DAYLIGHT
TZOFFSETFROM:-0600
TZOFFSETTO:-0500
TZNAME:CDT
DTSTART:20260308T080000
END:DAYLIGHT
BEGIN:STANDARD
TZOFFSETFROM:-0500
TZOFFSETTO:-0600
TZNAME:CST
DTSTART:20261101T070000
END:STANDARD
BEGIN:DAYLIGHT
TZOFFSETFROM:-0600
TZOFFSETTO:-0500
TZNAME:CDT
DTSTART:20270314T080000
END:DAYLIGHT
BEGIN:STANDARD
TZOFFSETFROM:-0500
TZOFFSETTO:-0600
TZNAME:CST
DTSTART:20271107T070000
END:STANDARD
END:VTIMEZONE
BEGIN:VEVENT
DTSTART;TZID=America/Chicago:20260424T180000
DTEND;TZID=America/Chicago:20260424T220000
DTSTAMP:20260424T020020
CREATED:20260407T223420Z
LAST-MODIFIED:20260407T223420Z
UID:10037261-1777053600-1777068000@theboernelife.com
SUMMARY:Everything’s Bigger in Texas! Come and Fake It! at Waring Fire Hall
DESCRIPTION:Comfort Little Theater marks its 94th production with a lively and humorous stage show\, “Everything’s Bigger in Texas! Come and Fake It!” The performances will take place on April 24 and 25 and May 1 and 2 at the Waring Fire Hall in the Waring Theater District. Doors and ticket sales open at 6 pm\, followed by live music at 6:30 pm\, and the show begins at 7:30 pm. \nAudiences can expect an evening filled with fresh\, never-before-seen skits\, playful local humor\, and a slightly risqué twist rated PG-17. Highlights include scenes set in a local retirement community\, a comedic take on Walmart’s greatest fashion\, and the return of the Redneck Spa characters\, along with plenty of surprises throughout the night. Seating is first come\, first served\, creating a relaxed and casual theater experience. \nTickets are available at the door for $5 for adults and $10 for kids. Food and snacks will be available from the Comfort High School Travel Club\, while beer\, wine\, and soda are offered by donation. Set-ups will also be available for purchase through the Waring Area Community Association\, and guests may bring their own beverages\, though coolers are not permitted. Limited premiere night tables of eight include additional perks such as commemorative t-shirts\, a keepsake poster\, and table service\, with limited availability on other show nights. \nProceeds from the event support local charities\, community groups\, and scholarships\, continuing the theater’s long-standing tradition of giving back to the community.
URL:https://theboernelife.com/events/everythings-bigger-in-texas-come-and-fake-it-at-waring-fire-hall/
LOCATION:Waring Hall\, 11 Waring Road\, Waring\, TX\, 78074\, United States
CATEGORIES:Kids and Family,Music
ATTACH;FMTTYPE=image/jpeg:https://theboernelife.com/wp-content/uploads/2026/04/everythings-bigger-in-texas-come-and-fake-it-at-waring-fire-hall.jpg
END:VEVENT
END:VCALENDAR