BEGIN:VCALENDAR
VERSION:2.0
PRODID:-//The Boerne Life - ECPv6.15.15//NONSGML v1.0//EN
CALSCALE:GREGORIAN
METHOD:PUBLISH
X-WR-CALNAME:The Boerne Life
X-ORIGINAL-URL:https://theboernelife.com
X-WR-CALDESC:Events for The Boerne Life
REFRESH-INTERVAL;VALUE=DURATION:PT1H
X-Robots-Tag:noindex
X-PUBLISHED-TTL:PT1H
BEGIN:VTIMEZONE
TZID:America/Chicago
BEGIN:DAYLIGHT
TZOFFSETFROM:-0600
TZOFFSETTO:-0500
TZNAME:CDT
DTSTART:20250309T080000
END:DAYLIGHT
BEGIN:STANDARD
TZOFFSETFROM:-0500
TZOFFSETTO:-0600
TZNAME:CST
DTSTART:20251102T070000
END:STANDARD
BEGIN:DAYLIGHT
TZOFFSETFROM:-0600
TZOFFSETTO:-0500
TZNAME:CDT
DTSTART:20260308T080000
END:DAYLIGHT
BEGIN:STANDARD
TZOFFSETFROM:-0500
TZOFFSETTO:-0600
TZNAME:CST
DTSTART:20261101T070000
END:STANDARD
BEGIN:DAYLIGHT
TZOFFSETFROM:-0600
TZOFFSETTO:-0500
TZNAME:CDT
DTSTART:20270314T080000
END:DAYLIGHT
BEGIN:STANDARD
TZOFFSETFROM:-0500
TZOFFSETTO:-0600
TZNAME:CST
DTSTART:20271107T070000
END:STANDARD
END:VTIMEZONE
BEGIN:VEVENT
DTSTART;TZID=America/Chicago:20260501T160000
DTEND;TZID=America/Chicago:20260501T180000
DTSTAMP:20260424T105341
CREATED:20260416T033758Z
LAST-MODIFIED:20260416T033758Z
UID:10037597-1777651200-1777658400@theboernelife.com
SUMMARY:Das Festival of Kendall Social Hour at Newsom Vineyards at Comfort
DESCRIPTION:Das Festival of Kendall Social Hour offers a relaxed and welcoming gathering to kick off excitement for the 2026 festival season. The event will take place on Friday\, May 1\, 2026 from 4 pm to 6 pm at Newsom Vineyards at Comfort\, located at 717 Front St.\, Comfort\, TX. \nHosted in partnership with the Comfort Texas Chamber of Commerce\, this come-and-go social hour invites guests to enjoy a laid-back atmosphere with wine\, conversation\, and community connection. The event serves as an early preview of Das Festival of Kendall 2026\, giving attendees a chance to learn more about what’s to come while mingling with others. \nDas Festival of Kendall 2026 is scheduled for June 19 through 21 at Main Plaza on Main Street in Boerne\, featuring a full weekend of family-friendly activities including contests\, races\, live music\, food\, and vendors in celebration of Father’s Day weekend.
URL:https://theboernelife.com/events/das-festival-of-kendall-social-hour-at-newsom-vineyards-at-comfort/
LOCATION:Newsom Vineyards at Comfort\, 717 Front St.\, Comfort\, TX\, 78013\, United States
CATEGORIES:Food and Drink
ATTACH;FMTTYPE=image/jpeg:https://theboernelife.com/wp-content/uploads/2026/04/das-festival-of-kendall-social-hour-at-newsom-vineyards-at-comfort.jpg
END:VEVENT
BEGIN:VEVENT
DTSTART;TZID=America/Chicago:20260501T170000
DTEND;TZID=America/Chicago:20260501T200000
DTSTAMP:20260424T105341
CREATED:20260424T105714Z
LAST-MODIFIED:20260424T105735Z
UID:10038066-1777654800-1777665600@theboernelife.com
SUMMARY:Bat Season 2026 at Old Tunnel State Park
DESCRIPTION:Bat Season 2026 returns to Old Tunnel State Park\, offering a unique opportunity to witness one of the Hill Country’s most fascinating natural events. The season begins May 1 and runs through October 31 at 781 Old No 9 Hwy\, Comfort\, TX 78013. \nVisitors can watch thousands of bats emerge from the historic tunnel at dusk\, with two viewing options available. Lower viewing is offered Thursday through Sunday for $5 per person and is limited to guests ages 4 and older. Upper viewing is available every night for $2 per person and is open to all ages. \nAll tickets must be purchased online in advance at texasstateparks.org/oldtunnel\, as no on-site payments are accepted. Tickets are expected to become available for purchase around March 2. A valid bat-viewing ticket is required to remain in the park after 5 pm during the season. \nPets are not allowed in the park or viewing areas for the safety of both animals and the bat population. Visitors are encouraged to plan ahead\, as cell service in the area may be limited.
URL:https://theboernelife.com/events/bat-season-2026-at-old-tunnel-state-park/
LOCATION:Old Tunnel State Park\, 10619 Old San Antonio Rd\, Fredericksburg\, TX\, 78624
CATEGORIES:Outdoors
ATTACH;FMTTYPE=image/jpeg:https://theboernelife.com/wp-content/uploads/2026/04/bat-season-2026-at-old-tunnel-state-park.jpg
END:VEVENT
END:VCALENDAR