BEGIN:VCALENDAR
VERSION:2.0
PRODID:-//The Boerne Life - ECPv6.15.15//NONSGML v1.0//EN
CALSCALE:GREGORIAN
METHOD:PUBLISH
X-ORIGINAL-URL:https://theboernelife.com
X-WR-CALDESC:Events for The Boerne Life
REFRESH-INTERVAL;VALUE=DURATION:PT1H
X-Robots-Tag:noindex
X-PUBLISHED-TTL:PT1H
BEGIN:VTIMEZONE
TZID:America/Chicago
BEGIN:DAYLIGHT
TZOFFSETFROM:-0600
TZOFFSETTO:-0500
TZNAME:CDT
DTSTART:20240310T080000
END:DAYLIGHT
BEGIN:STANDARD
TZOFFSETFROM:-0500
TZOFFSETTO:-0600
TZNAME:CST
DTSTART:20241103T070000
END:STANDARD
BEGIN:DAYLIGHT
TZOFFSETFROM:-0600
TZOFFSETTO:-0500
TZNAME:CDT
DTSTART:20250309T080000
END:DAYLIGHT
BEGIN:STANDARD
TZOFFSETFROM:-0500
TZOFFSETTO:-0600
TZNAME:CST
DTSTART:20251102T070000
END:STANDARD
BEGIN:DAYLIGHT
TZOFFSETFROM:-0600
TZOFFSETTO:-0500
TZNAME:CDT
DTSTART:20260308T080000
END:DAYLIGHT
BEGIN:STANDARD
TZOFFSETFROM:-0500
TZOFFSETTO:-0600
TZNAME:CST
DTSTART:20261101T070000
END:STANDARD
END:VTIMEZONE
BEGIN:VEVENT
DTSTART;TZID=America/Chicago:20251025T160000
DTEND;TZID=America/Chicago:20251025T190000
DTSTAMP:20260425T124003
CREATED:20250813T223732Z
LAST-MODIFIED:20250915T165931Z
UID:10022182-1761408000-1761418800@theboernelife.com
SUMMARY:Boerne Boo!
DESCRIPTION:Boerne Boo! is the ultimate Halloween and Fall celebration for families around town. Located outside at the Amphitheater next to the Patrick Heath Public Library\, Boerne Boo! takes place on Saturday\, October 25th from 4-7pm.\n\n\nIt will be an after noon filled with games\, music\, trick or treating for candy\, and fun! And don’t forget your costume – there will be a contest for kids\, adults\, and even pets! \n\n\n\nEvent Schedule\n\n4 – 7 p.m. | Family free time to explore fun zones\n5:45 – 6:30 p.m. | Parade of Costumes Contest\n6:30 – 6:45 p.m. | Costume contest winners will be announced\, prizes awarded\n6:45 – 7 p.m. | More time to explore fun zones\n\nReminders\n\nPut on your best costume for the costume contest! Categories are 0-4 years\, 5-8 years\, 9-17 years\, adult (18 and up)\, and PETS!\nBe sure to bring a bag to stash all your candy!\nPlease note that the library will be closing at 3 p.m. so staff can help set up for the event.
URL:https://theboernelife.com/events/boerne-boo/
LOCATION:Patrick Heath Public Library\, 451 N. Main Street\, Boerne\, TX\, 78006\, United States
CATEGORIES:Kids and Family
ATTACH;FMTTYPE=image/jpeg:https://theboernelife.com/wp-content/uploads/2024/09/Boerne-Boo.jpg
END:VEVENT
END:VCALENDAR