BEGIN:VCALENDAR
VERSION:2.0
PRODID:-//The Boerne Life - ECPv6.15.15//NONSGML v1.0//EN
CALSCALE:GREGORIAN
METHOD:PUBLISH
X-ORIGINAL-URL:https://theboernelife.com
X-WR-CALDESC:Events for The Boerne Life
REFRESH-INTERVAL;VALUE=DURATION:PT1H
X-Robots-Tag:noindex
X-PUBLISHED-TTL:PT1H
BEGIN:VTIMEZONE
TZID:America/Chicago
BEGIN:DAYLIGHT
TZOFFSETFROM:-0600
TZOFFSETTO:-0500
TZNAME:CDT
DTSTART:20230312T080000
END:DAYLIGHT
BEGIN:STANDARD
TZOFFSETFROM:-0500
TZOFFSETTO:-0600
TZNAME:CST
DTSTART:20231105T070000
END:STANDARD
BEGIN:DAYLIGHT
TZOFFSETFROM:-0600
TZOFFSETTO:-0500
TZNAME:CDT
DTSTART:20240310T080000
END:DAYLIGHT
BEGIN:STANDARD
TZOFFSETFROM:-0500
TZOFFSETTO:-0600
TZNAME:CST
DTSTART:20241103T070000
END:STANDARD
BEGIN:DAYLIGHT
TZOFFSETFROM:-0600
TZOFFSETTO:-0500
TZNAME:CDT
DTSTART:20250309T080000
END:DAYLIGHT
BEGIN:STANDARD
TZOFFSETFROM:-0500
TZOFFSETTO:-0600
TZNAME:CST
DTSTART:20251102T070000
END:STANDARD
END:VTIMEZONE
BEGIN:VEVENT
DTSTART;TZID=America/Chicago:20240620T180000
DTEND;TZID=America/Chicago:20240620T203000
DTSTAMP:20260420T100051
CREATED:20240404T103842Z
LAST-MODIFIED:20240812T100713Z
UID:10018587-1718906400-1718915400@theboernelife.com
SUMMARY:Catan Game Night
DESCRIPTION:Play Catan with friends at Boerne Bookshop located at The Richter. Family-friendly.
URL:https://theboernelife.com/events/board-game-night/2024-06-20/
LOCATION:The Boerne Bookshop\, 153 S Main Street\, Boerne\, TX\, 78006\, United States
CATEGORIES:Kids and Family
ATTACH;FMTTYPE=image/jpeg:https://theboernelife.com/wp-content/uploads/2024/04/Boerne-Bookshop-Game-Night.jpg
END:VEVENT
BEGIN:VEVENT
DTSTART;TZID=America/Chicago:20240627T180000
DTEND;TZID=America/Chicago:20240627T200000
DTSTAMP:20260420T100051
CREATED:20240626T013412Z
LAST-MODIFIED:20240626T013412Z
UID:10018906-1719511200-1719518400@theboernelife.com
SUMMARY:Trailblazer Trivia
DESCRIPTION:Embark on a wild journey through history\, geography\, and exploration! Test your knowledge\, solve riddles\, and uncover fascinating tales\, making it an unforgettable experience for the entire family. \nHosted by Natalie\, Libby and Mary.
URL:https://theboernelife.com/events/trailblazer-trivia/
LOCATION:Patrick Heath Public Library\, 451 N. Main Street\, Boerne\, TX\, 78006\, United States
CATEGORIES:Food and Drink
ATTACH;FMTTYPE=image/jpeg:https://theboernelife.com/wp-content/uploads/2024/03/Boerne-Library-2.jpg
END:VEVENT
BEGIN:VEVENT
DTSTART;TZID=America/Chicago:20240717T193000
DTEND;TZID=America/Chicago:20240717T210000
DTSTAMP:20260420T100051
CREATED:20240608T022039Z
LAST-MODIFIED:20240608T022039Z
UID:10017793-1721244600-1721250000@theboernelife.com
SUMMARY:Hair Salon Comedy Show & Game Night
DESCRIPTION:Calling All Hair Stylists & Salon Clients! \nJoin us for a fun night of stand-up comedy and games inspired by life at the hair salon. If you’re a stylist or client\, this event is for you. \nThere will be: \n\nComedy\nGames\nPrizes\nPhoto Booth\n\nDinner will be available in the dining room BEFORE the show. A cash bar will be available in the event room DURING the show.\n\nPlease park in the parking lot if possible. Get your tickets here.
URL:https://theboernelife.com/events/hair-salon-comedy-show-game-night/
LOCATION:Las Guitarras Cocina Mexicana\, 911 S Main St\, Boerne\, TX\, 78006\, United States
CATEGORIES:Arts and Culture
ATTACH;FMTTYPE=image/jpeg:https://theboernelife.com/wp-content/uploads/2024/06/Hair-Salon-Comedy-Show-Game-Night.jpg
END:VEVENT
BEGIN:VEVENT
DTSTART;TZID=America/Chicago:20240725T183000
DTEND;TZID=America/Chicago:20240725T203000
DTSTAMP:20260420T100051
CREATED:20240725T220558Z
LAST-MODIFIED:20240925T014807Z
UID:10020963-1721932200-1721939400@theboernelife.com
SUMMARY:SINGO at Pure Country
DESCRIPTION:Head over to Pure Country each Thursday night at 6:30 for SINGO. Bring your friends and win some house cash! Participants always get extended happy hour specials!
URL:https://theboernelife.com/events/singo-at-pure-country/2024-07-25/
LOCATION:Pure Country BBQ & Grill\, 1481 S Main St\, Boerne\, TX\, 78006\, United States
CATEGORIES:Music
ATTACH;FMTTYPE=image/jpeg:https://theboernelife.com/wp-content/uploads/2024/07/Singo-Pure-Country.jpg
END:VEVENT
BEGIN:VEVENT
DTSTART;TZID=America/Chicago:20240801T183000
DTEND;TZID=America/Chicago:20240801T203000
DTSTAMP:20260420T100051
CREATED:20240725T220558Z
LAST-MODIFIED:20240925T014807Z
UID:10020964-1722537000-1722544200@theboernelife.com
SUMMARY:SINGO at Pure Country
DESCRIPTION:Head over to Pure Country each Thursday night at 6:30 for SINGO. Bring your friends and win some house cash! Participants always get extended happy hour specials!
URL:https://theboernelife.com/events/singo-at-pure-country/2024-08-01/
LOCATION:Pure Country BBQ & Grill\, 1481 S Main St\, Boerne\, TX\, 78006\, United States
CATEGORIES:Music
ATTACH;FMTTYPE=image/jpeg:https://theboernelife.com/wp-content/uploads/2024/07/Singo-Pure-Country.jpg
END:VEVENT
BEGIN:VEVENT
DTSTART;TZID=America/Chicago:20240808T183000
DTEND;TZID=America/Chicago:20240808T203000
DTSTAMP:20260420T100051
CREATED:20240725T220558Z
LAST-MODIFIED:20240925T014807Z
UID:10020965-1723141800-1723149000@theboernelife.com
SUMMARY:SINGO at Pure Country
DESCRIPTION:Head over to Pure Country each Thursday night at 6:30 for SINGO. Bring your friends and win some house cash! Participants always get extended happy hour specials!
URL:https://theboernelife.com/events/singo-at-pure-country/2024-08-08/
LOCATION:Pure Country BBQ & Grill\, 1481 S Main St\, Boerne\, TX\, 78006\, United States
CATEGORIES:Music
ATTACH;FMTTYPE=image/jpeg:https://theboernelife.com/wp-content/uploads/2024/07/Singo-Pure-Country.jpg
END:VEVENT
BEGIN:VEVENT
DTSTART;TZID=America/Chicago:20240815T180000
DTEND;TZID=America/Chicago:20240815T203000
DTSTAMP:20260420T100051
CREATED:20240404T103842Z
LAST-MODIFIED:20240812T100713Z
UID:10021353-1723744800-1723753800@theboernelife.com
SUMMARY:Catan Game Night
DESCRIPTION:Play Catan with friends at Boerne Bookshop located at The Richter. Family-friendly.
URL:https://theboernelife.com/events/board-game-night/2024-08-15/
LOCATION:The Boerne Bookshop\, 153 S Main Street\, Boerne\, TX\, 78006\, United States
CATEGORIES:Kids and Family
ATTACH;FMTTYPE=image/jpeg:https://theboernelife.com/wp-content/uploads/2024/04/Boerne-Bookshop-Game-Night.jpg
END:VEVENT
BEGIN:VEVENT
DTSTART;TZID=America/Chicago:20240815T183000
DTEND;TZID=America/Chicago:20240815T203000
DTSTAMP:20260420T100051
CREATED:20240725T220558Z
LAST-MODIFIED:20240925T014807Z
UID:10020966-1723746600-1723753800@theboernelife.com
SUMMARY:SINGO at Pure Country
DESCRIPTION:Head over to Pure Country each Thursday night at 6:30 for SINGO. Bring your friends and win some house cash! Participants always get extended happy hour specials!
URL:https://theboernelife.com/events/singo-at-pure-country/2024-08-15/
LOCATION:Pure Country BBQ & Grill\, 1481 S Main St\, Boerne\, TX\, 78006\, United States
CATEGORIES:Music
ATTACH;FMTTYPE=image/jpeg:https://theboernelife.com/wp-content/uploads/2024/07/Singo-Pure-Country.jpg
END:VEVENT
BEGIN:VEVENT
DTSTART;TZID=America/Chicago:20240822T183000
DTEND;TZID=America/Chicago:20240822T203000
DTSTAMP:20260420T100051
CREATED:20240725T220558Z
LAST-MODIFIED:20240925T014807Z
UID:10020967-1724351400-1724358600@theboernelife.com
SUMMARY:SINGO at Pure Country
DESCRIPTION:Head over to Pure Country each Thursday night at 6:30 for SINGO. Bring your friends and win some house cash! Participants always get extended happy hour specials!
URL:https://theboernelife.com/events/singo-at-pure-country/2024-08-22/
LOCATION:Pure Country BBQ & Grill\, 1481 S Main St\, Boerne\, TX\, 78006\, United States
CATEGORIES:Music
ATTACH;FMTTYPE=image/jpeg:https://theboernelife.com/wp-content/uploads/2024/07/Singo-Pure-Country.jpg
END:VEVENT
BEGIN:VEVENT
DTSTART;TZID=America/Chicago:20240829T183000
DTEND;TZID=America/Chicago:20240829T203000
DTSTAMP:20260420T100051
CREATED:20240725T220558Z
LAST-MODIFIED:20240925T014807Z
UID:10020968-1724956200-1724963400@theboernelife.com
SUMMARY:SINGO at Pure Country
DESCRIPTION:Head over to Pure Country each Thursday night at 6:30 for SINGO. Bring your friends and win some house cash! Participants always get extended happy hour specials!
URL:https://theboernelife.com/events/singo-at-pure-country/2024-08-29/
LOCATION:Pure Country BBQ & Grill\, 1481 S Main St\, Boerne\, TX\, 78006\, United States
CATEGORIES:Music
ATTACH;FMTTYPE=image/jpeg:https://theboernelife.com/wp-content/uploads/2024/07/Singo-Pure-Country.jpg
END:VEVENT
BEGIN:VEVENT
DTSTART;TZID=America/Chicago:20240905T183000
DTEND;TZID=America/Chicago:20240905T203000
DTSTAMP:20260420T100051
CREATED:20240725T220558Z
LAST-MODIFIED:20240925T014807Z
UID:10020969-1725561000-1725568200@theboernelife.com
SUMMARY:SINGO at Pure Country
DESCRIPTION:Head over to Pure Country each Thursday night at 6:30 for SINGO. Bring your friends and win some house cash! Participants always get extended happy hour specials!
URL:https://theboernelife.com/events/singo-at-pure-country/2024-09-05/
LOCATION:Pure Country BBQ & Grill\, 1481 S Main St\, Boerne\, TX\, 78006\, United States
CATEGORIES:Music
ATTACH;FMTTYPE=image/jpeg:https://theboernelife.com/wp-content/uploads/2024/07/Singo-Pure-Country.jpg
END:VEVENT
BEGIN:VEVENT
DTSTART;TZID=America/Chicago:20240912T183000
DTEND;TZID=America/Chicago:20240912T203000
DTSTAMP:20260420T100051
CREATED:20240725T220558Z
LAST-MODIFIED:20240925T014807Z
UID:10020970-1726165800-1726173000@theboernelife.com
SUMMARY:SINGO at Pure Country
DESCRIPTION:Head over to Pure Country each Thursday night at 6:30 for SINGO. Bring your friends and win some house cash! Participants always get extended happy hour specials!
URL:https://theboernelife.com/events/singo-at-pure-country/2024-09-12/
LOCATION:Pure Country BBQ & Grill\, 1481 S Main St\, Boerne\, TX\, 78006\, United States
CATEGORIES:Music
ATTACH;FMTTYPE=image/jpeg:https://theboernelife.com/wp-content/uploads/2024/07/Singo-Pure-Country.jpg
END:VEVENT
BEGIN:VEVENT
DTSTART;TZID=America/Chicago:20240919T180000
DTEND;TZID=America/Chicago:20240919T203000
DTSTAMP:20260420T100051
CREATED:20240404T103842Z
LAST-MODIFIED:20240812T100713Z
UID:10021354-1726768800-1726777800@theboernelife.com
SUMMARY:Catan Game Night
DESCRIPTION:Play Catan with friends at Boerne Bookshop located at The Richter. Family-friendly.
URL:https://theboernelife.com/events/board-game-night/2024-09-19/
LOCATION:The Boerne Bookshop\, 153 S Main Street\, Boerne\, TX\, 78006\, United States
CATEGORIES:Kids and Family
ATTACH;FMTTYPE=image/jpeg:https://theboernelife.com/wp-content/uploads/2024/04/Boerne-Bookshop-Game-Night.jpg
END:VEVENT
BEGIN:VEVENT
DTSTART;TZID=America/Chicago:20240919T183000
DTEND;TZID=America/Chicago:20240919T203000
DTSTAMP:20260420T100051
CREATED:20240725T220558Z
LAST-MODIFIED:20240925T014807Z
UID:10020971-1726770600-1726777800@theboernelife.com
SUMMARY:SINGO at Pure Country
DESCRIPTION:Head over to Pure Country each Thursday night at 6:30 for SINGO. Bring your friends and win some house cash! Participants always get extended happy hour specials!
URL:https://theboernelife.com/events/singo-at-pure-country/2024-09-19/
LOCATION:Pure Country BBQ & Grill\, 1481 S Main St\, Boerne\, TX\, 78006\, United States
CATEGORIES:Music
ATTACH;FMTTYPE=image/jpeg:https://theboernelife.com/wp-content/uploads/2024/07/Singo-Pure-Country.jpg
END:VEVENT
BEGIN:VEVENT
DTSTART;TZID=America/Chicago:20240925T183000
DTEND;TZID=America/Chicago:20240925T203000
DTSTAMP:20260420T100051
CREATED:20240925T165042Z
LAST-MODIFIED:20250618T105925Z
UID:10022442-1727289000-1727296200@theboernelife.com
SUMMARY:Trivia Night at Sauced
DESCRIPTION:Every Wednesday\, head out to Sauced Wing Bar for trivia night with Austin! It starts at six thirty-ish. Arrive early and you can hit Happy Hour!
URL:https://theboernelife.com/events/trivia-night-at-sauced/2024-09-25/
LOCATION:Sauced Wing Bar\, 215 W Bandera Rd #101\, Boerne\, TX\, 78006\, United States
CATEGORIES:General
ATTACH;FMTTYPE=image/jpeg:https://theboernelife.com/wp-content/uploads/2024/09/Sauced-Wing-Bar-Trivia.jpg
END:VEVENT
BEGIN:VEVENT
DTSTART;TZID=America/Chicago:20241001T100000
DTEND;TZID=America/Chicago:20241001T120000
DTSTAMP:20260420T100051
CREATED:20240930T112643Z
LAST-MODIFIED:20241104T024652Z
UID:10022495-1727776800-1727784000@theboernelife.com
SUMMARY:Brunch\, Bunco\, and Bubbles
DESCRIPTION:Brunch and games? Sure! \nThis ladies’ brunch event will take place on October 1\, 2024\, from 10:00 AM to 12:00 PM at 248 N. Main St.\, Boerne\, TX.  Enjoy wine\, mimosas\, and a delicious spread while playing Bunco. Prizes will be awarded to the winners. \nThose interested can RSVP by emailing Info@shoprealfashion.com. It’s a great opportunity to enjoy a lively get-together with friends.
URL:https://theboernelife.com/events/brunch-bunco-and-bubbles/
LOCATION:248 N Main St Chateau\, 248 N Main St\, Boerne\, TX\, 78006\, United States
CATEGORIES:Food and Drink,Women
ATTACH;FMTTYPE=image/jpeg:https://theboernelife.com/wp-content/uploads/2024/09/Brunch-Bunco.jpg
END:VEVENT
BEGIN:VEVENT
DTSTART;TZID=America/Chicago:20241002T183000
DTEND;TZID=America/Chicago:20241002T203000
DTSTAMP:20260420T100051
CREATED:20240925T165042Z
LAST-MODIFIED:20250618T105925Z
UID:10022443-1727893800-1727901000@theboernelife.com
SUMMARY:Trivia Night at Sauced
DESCRIPTION:Every Wednesday\, head out to Sauced Wing Bar for trivia night with Austin! It starts at six thirty-ish. Arrive early and you can hit Happy Hour!
URL:https://theboernelife.com/events/trivia-night-at-sauced/2024-10-02/
LOCATION:Sauced Wing Bar\, 215 W Bandera Rd #101\, Boerne\, TX\, 78006\, United States
CATEGORIES:General
ATTACH;FMTTYPE=image/jpeg:https://theboernelife.com/wp-content/uploads/2024/09/Sauced-Wing-Bar-Trivia.jpg
END:VEVENT
BEGIN:VEVENT
DTSTART;TZID=America/Chicago:20241009T183000
DTEND;TZID=America/Chicago:20241009T203000
DTSTAMP:20260420T100051
CREATED:20240925T165042Z
LAST-MODIFIED:20250618T105925Z
UID:10022444-1728498600-1728505800@theboernelife.com
SUMMARY:Trivia Night at Sauced
DESCRIPTION:Every Wednesday\, head out to Sauced Wing Bar for trivia night with Austin! It starts at six thirty-ish. Arrive early and you can hit Happy Hour!
URL:https://theboernelife.com/events/trivia-night-at-sauced/2024-10-09/
LOCATION:Sauced Wing Bar\, 215 W Bandera Rd #101\, Boerne\, TX\, 78006\, United States
CATEGORIES:General
ATTACH;FMTTYPE=image/jpeg:https://theboernelife.com/wp-content/uploads/2024/09/Sauced-Wing-Bar-Trivia.jpg
END:VEVENT
BEGIN:VEVENT
DTSTART;TZID=America/Chicago:20241016T183000
DTEND;TZID=America/Chicago:20241016T203000
DTSTAMP:20260420T100051
CREATED:20240925T165042Z
LAST-MODIFIED:20250618T105925Z
UID:10022445-1729103400-1729110600@theboernelife.com
SUMMARY:Trivia Night at Sauced
DESCRIPTION:Every Wednesday\, head out to Sauced Wing Bar for trivia night with Austin! It starts at six thirty-ish. Arrive early and you can hit Happy Hour!
URL:https://theboernelife.com/events/trivia-night-at-sauced/2024-10-16/
LOCATION:Sauced Wing Bar\, 215 W Bandera Rd #101\, Boerne\, TX\, 78006\, United States
CATEGORIES:General
ATTACH;FMTTYPE=image/jpeg:https://theboernelife.com/wp-content/uploads/2024/09/Sauced-Wing-Bar-Trivia.jpg
END:VEVENT
BEGIN:VEVENT
DTSTART;TZID=America/Chicago:20241017T180000
DTEND;TZID=America/Chicago:20241017T203000
DTSTAMP:20260420T100051
CREATED:20240404T103842Z
LAST-MODIFIED:20240812T100713Z
UID:10021355-1729188000-1729197000@theboernelife.com
SUMMARY:Catan Game Night
DESCRIPTION:Play Catan with friends at Boerne Bookshop located at The Richter. Family-friendly.
URL:https://theboernelife.com/events/board-game-night/2024-10-17/
LOCATION:The Boerne Bookshop\, 153 S Main Street\, Boerne\, TX\, 78006\, United States
CATEGORIES:Kids and Family
ATTACH;FMTTYPE=image/jpeg:https://theboernelife.com/wp-content/uploads/2024/04/Boerne-Bookshop-Game-Night.jpg
END:VEVENT
BEGIN:VEVENT
DTSTART;TZID=America/Chicago:20241018T190000
DTEND;TZID=America/Chicago:20241018T210000
DTSTAMP:20260420T100051
CREATED:20241013T014913Z
LAST-MODIFIED:20241013T014913Z
UID:10022733-1729278000-1729285200@theboernelife.com
SUMMARY:Hallo-Wine Music Bingo
DESCRIPTION:Hallo-Wine Music Bingo is coming to Boerne for a night of Halloween-themed fun! Enjoy an evening of music bingo featuring your favorite spooky tunes while sipping on wine and vying for prizes. \n\nThe event is free to attend and offers a festive way to celebrate the season with bingo\, wine\, and a few Halloween treats. Don’t miss out on the fun—gather your friends for a memorable night!
URL:https://theboernelife.com/events/hallo-wine-music-bingo/
LOCATION:Lost Oak Cellars\, 111 Rosewood Ave\, Boerne\, TX\, 78006\, United States
CATEGORIES:Food and Drink,Music
ATTACH;FMTTYPE=image/jpeg:https://theboernelife.com/wp-content/uploads/2024/10/Lost-Oak-Cellars-4.jpg
END:VEVENT
BEGIN:VEVENT
DTSTART;TZID=America/Chicago:20241023T183000
DTEND;TZID=America/Chicago:20241023T203000
DTSTAMP:20260420T100051
CREATED:20240925T165042Z
LAST-MODIFIED:20250618T105925Z
UID:10022446-1729708200-1729715400@theboernelife.com
SUMMARY:Trivia Night at Sauced
DESCRIPTION:Every Wednesday\, head out to Sauced Wing Bar for trivia night with Austin! It starts at six thirty-ish. Arrive early and you can hit Happy Hour!
URL:https://theboernelife.com/events/trivia-night-at-sauced/2024-10-23/
LOCATION:Sauced Wing Bar\, 215 W Bandera Rd #101\, Boerne\, TX\, 78006\, United States
CATEGORIES:General
ATTACH;FMTTYPE=image/jpeg:https://theboernelife.com/wp-content/uploads/2024/09/Sauced-Wing-Bar-Trivia.jpg
END:VEVENT
BEGIN:VEVENT
DTSTART;TZID=America/Chicago:20241030T183000
DTEND;TZID=America/Chicago:20241030T203000
DTSTAMP:20260420T100051
CREATED:20240925T165042Z
LAST-MODIFIED:20250618T105925Z
UID:10022447-1730313000-1730320200@theboernelife.com
SUMMARY:Trivia Night at Sauced
DESCRIPTION:Every Wednesday\, head out to Sauced Wing Bar for trivia night with Austin! It starts at six thirty-ish. Arrive early and you can hit Happy Hour!
URL:https://theboernelife.com/events/trivia-night-at-sauced/2024-10-30/
LOCATION:Sauced Wing Bar\, 215 W Bandera Rd #101\, Boerne\, TX\, 78006\, United States
CATEGORIES:General
ATTACH;FMTTYPE=image/jpeg:https://theboernelife.com/wp-content/uploads/2024/09/Sauced-Wing-Bar-Trivia.jpg
END:VEVENT
BEGIN:VEVENT
DTSTART;TZID=America/Chicago:20241031T180000
DTEND;TZID=America/Chicago:20241031T210000
DTSTAMP:20260420T100051
CREATED:20241030T215630Z
LAST-MODIFIED:20241030T215633Z
UID:10022744-1730397600-1730408400@theboernelife.com
SUMMARY:Texas Hill Country Cornhole League Meetup - Halloween Edition
DESCRIPTION:Want to play cornhole\, make some friends\, and maybe win a little money? Then don’t miss the Texas Hill Country Cornhole Leagues next scheduled meetup this Thursday.\n\nThe meetup starts at 6 pm with a social hour\, and the matches begin at 7. Happy hour specials will go until 8 pm for TXHCCL attendees.\n\nAnd this meetup is special\, because it’s on Halloween! So wear a costume and get ready to party!\n\n\n\n\nAt every meetup\, there will be a small tournament. The entry fee will be $10 per person\, so be sure to bring cash with you as well.\n\n\nAnyone and everyone is welcome! We do advise you go ahead and set up a Scorholio account prior to arriving. \nTo learn more visit the Texas Hill Country Corn Hole League Facebook group!
URL:https://theboernelife.com/events/texas-hill-country-cornhole-league-meetup-2/
LOCATION:Pure Country BBQ & Grill\, 1481 S Main St\, Boerne\, TX\, 78006\, United States
CATEGORIES:Outdoors
ATTACH;FMTTYPE=image/jpeg:https://theboernelife.com/wp-content/uploads/2024/10/Texas-Hill-Country-Cornhole-League.jpg
END:VEVENT
BEGIN:VEVENT
DTSTART;TZID=America/Chicago:20241106T183000
DTEND;TZID=America/Chicago:20241106T203000
DTSTAMP:20260420T100051
CREATED:20240925T165042Z
LAST-MODIFIED:20250618T105925Z
UID:10022448-1730917800-1730925000@theboernelife.com
SUMMARY:Trivia Night at Sauced
DESCRIPTION:Every Wednesday\, head out to Sauced Wing Bar for trivia night with Austin! It starts at six thirty-ish. Arrive early and you can hit Happy Hour!
URL:https://theboernelife.com/events/trivia-night-at-sauced/2024-11-06/
LOCATION:Sauced Wing Bar\, 215 W Bandera Rd #101\, Boerne\, TX\, 78006\, United States
CATEGORIES:General
ATTACH;FMTTYPE=image/jpeg:https://theboernelife.com/wp-content/uploads/2024/09/Sauced-Wing-Bar-Trivia.jpg
END:VEVENT
BEGIN:VEVENT
DTSTART;TZID=America/Chicago:20241113T183000
DTEND;TZID=America/Chicago:20241113T203000
DTSTAMP:20260420T100051
CREATED:20240925T165042Z
LAST-MODIFIED:20250618T105925Z
UID:10022449-1731522600-1731529800@theboernelife.com
SUMMARY:Trivia Night at Sauced
DESCRIPTION:Every Wednesday\, head out to Sauced Wing Bar for trivia night with Austin! It starts at six thirty-ish. Arrive early and you can hit Happy Hour!
URL:https://theboernelife.com/events/trivia-night-at-sauced/2024-11-13/
LOCATION:Sauced Wing Bar\, 215 W Bandera Rd #101\, Boerne\, TX\, 78006\, United States
CATEGORIES:General
ATTACH;FMTTYPE=image/jpeg:https://theboernelife.com/wp-content/uploads/2024/09/Sauced-Wing-Bar-Trivia.jpg
END:VEVENT
BEGIN:VEVENT
DTSTART;TZID=America/Chicago:20241120T183000
DTEND;TZID=America/Chicago:20241120T203000
DTSTAMP:20260420T100051
CREATED:20240925T165042Z
LAST-MODIFIED:20250618T105925Z
UID:10022450-1732127400-1732134600@theboernelife.com
SUMMARY:Trivia Night at Sauced
DESCRIPTION:Every Wednesday\, head out to Sauced Wing Bar for trivia night with Austin! It starts at six thirty-ish. Arrive early and you can hit Happy Hour!
URL:https://theboernelife.com/events/trivia-night-at-sauced/2024-11-20/
LOCATION:Sauced Wing Bar\, 215 W Bandera Rd #101\, Boerne\, TX\, 78006\, United States
CATEGORIES:General
ATTACH;FMTTYPE=image/jpeg:https://theboernelife.com/wp-content/uploads/2024/09/Sauced-Wing-Bar-Trivia.jpg
END:VEVENT
BEGIN:VEVENT
DTSTART;TZID=America/Chicago:20241127T183000
DTEND;TZID=America/Chicago:20241127T203000
DTSTAMP:20260420T100051
CREATED:20240925T165042Z
LAST-MODIFIED:20250618T105925Z
UID:10022451-1732732200-1732739400@theboernelife.com
SUMMARY:Trivia Night at Sauced
DESCRIPTION:Every Wednesday\, head out to Sauced Wing Bar for trivia night with Austin! It starts at six thirty-ish. Arrive early and you can hit Happy Hour!
URL:https://theboernelife.com/events/trivia-night-at-sauced/2024-11-27/
LOCATION:Sauced Wing Bar\, 215 W Bandera Rd #101\, Boerne\, TX\, 78006\, United States
CATEGORIES:General
ATTACH;FMTTYPE=image/jpeg:https://theboernelife.com/wp-content/uploads/2024/09/Sauced-Wing-Bar-Trivia.jpg
END:VEVENT
BEGIN:VEVENT
DTSTART;TZID=America/Chicago:20241204T183000
DTEND;TZID=America/Chicago:20241204T203000
DTSTAMP:20260420T100051
CREATED:20240925T165042Z
LAST-MODIFIED:20250618T105925Z
UID:10022452-1733337000-1733344200@theboernelife.com
SUMMARY:Trivia Night at Sauced
DESCRIPTION:Every Wednesday\, head out to Sauced Wing Bar for trivia night with Austin! It starts at six thirty-ish. Arrive early and you can hit Happy Hour!
URL:https://theboernelife.com/events/trivia-night-at-sauced/2024-12-04/
LOCATION:Sauced Wing Bar\, 215 W Bandera Rd #101\, Boerne\, TX\, 78006\, United States
CATEGORIES:General
ATTACH;FMTTYPE=image/jpeg:https://theboernelife.com/wp-content/uploads/2024/09/Sauced-Wing-Bar-Trivia.jpg
END:VEVENT
BEGIN:VEVENT
DTSTART;TZID=America/Chicago:20241211T183000
DTEND;TZID=America/Chicago:20241211T203000
DTSTAMP:20260420T100051
CREATED:20240925T165042Z
LAST-MODIFIED:20250618T105925Z
UID:10022453-1733941800-1733949000@theboernelife.com
SUMMARY:Trivia Night at Sauced
DESCRIPTION:Every Wednesday\, head out to Sauced Wing Bar for trivia night with Austin! It starts at six thirty-ish. Arrive early and you can hit Happy Hour!
URL:https://theboernelife.com/events/trivia-night-at-sauced/2024-12-11/
LOCATION:Sauced Wing Bar\, 215 W Bandera Rd #101\, Boerne\, TX\, 78006\, United States
CATEGORIES:General
ATTACH;FMTTYPE=image/jpeg:https://theboernelife.com/wp-content/uploads/2024/09/Sauced-Wing-Bar-Trivia.jpg
END:VEVENT
END:VCALENDAR