BEGIN:VCALENDAR
VERSION:2.0
PRODID:-//The Boerne Life - ECPv6.15.15//NONSGML v1.0//EN
CALSCALE:GREGORIAN
METHOD:PUBLISH
X-ORIGINAL-URL:https://theboernelife.com
X-WR-CALDESC:Events for The Boerne Life
REFRESH-INTERVAL;VALUE=DURATION:PT1H
X-Robots-Tag:noindex
X-PUBLISHED-TTL:PT1H
BEGIN:VTIMEZONE
TZID:America/Chicago
BEGIN:DAYLIGHT
TZOFFSETFROM:-0600
TZOFFSETTO:-0500
TZNAME:CDT
DTSTART:20250309T080000
END:DAYLIGHT
BEGIN:STANDARD
TZOFFSETFROM:-0500
TZOFFSETTO:-0600
TZNAME:CST
DTSTART:20251102T070000
END:STANDARD
BEGIN:DAYLIGHT
TZOFFSETFROM:-0600
TZOFFSETTO:-0500
TZNAME:CDT
DTSTART:20260308T080000
END:DAYLIGHT
BEGIN:STANDARD
TZOFFSETFROM:-0500
TZOFFSETTO:-0600
TZNAME:CST
DTSTART:20261101T070000
END:STANDARD
BEGIN:DAYLIGHT
TZOFFSETFROM:-0600
TZOFFSETTO:-0500
TZNAME:CDT
DTSTART:20270314T080000
END:DAYLIGHT
BEGIN:STANDARD
TZOFFSETFROM:-0500
TZOFFSETTO:-0600
TZNAME:CST
DTSTART:20271107T070000
END:STANDARD
END:VTIMEZONE
BEGIN:VEVENT
DTSTART;TZID=America/Chicago:20260312T180000
DTEND;TZID=America/Chicago:20260312T203000
DTSTAMP:20260422T205230
CREATED:20260307T220850Z
LAST-MODIFIED:20260308T072350Z
UID:10035908-1773338400-1773347400@theboernelife.com
SUMMARY:Beginner Mahjong Lesson
DESCRIPTION:Join us for a beginner mahjong lesson at Girl Happy! Beginner and intermediate players are welcome. We will have light snacks\, store specials and lots of fun!
URL:https://theboernelife.com/events/beginner-mahjong-lesson/
LOCATION:Girl Happy\, 1201 S Main St.\, Boerne\, TX\, 78006\, United States
CATEGORIES:Gaming
ATTACH;FMTTYPE=image/png:https://theboernelife.com/wp-content/uploads/2026/03/all-flyers-32.png
ORGANIZER;CN="hill country mahjong":MAILTO:boernemahj@gmail.com
END:VEVENT
BEGIN:VEVENT
DTSTART;TZID=America/Chicago:20260317T180000
DTEND;TZID=America/Chicago:20260317T203000
DTSTAMP:20260422T205230
CREATED:20260302T234421Z
LAST-MODIFIED:20260303T233002Z
UID:10035045-1773770400-1773779400@theboernelife.com
SUMMARY:Mahjong Open Play
DESCRIPTION:This event is for people who know how to play American Mahjong. Guidance will be available\, but lessons will not be. All mahjong setups provided. Bring your NMJL card if you have one! Green\, gold & fabulous is the theme! \nFood and beverage available to purchase from Cork & Keg. This fun night will fill quickly. Sign up here.
URL:https://theboernelife.com/events/mahjong-open-play/
LOCATION:Cork and Keg\, 153 S Main St\, Boerne\, TX\, 78006\, United States
CATEGORIES:General
ATTACH;FMTTYPE=image/png:https://theboernelife.com/wp-content/uploads/2026/03/all-flyers-33.png
ORGANIZER;CN="hill country mahjong":MAILTO:boernemahj@gmail.com
END:VEVENT
END:VCALENDAR