BEGIN:VCALENDAR
VERSION:2.0
PRODID:-//The Boerne Life - ECPv6.15.15//NONSGML v1.0//EN
CALSCALE:GREGORIAN
METHOD:PUBLISH
X-WR-CALNAME:The Boerne Life
X-ORIGINAL-URL:https://theboernelife.com
X-WR-CALDESC:Events for The Boerne Life
REFRESH-INTERVAL;VALUE=DURATION:PT1H
X-Robots-Tag:noindex
X-PUBLISHED-TTL:PT1H
BEGIN:VTIMEZONE
TZID:America/Chicago
BEGIN:DAYLIGHT
TZOFFSETFROM:-0600
TZOFFSETTO:-0500
TZNAME:CDT
DTSTART:20250309T080000
END:DAYLIGHT
BEGIN:STANDARD
TZOFFSETFROM:-0500
TZOFFSETTO:-0600
TZNAME:CST
DTSTART:20251102T070000
END:STANDARD
BEGIN:DAYLIGHT
TZOFFSETFROM:-0600
TZOFFSETTO:-0500
TZNAME:CDT
DTSTART:20260308T080000
END:DAYLIGHT
BEGIN:STANDARD
TZOFFSETFROM:-0500
TZOFFSETTO:-0600
TZNAME:CST
DTSTART:20261101T070000
END:STANDARD
BEGIN:DAYLIGHT
TZOFFSETFROM:-0600
TZOFFSETTO:-0500
TZNAME:CDT
DTSTART:20270314T080000
END:DAYLIGHT
BEGIN:STANDARD
TZOFFSETFROM:-0500
TZOFFSETTO:-0600
TZNAME:CST
DTSTART:20271107T070000
END:STANDARD
END:VTIMEZONE
BEGIN:VEVENT
DTSTART;TZID=America/Chicago:20260209T180000
DTEND;TZID=America/Chicago:20260209T203000
DTSTAMP:20260423T021246
CREATED:20260130T003118Z
LAST-MODIFIED:20260130T004127Z
UID:10034442-1770660000-1770669000@theboernelife.com
SUMMARY:Beginner Mahjong & Swing Lab Demonstration at The Swing Lab
DESCRIPTION:An interactive evening of learning and lighthearted play introduces beginners to Mahjong while showcasing a Swing Lab demonstration in a relaxed\, social setting. This experience offers a guided introduction to the fundamentals of Mahjong\, paired with time to observe and explore the Swing Lab\, making it an engaging option for those curious about the game or looking to try something new. \nThe event will take place on February 9 from 6 pm to 8:30 pm at The Swing Lab\, located at 635 TX-46 East\, Suite 204\, Boerne\, TX 78006. Admission is $40 per person and includes beginner Mahjong instruction and snacks. Guests are welcome to bring their own beverages. Space is limited\, and advance registration is recommended. Tickets and additional details are available at https://form.jotform.com/mistymacstout/lets-mahj.
URL:https://theboernelife.com/events/beginner-mahjong-swing-lab-demonstration-at-the-swing-lab/
LOCATION:The Swing Lab\, 635 HWY 46 East\, suite 204\, Boerne\, TX\, 78006\, United States
CATEGORIES:Women
ATTACH;FMTTYPE=image/jpeg:https://theboernelife.com/wp-content/uploads/2026/01/beginner-mahjong-and-swing-lab-demonstration-at-the-swing-lab.jpg
END:VEVENT
BEGIN:VEVENT
DTSTART;TZID=America/Chicago:20260212T180000
DTEND;TZID=America/Chicago:20260212T203000
DTSTAMP:20260423T021246
CREATED:20260130T003654Z
LAST-MODIFIED:20260130T004123Z
UID:10034443-1770919200-1770928200@theboernelife.com
SUMMARY:Beginner Mahjong & Galentines at Girl Happy
DESCRIPTION:An evening of games\, connection\, and lighthearted fun brings Mahjong and Galentine’s together at Girl Happy in Boerne. This beginner-friendly class introduces the fundamentals of Mahjong in a welcoming setting\, paired with light bites\, beverages\, and special in-store offerings that add to the festive atmosphere. \nBeginner Mahjong & Galentines will take place on February 12 from 6 pm to 8:30 pm at Girl Happy\, located at 1201 S Main St.\, Boerne\, TX 78006. The class begins promptly at 6 pm and is designed for those new to the game or looking for a refresher in a social environment. Admission is $45 per person\, and space is limited. Advance registration is recommended and available at https://form.jotform.com/mistymacstout/lets-mahj.
URL:https://theboernelife.com/events/beginner-mahjong-galentines-at-girl-happy/
LOCATION:Girl Happy\, 1201 S Main St.\, Boerne\, TX\, 78006\, United States
CATEGORIES:Women
ATTACH;FMTTYPE=image/jpeg:https://theboernelife.com/wp-content/uploads/2026/01/beginner-mahjong-and-galentines-at-girl-happy.jpg
END:VEVENT
BEGIN:VEVENT
DTSTART;TZID=America/Chicago:20260215T160000
DTEND;TZID=America/Chicago:20260215T183000
DTSTAMP:20260423T021246
CREATED:20260130T004022Z
LAST-MODIFIED:20260130T004045Z
UID:10034444-1771171200-1771180200@theboernelife.com
SUMMARY:Mahjong Gone Wild at Camp Bar & Feed
DESCRIPTION:An energetic afternoon of open-play Mahjong brings experienced players together for a lively and social game session at Camp Bar & Feed. Mahjong Gone Wild is designed for those who already know how to play and are ready to jump straight into the action\, with all Mahjong setups provided and guidance available as needed. The atmosphere is upbeat and playful\, paired with happy hour specials\, fun surprises\, and prize opportunities throughout the event. \nMahjong Gone Wild will take place on February 15 from 4 pm to 6:30 pm at Camp Bar & Feed in Boerne\, Texas. Open play begins promptly at 4 pm\, and lessons are not included. Admission is $50 per person\, and space is limited. Advance registration is required and available at https://form.jotform.com/mistymacstout/lets-mahj.
URL:https://theboernelife.com/events/mahjong-gone-wild-at-camp-bar-feed/
LOCATION:Camp Bar and Feed\, 421 S Main St\, Boerne\, TX\, 78006\, United States
CATEGORIES:Women
ATTACH;FMTTYPE=image/jpeg:https://theboernelife.com/wp-content/uploads/2026/01/mahjong-gone-wild-at-camp-bar-and-feed.jpg
END:VEVENT
END:VCALENDAR