BEGIN:VCALENDAR
VERSION:2.0
PRODID:-//The Boerne Life - ECPv6.15.15//NONSGML v1.0//EN
CALSCALE:GREGORIAN
METHOD:PUBLISH
X-ORIGINAL-URL:https://theboernelife.com
X-WR-CALDESC:Events for The Boerne Life
REFRESH-INTERVAL;VALUE=DURATION:PT1H
X-Robots-Tag:noindex
X-PUBLISHED-TTL:PT1H
BEGIN:VTIMEZONE
TZID:America/Chicago
BEGIN:DAYLIGHT
TZOFFSETFROM:-0600
TZOFFSETTO:-0500
TZNAME:CDT
DTSTART:20240310T080000
END:DAYLIGHT
BEGIN:STANDARD
TZOFFSETFROM:-0500
TZOFFSETTO:-0600
TZNAME:CST
DTSTART:20241103T070000
END:STANDARD
BEGIN:DAYLIGHT
TZOFFSETFROM:-0600
TZOFFSETTO:-0500
TZNAME:CDT
DTSTART:20250309T080000
END:DAYLIGHT
BEGIN:STANDARD
TZOFFSETFROM:-0500
TZOFFSETTO:-0600
TZNAME:CST
DTSTART:20251102T070000
END:STANDARD
BEGIN:DAYLIGHT
TZOFFSETFROM:-0600
TZOFFSETTO:-0500
TZNAME:CDT
DTSTART:20260308T080000
END:DAYLIGHT
BEGIN:STANDARD
TZOFFSETFROM:-0500
TZOFFSETTO:-0600
TZNAME:CST
DTSTART:20261101T070000
END:STANDARD
END:VTIMEZONE
BEGIN:VEVENT
DTSTART;TZID=America/Chicago:20251104T190000
DTEND;TZID=America/Chicago:20251104T210000
DTSTAMP:20260421T091557
CREATED:20241024T183031Z
LAST-MODIFIED:20250629T132122Z
UID:10029689-1762282800-1762290000@theboernelife.com
SUMMARY:Fair Oaks Roost Trivia
DESCRIPTION:Head to The Roost for a fun-filled night of trivia! Gather your team\, test your knowledge\, and compete for a chance to win exciting prizes. Enjoy food and drinks available for purchase while you challenge your brain and enjoy the evening with friends.
URL:https://theboernelife.com/events/fair-oaks-roost-trivia/2025-11-04/
LOCATION:Fair Oaks Roost\, 9091 Fair Oaks Pkwy\, Fair Oaks Ranch\, Texas\, 78015
CATEGORIES:Food and Drink
ATTACH;FMTTYPE=image/jpeg:https://theboernelife.com/wp-content/uploads/2024/10/Fair-Oaks-Roost.jpg
END:VEVENT
BEGIN:VEVENT
DTSTART;TZID=America/Chicago:20251104T190000
DTEND;TZID=America/Chicago:20251104T230000
DTSTAMP:20260421T091557
CREATED:20240214T102046Z
LAST-MODIFIED:20241222T133003Z
UID:10003886-1762282800-1762297200@theboernelife.com
SUMMARY:Karaoke at Drink Texas Boerne
DESCRIPTION:Come out for karaoke at 7pm and enjoy happy hour until 9pm. Cold beer\, Texas cocktails\, and friendly bartenders right off the freeway!
URL:https://theboernelife.com/events/karaoke-at-drink-texas-boerne/2025-11-04/
LOCATION:Drink Texas Boerne\, 31138 I-10\, Boerne\, TX\, 78006\, United States
CATEGORIES:Music
ATTACH;FMTTYPE=image/png:https://theboernelife.com/wp-content/uploads/2024/02/Drink-Texas-Boerne-Logo.png
END:VEVENT
BEGIN:VEVENT
DTSTART;TZID=America/Chicago:20251105T183000
DTEND;TZID=America/Chicago:20251105T203000
DTSTAMP:20260421T091557
CREATED:20240925T165042Z
LAST-MODIFIED:20250618T105925Z
UID:10029470-1762367400-1762374600@theboernelife.com
SUMMARY:Trivia Night at Sauced
DESCRIPTION:Every Wednesday\, head out to Sauced Wing Bar for trivia night with Austin! It starts at six thirty-ish. Arrive early and you can hit Happy Hour!
URL:https://theboernelife.com/events/trivia-night-at-sauced/2025-11-05/
LOCATION:Sauced Wing Bar\, 215 W Bandera Rd #101\, Boerne\, TX\, 78006\, United States
CATEGORIES:General
ATTACH;FMTTYPE=image/jpeg:https://theboernelife.com/wp-content/uploads/2024/09/Sauced-Wing-Bar-Trivia.jpg
END:VEVENT
BEGIN:VEVENT
DTSTART;TZID=America/Chicago:20251106T183000
DTEND;TZID=America/Chicago:20251106T203000
DTSTAMP:20260421T091557
CREATED:20241216T095455Z
LAST-MODIFIED:20241216T095455Z
UID:10024499-1762453800-1762461000@theboernelife.com
SUMMARY:Pub Poll Game Nights at Tapatio Springs Hill Country Resort
DESCRIPTION:Join the fun at Pub Poll Game Nights\, happening every first Thursday of the month at Tapatio Springs Hill Country Resort! The games start at 6:30 pm and are free to play\, offering a fantastic night out filled with laughter and friendly competition. \nPub Poll is the ultimate game where you don’t need the “right” answer—just the most popular one! Test your skills\, compete for prizes\, and enjoy the lively atmosphere. Check out the daily survey at pubpollsurvey.com to get a feel for the types of questions asked. \nGather your team\, head to Tapatio Springs Hill Country Resort at 1 Resort Way\, Boerne\, TX\, and enjoy a night of games\, prizes\, and great memories. Don’t miss this chance to show off your know-it-all skills!
URL:https://theboernelife.com/events/pub-poll-game-nights-at-tapatio-springs-hill-country-resort/2025-11-06/
LOCATION:Tapatio Springs Hill Country Resort\, 1 Resort Way\, Boerne\, 78006
CATEGORIES:Food and Drink
ATTACH;FMTTYPE=image/jpeg:https://theboernelife.com/wp-content/uploads/2024/12/pub-poll-game-nights-at-tapatio-springs-hill-country-resort.jpg
END:VEVENT
BEGIN:VEVENT
DTSTART;TZID=America/Chicago:20251107T180000
DTEND;TZID=America/Chicago:20251107T210000
DTSTAMP:20260421T091557
CREATED:20251016T171653Z
LAST-MODIFIED:20251212T125009Z
UID:10033788-1762538400-1762549200@theboernelife.com
SUMMARY:Live Music at Free Roam Brewing
DESCRIPTION:Live music at Free Roam Brewing this weekend. Here’s the schedule for the rest of the year: \nDecember 12: Julia Rose\nDecember 13: Hank Billings\nDecember 19: Colleen Mitchell\nDecember 20: Noah Kurtis\nDecember 26: David Selbo\nDecember 27: Shayne Hammond
URL:https://theboernelife.com/events/live-music-at-free-roam-brewing/2025-11-07/
LOCATION:Free Roam Brewing Company\, 325 S Main Street\, Boerne\, TX\, 78006\, United States
CATEGORIES:Music,Outdoors
ATTACH;FMTTYPE=image/jpeg:https://theboernelife.com/wp-content/uploads/2024/12/Free-Roam-Beer-Garden.jpg
END:VEVENT
BEGIN:VEVENT
DTSTART;TZID=America/Chicago:20251107T180000
DTEND;TZID=America/Chicago:20251107T210000
DTSTAMP:20260421T091557
CREATED:20251027T181852Z
LAST-MODIFIED:20251202T031350Z
UID:10034056-1762538400-1762549200@theboernelife.com
SUMMARY:Live Music at Indulge Wine Bar
DESCRIPTION:This Friday\, join Indulge Wine Bar in an evening of delicious bites and sweet melodies from 6pm – 9pm. The 2025 music schedule is as follows: \nFriday\, October 31\nNoah Kurtis | 6 pm – 9 pm\n \n\nFriday\, November 7Julia Rose | 6 pm – 9 pm \nFriday\, November 21Trevor Underwood | 6 pm – 9 pm \nFriday\, December 5Faith Evangeline | 6 pm – 9 pm \nFriday\, December 19Trevor Underwood | 6 pm – 9 pm
URL:https://theboernelife.com/events/live-music-at-indulge-wine-bar/
LOCATION:Indulge Wine Bar\, 21 Truss Drive\, Boerne\, TX\, 78006\, United States
CATEGORIES:Music
ATTACH;FMTTYPE=image/png:https://theboernelife.com/wp-content/uploads/2025/10/induge-music-schedule-2025-scaled.png
END:VEVENT
BEGIN:VEVENT
DTSTART;TZID=America/Chicago:20251107T190000
DTEND;TZID=America/Chicago:20251107T220000
DTSTAMP:20260421T091557
CREATED:20241216T093639Z
LAST-MODIFIED:20250804T005503Z
UID:10030129-1762542000-1762552800@theboernelife.com
SUMMARY:Friday Night Karaoke at Pure Country BBQ & Grill
DESCRIPTION:Kick off the weekend with music\, laughter\, and unforgettable memories at Friday Night Karaoke at Pure Country BBQ in Boerne! Whether you’re a shower superstar or a seasoned performer\, the mic is waiting for you. \nThis family-friendly event welcomes all ages to sing their favorite hits and enjoy a night of fun and good vibes. Bring the whole family and make it a night to remember. \nKid’s karaoke starts at 7PM and adults hit the stage at 8PM—come check it out! Don’t miss the chance to shine and share the joy of music!
URL:https://theboernelife.com/events/friday-night-karaoke-at-pure-country-bbq-grill/2025-11-07/
LOCATION:Pure Country BBQ & Grill\, 1481 S Main St\, Boerne\, TX\, 78006\, United States
CATEGORIES:Music
ATTACH;FMTTYPE=image/jpeg:https://theboernelife.com/wp-content/uploads/2024/12/friday-night-karaoke-at-pure-country-bbq-and-grill.jpg
END:VEVENT
BEGIN:VEVENT
DTSTART;TZID=America/Chicago:20251107T190000
DTEND;TZID=America/Chicago:20251107T220000
DTSTAMP:20260421T091557
CREATED:20250914T125752Z
LAST-MODIFIED:20251212T122919Z
UID:10030911-1762542000-1762552800@theboernelife.com
SUMMARY:Live Music at the Bevy
DESCRIPTION:Hangout at the Bevy hotel bar and listen to live music every Friday and Saturday night. When the weather’s nice out\, the windows will be open to the patio bar and you can sit by the pool to enjoy the weather while you listen. \nCheck their social media to see who is playing this week.
URL:https://theboernelife.com/events/live-music-at-the-bevy-2/2025-11-07/
LOCATION:The Bevy Hotel Boerne\, 101 Herff Rd\, Boerne\, TX\, 78006\, United States
CATEGORIES:Music
ATTACH;FMTTYPE=image/jpeg:https://theboernelife.com/wp-content/uploads/2024/03/Live-Music-at-the-Bevy.jpg
END:VEVENT
BEGIN:VEVENT
DTSTART;TZID=America/Chicago:20251107T190000
DTEND;TZID=America/Chicago:20251107T220000
DTSTAMP:20260421T091557
CREATED:20251020T230349Z
LAST-MODIFIED:20251020T234619Z
UID:10033136-1762542000-1762552800@theboernelife.com
SUMMARY:Singer/Songwriter Series – Dickie Kaiser at La Cascada Table & Bar
DESCRIPTION:Enjoy a night of heartfelt music and Hill Country charm during the Singer/Songwriter Series at La Cascada Table & Bar\, featuring Dickie Kaiser. On Thursday\, November 7\, from 7:00 pm to 10:00 pm\, Kaiser will perform live on the patio\, offering an evening of original songs and acoustic storytelling. \nGuests can savor locally inspired dishes and handcrafted cocktails while taking in the scenic views and relaxed resort atmosphere. This series is perfect for music lovers looking to unwind in an intimate setting with quality sound and cuisine. \nThe event will take place at La Cascada Table & Bar\, located at Tapatio Springs Hill Country Resort in Boerne\, TX. Reservations are required and can be made by calling 830-537-6245 or visiting bit.ly/LaCascadaReservations.
URL:https://theboernelife.com/events/singer-songwriter-series-dickie-kaiser-at-la-cascada-table-bar-2/
LOCATION:La Cascada Table & Bar\, 1 Resort Way\, Boerne\, TX\, 78006\, United States
CATEGORIES:Music
ATTACH;FMTTYPE=image/jpeg:https://theboernelife.com/wp-content/uploads/2025/10/dickie-kaiser-singer-songwriter-series-at-la-cascada-table-and-bar.jpg
END:VEVENT
BEGIN:VEVENT
DTSTART;TZID=America/Chicago:20251107T193000
DTEND;TZID=America/Chicago:20251107T233000
DTSTAMP:20260421T091557
CREATED:20251020T195602Z
LAST-MODIFIED:20251226T022025Z
UID:10033107-1762543800-1762558200@theboernelife.com
SUMMARY:Friday Night Karaoke at Longbranch
DESCRIPTION:Come sing karaoke at Boerne’s favorite dive bar\, Longbranch Saloon. Think Cheers\, but more country. Singing starts at 7:30. Bar is cash only. There’s pool\, darts\, and more.
URL:https://theboernelife.com/events/friday-night-karaoke-at-longbranch/2025-11-07/
LOCATION:Longbranch Saloon\, 817 N. Main Street\, Boerne\, TX\, 78006\, United States
CATEGORIES:Music
ATTACH;FMTTYPE=image/jpeg:https://theboernelife.com/wp-content/uploads/2024/12/Longbranch-1.jpg
END:VEVENT
BEGIN:VEVENT
DTSTART;TZID=America/Chicago:20251108T150000
DTEND;TZID=America/Chicago:20251108T230000
DTSTAMP:20260421T091557
CREATED:20240910T102942Z
LAST-MODIFIED:20250829T104014Z
UID:10030521-1762614000-1762642800@theboernelife.com
SUMMARY:Open Bowling at Boerne Turn Verein
DESCRIPTION:The Boerne Turn Verein is a non-profit bowling alley that’s been in Boerne since 1906. It’s a blast from the past. Most of the year\, it’s members-only league play\, except Saturday nights from 3 pm to 11 pm when the community is welcome to drop in and play. \nRates are $5.50 per game\, $3.50 for shoe rentals. \n 
URL:https://theboernelife.com/events/open-bowling-at-boerne-turn-verein/2025-11-08/
LOCATION:Boerne Turn Verin\, 221 E. Theissen\, Boerne\, TX\, 78006\, United States
CATEGORIES:Kids and Family
ATTACH;FMTTYPE=image/jpeg:https://theboernelife.com/wp-content/uploads/2024/02/Boerne-Turn-Verin.jpg
END:VEVENT
BEGIN:VEVENT
DTSTART;TZID=America/Chicago:20251108T180000
DTEND;TZID=America/Chicago:20251108T210000
DTSTAMP:20260421T091557
CREATED:20251016T171653Z
LAST-MODIFIED:20251212T125009Z
UID:10033789-1762624800-1762635600@theboernelife.com
SUMMARY:Live Music at Free Roam Brewing
DESCRIPTION:Live music at Free Roam Brewing this weekend. Here’s the schedule for the rest of the year: \nDecember 12: Julia Rose\nDecember 13: Hank Billings\nDecember 19: Colleen Mitchell\nDecember 20: Noah Kurtis\nDecember 26: David Selbo\nDecember 27: Shayne Hammond
URL:https://theboernelife.com/events/live-music-at-free-roam-brewing/2025-11-08/
LOCATION:Free Roam Brewing Company\, 325 S Main Street\, Boerne\, TX\, 78006\, United States
CATEGORIES:Music,Outdoors
ATTACH;FMTTYPE=image/jpeg:https://theboernelife.com/wp-content/uploads/2024/12/Free-Roam-Beer-Garden.jpg
END:VEVENT
BEGIN:VEVENT
DTSTART;TZID=America/Chicago:20251108T190000
DTEND;TZID=America/Chicago:20251108T220000
DTSTAMP:20260421T091557
CREATED:20250914T125752Z
LAST-MODIFIED:20251212T122919Z
UID:10030912-1762628400-1762639200@theboernelife.com
SUMMARY:Live Music at the Bevy
DESCRIPTION:Hangout at the Bevy hotel bar and listen to live music every Friday and Saturday night. When the weather’s nice out\, the windows will be open to the patio bar and you can sit by the pool to enjoy the weather while you listen. \nCheck their social media to see who is playing this week.
URL:https://theboernelife.com/events/live-music-at-the-bevy-2/2025-11-08/
LOCATION:The Bevy Hotel Boerne\, 101 Herff Rd\, Boerne\, TX\, 78006\, United States
CATEGORIES:Music
ATTACH;FMTTYPE=image/jpeg:https://theboernelife.com/wp-content/uploads/2024/03/Live-Music-at-the-Bevy.jpg
END:VEVENT
BEGIN:VEVENT
DTSTART;TZID=America/Chicago:20251108T190000
DTEND;TZID=America/Chicago:20251108T220000
DTSTAMP:20260421T091557
CREATED:20251020T230805Z
LAST-MODIFIED:20251020T230805Z
UID:10033137-1762628400-1762639200@theboernelife.com
SUMMARY:Singer/Songwriter Series – Jaime Varela at La Cascada Table & Bar
DESCRIPTION:The Singer/Songwriter Series continues at La Cascada Table & Bar with a live performance by Jaime Varela on Friday\, November 8\, from 7:00 pm to 10:00 pm. Guests can relax on the scenic patio at Tapatio Springs Hill Country Resort while enjoying Varela’s soulful melodies and acoustic storytelling. \nThis live music experience pairs perfectly with La Cascada’s elevated Texas fare\, craft cocktails\, and award-winning wine selection. It’s an ideal evening for date night\, a gathering with friends\, or simply unwinding to great music in a beautiful setting. \nReservations are required and can be made by calling 830-537-6245 or visiting bit.ly/LaCascadaReservations.
URL:https://theboernelife.com/events/singer-songwriter-series-jaime-varela-at-la-cascada-table-bar-2/
LOCATION:La Cascada Table & Bar\, 1 Resort Way\, Boerne\, TX\, 78006\, United States
CATEGORIES:Music
ATTACH;FMTTYPE=image/jpeg:https://theboernelife.com/wp-content/uploads/2025/10/singer-songwriter-series-jaime-varela-at-la-cascada-table-and-bar.jpg
END:VEVENT
END:VCALENDAR