BEGIN:VCALENDAR
VERSION:2.0
PRODID:-//The Boerne Life - ECPv6.15.15//NONSGML v1.0//EN
CALSCALE:GREGORIAN
METHOD:PUBLISH
X-WR-CALNAME:The Boerne Life
X-ORIGINAL-URL:https://theboernelife.com
X-WR-CALDESC:Events for The Boerne Life
REFRESH-INTERVAL;VALUE=DURATION:PT1H
X-Robots-Tag:noindex
X-PUBLISHED-TTL:PT1H
BEGIN:VTIMEZONE
TZID:America/Chicago
BEGIN:DAYLIGHT
TZOFFSETFROM:-0600
TZOFFSETTO:-0500
TZNAME:CDT
DTSTART:20240310T080000
END:DAYLIGHT
BEGIN:STANDARD
TZOFFSETFROM:-0500
TZOFFSETTO:-0600
TZNAME:CST
DTSTART:20241103T070000
END:STANDARD
BEGIN:DAYLIGHT
TZOFFSETFROM:-0600
TZOFFSETTO:-0500
TZNAME:CDT
DTSTART:20250309T080000
END:DAYLIGHT
BEGIN:STANDARD
TZOFFSETFROM:-0500
TZOFFSETTO:-0600
TZNAME:CST
DTSTART:20251102T070000
END:STANDARD
BEGIN:DAYLIGHT
TZOFFSETFROM:-0600
TZOFFSETTO:-0500
TZNAME:CDT
DTSTART:20260308T080000
END:DAYLIGHT
BEGIN:STANDARD
TZOFFSETFROM:-0500
TZOFFSETTO:-0600
TZNAME:CST
DTSTART:20261101T070000
END:STANDARD
END:VTIMEZONE
BEGIN:VEVENT
DTSTART;TZID=America/Chicago:20251202T190000
DTEND;TZID=America/Chicago:20251202T210000
DTSTAMP:20260422T234108
CREATED:20241024T183031Z
LAST-MODIFIED:20250629T132122Z
UID:10029693-1764702000-1764709200@theboernelife.com
SUMMARY:Fair Oaks Roost Trivia
DESCRIPTION:Head to The Roost for a fun-filled night of trivia! Gather your team\, test your knowledge\, and compete for a chance to win exciting prizes. Enjoy food and drinks available for purchase while you challenge your brain and enjoy the evening with friends.
URL:https://theboernelife.com/events/fair-oaks-roost-trivia/2025-12-02/
LOCATION:Fair Oaks Roost\, 9091 Fair Oaks Pkwy\, Fair Oaks Ranch\, Texas\, 78015
CATEGORIES:Food and Drink
ATTACH;FMTTYPE=image/jpeg:https://theboernelife.com/wp-content/uploads/2024/10/Fair-Oaks-Roost.jpg
END:VEVENT
BEGIN:VEVENT
DTSTART;TZID=America/Chicago:20251202T190000
DTEND;TZID=America/Chicago:20251202T230000
DTSTAMP:20260422T234108
CREATED:20240214T102046Z
LAST-MODIFIED:20241222T133003Z
UID:10003890-1764702000-1764716400@theboernelife.com
SUMMARY:Karaoke at Drink Texas Boerne
DESCRIPTION:Come out for karaoke at 7pm and enjoy happy hour until 9pm. Cold beer\, Texas cocktails\, and friendly bartenders right off the freeway!
URL:https://theboernelife.com/events/karaoke-at-drink-texas-boerne/2025-12-02/
LOCATION:Drink Texas Boerne\, 31138 I-10\, Boerne\, TX\, 78006\, United States
CATEGORIES:Music
ATTACH;FMTTYPE=image/png:https://theboernelife.com/wp-content/uploads/2024/02/Drink-Texas-Boerne-Logo.png
END:VEVENT
BEGIN:VEVENT
DTSTART;TZID=America/Chicago:20251203T183000
DTEND;TZID=America/Chicago:20251203T203000
DTSTAMP:20260422T234108
CREATED:20240925T165042Z
LAST-MODIFIED:20250618T105925Z
UID:10029474-1764786600-1764793800@theboernelife.com
SUMMARY:Trivia Night at Sauced
DESCRIPTION:Every Wednesday\, head out to Sauced Wing Bar for trivia night with Austin! It starts at six thirty-ish. Arrive early and you can hit Happy Hour!
URL:https://theboernelife.com/events/trivia-night-at-sauced/2025-12-03/
LOCATION:Sauced Wing Bar\, 215 W Bandera Rd #101\, Boerne\, TX\, 78006\, United States
CATEGORIES:General
ATTACH;FMTTYPE=image/jpeg:https://theboernelife.com/wp-content/uploads/2024/09/Sauced-Wing-Bar-Trivia.jpg
END:VEVENT
BEGIN:VEVENT
DTSTART;TZID=America/Chicago:20251205T190000
DTEND;TZID=America/Chicago:20251205T220000
DTSTAMP:20260422T234108
CREATED:20241216T093639Z
LAST-MODIFIED:20250804T005503Z
UID:10030133-1764961200-1764972000@theboernelife.com
SUMMARY:Friday Night Karaoke at Pure Country BBQ & Grill
DESCRIPTION:Kick off the weekend with music\, laughter\, and unforgettable memories at Friday Night Karaoke at Pure Country BBQ in Boerne! Whether you’re a shower superstar or a seasoned performer\, the mic is waiting for you. \nThis family-friendly event welcomes all ages to sing their favorite hits and enjoy a night of fun and good vibes. Bring the whole family and make it a night to remember. \nKid’s karaoke starts at 7PM and adults hit the stage at 8PM—come check it out! Don’t miss the chance to shine and share the joy of music!
URL:https://theboernelife.com/events/friday-night-karaoke-at-pure-country-bbq-grill/2025-12-05/
LOCATION:Pure Country BBQ & Grill\, 1481 S Main St\, Boerne\, TX\, 78006\, United States
CATEGORIES:Music
ATTACH;FMTTYPE=image/jpeg:https://theboernelife.com/wp-content/uploads/2024/12/friday-night-karaoke-at-pure-country-bbq-and-grill.jpg
END:VEVENT
BEGIN:VEVENT
DTSTART;TZID=America/Chicago:20251205T190000
DTEND;TZID=America/Chicago:20251205T220000
DTSTAMP:20260422T234108
CREATED:20250914T125752Z
LAST-MODIFIED:20251212T122919Z
UID:10033763-1764961200-1764972000@theboernelife.com
SUMMARY:Live Music at the Bevy
DESCRIPTION:Hangout at the Bevy hotel bar and listen to live music every Friday and Saturday night. When the weather’s nice out\, the windows will be open to the patio bar and you can sit by the pool to enjoy the weather while you listen. \nCheck their social media to see who is playing this week.
URL:https://theboernelife.com/events/live-music-at-the-bevy-2/2025-12-05/
LOCATION:The Bevy Hotel Boerne\, 101 Herff Rd\, Boerne\, TX\, 78006\, United States
CATEGORIES:Music
ATTACH;FMTTYPE=image/jpeg:https://theboernelife.com/wp-content/uploads/2024/03/Live-Music-at-the-Bevy.jpg
END:VEVENT
BEGIN:VEVENT
DTSTART;TZID=America/Chicago:20251205T193000
DTEND;TZID=America/Chicago:20251205T233000
DTSTAMP:20260422T234108
CREATED:20251020T195602Z
LAST-MODIFIED:20251226T022025Z
UID:10033111-1764963000-1764977400@theboernelife.com
SUMMARY:Friday Night Karaoke at Longbranch
DESCRIPTION:Come sing karaoke at Boerne’s favorite dive bar\, Longbranch Saloon. Think Cheers\, but more country. Singing starts at 7:30. Bar is cash only. There’s pool\, darts\, and more.
URL:https://theboernelife.com/events/friday-night-karaoke-at-longbranch/2025-12-05/
LOCATION:Longbranch Saloon\, 817 N. Main Street\, Boerne\, TX\, 78006\, United States
CATEGORIES:Music
ATTACH;FMTTYPE=image/jpeg:https://theboernelife.com/wp-content/uploads/2024/12/Longbranch-1.jpg
END:VEVENT
BEGIN:VEVENT
DTSTART;TZID=America/Chicago:20251206T190000
DTEND;TZID=America/Chicago:20251206T220000
DTSTAMP:20260422T234108
CREATED:20250914T125752Z
LAST-MODIFIED:20251212T122919Z
UID:10033764-1765047600-1765058400@theboernelife.com
SUMMARY:Live Music at the Bevy
DESCRIPTION:Hangout at the Bevy hotel bar and listen to live music every Friday and Saturday night. When the weather’s nice out\, the windows will be open to the patio bar and you can sit by the pool to enjoy the weather while you listen. \nCheck their social media to see who is playing this week.
URL:https://theboernelife.com/events/live-music-at-the-bevy-2/2025-12-06/
LOCATION:The Bevy Hotel Boerne\, 101 Herff Rd\, Boerne\, TX\, 78006\, United States
CATEGORIES:Music
ATTACH;FMTTYPE=image/jpeg:https://theboernelife.com/wp-content/uploads/2024/03/Live-Music-at-the-Bevy.jpg
END:VEVENT
BEGIN:VEVENT
DTSTART;TZID=America/Chicago:20251206T210000
DTEND;TZID=America/Chicago:20251206T233000
DTSTAMP:20260422T234108
CREATED:20251206T095836Z
LAST-MODIFIED:20251206T095836Z
UID:10033740-1765054800-1765063800@theboernelife.com
SUMMARY:December Live Music and Holiday Events at Salvador Dobbs
DESCRIPTION:Salvador Dobbs will celebrate the season with a full lineup of music and themed events throughout December. The month kicks off with live music from Dean Seltzer performing at 9 pm\, followed by Etta Place taking the stage on Saturday\, December 6. Guests can enjoy a lively atmosphere\, great drinks\, and plenty of entertainment as the month begins. Salvador Dobbs is located in downtown Boerne and offers a vibrant setting for evenings out with friends. \nThe fun continues with an Ugly Sweater Karaoke Party on Thursday\, December 18\, inviting guests to show off their most festive sweaters and sing along to their favorite songs. On Wednesday\, December 31\, Salvador Dobbs will host a Prom Night–themed New Year’s Eve Party\, offering a nostalgic and upbeat way to ring in 2026. Guests are encouraged to mark their calendars and enjoy a month filled with music\, themed celebrations\, and holiday cheer at Salvador Dobbs.
URL:https://theboernelife.com/events/december-live-music-and-holiday-events-at-salvador-dobbs/2025-12-06/
LOCATION:Salvador Dobbs\, 512 River Rd\, Boerne\, TX\, 78006\, United States
CATEGORIES:Holiday
ATTACH;FMTTYPE=image/jpeg:https://theboernelife.com/wp-content/uploads/2025/12/december-live-music-and-holiday-events-at-salvador-dobbs.jpg
END:VEVENT
END:VCALENDAR