BEGIN:VCALENDAR
VERSION:2.0
PRODID:-//The Boerne Life - ECPv6.15.15//NONSGML v1.0//EN
CALSCALE:GREGORIAN
METHOD:PUBLISH
X-ORIGINAL-URL:https://theboernelife.com
X-WR-CALDESC:Events for The Boerne Life
REFRESH-INTERVAL;VALUE=DURATION:PT1H
X-Robots-Tag:noindex
X-PUBLISHED-TTL:PT1H
BEGIN:VTIMEZONE
TZID:America/Chicago
BEGIN:DAYLIGHT
TZOFFSETFROM:-0600
TZOFFSETTO:-0500
TZNAME:CDT
DTSTART:20250309T080000
END:DAYLIGHT
BEGIN:STANDARD
TZOFFSETFROM:-0500
TZOFFSETTO:-0600
TZNAME:CST
DTSTART:20251102T070000
END:STANDARD
BEGIN:DAYLIGHT
TZOFFSETFROM:-0600
TZOFFSETTO:-0500
TZNAME:CDT
DTSTART:20260308T080000
END:DAYLIGHT
BEGIN:STANDARD
TZOFFSETFROM:-0500
TZOFFSETTO:-0600
TZNAME:CST
DTSTART:20261101T070000
END:STANDARD
BEGIN:DAYLIGHT
TZOFFSETFROM:-0600
TZOFFSETTO:-0500
TZNAME:CDT
DTSTART:20270314T080000
END:DAYLIGHT
BEGIN:STANDARD
TZOFFSETFROM:-0500
TZOFFSETTO:-0600
TZNAME:CST
DTSTART:20271107T070000
END:STANDARD
END:VTIMEZONE
BEGIN:VEVENT
DTSTART;TZID=America/Chicago:20260113T190000
DTEND;TZID=America/Chicago:20260113T230000
DTSTAMP:20260421T125241
CREATED:20240214T102046Z
LAST-MODIFIED:20241222T133003Z
UID:10003896-1768330800-1768345200@theboernelife.com
SUMMARY:Karaoke at Drink Texas Boerne
DESCRIPTION:Come out for karaoke at 7pm and enjoy happy hour until 9pm. Cold beer\, Texas cocktails\, and friendly bartenders right off the freeway!
URL:https://theboernelife.com/events/karaoke-at-drink-texas-boerne/2026-01-13/
LOCATION:Drink Texas Boerne\, 31138 I-10\, Boerne\, TX\, 78006\, United States
CATEGORIES:Music
ATTACH;FMTTYPE=image/png:https://theboernelife.com/wp-content/uploads/2024/02/Drink-Texas-Boerne-Logo.png
END:VEVENT
BEGIN:VEVENT
DTSTART;TZID=America/Chicago:20260115T180000
DTEND;TZID=America/Chicago:20260115T210000
DTSTAMP:20260421T125241
CREATED:20251217T025911Z
LAST-MODIFIED:20260106T214119Z
UID:10033852-1768500000-1768510800@theboernelife.com
SUMMARY:A Deadly Vintage Murder Mystery Night at Richter Boerne Cork & Keg
DESCRIPTION:A Deadly Vintage transforms an ordinary evening at Richter Boerne Cork & Keg into a fully interactive murder mystery experience where every guest becomes part of the story. Upon arrival\, participants receive a packet of secret information and take on the role of a suspect\, with clues unfolding throughout the night as guests work to uncover the truth behind the crime. This is an immersive experience designed for those who enjoy mystery\, role-playing\, and an evening of suspense where anyone could be the culprit. \nThe event takes place on Thursday\, January 15\, 2026\, beginning at 6 pm. Food and drinks will be available for purchase from the regular menu throughout the evening. Participation is limited to 25 guests\, and advance registration is required to secure a spot. Tickets and additional details are available through ExploreTock.
URL:https://theboernelife.com/events/a-deadly-vintage-murder-mystery-night-at-richter-boerne-cork-keg/
LOCATION:The Richter\, 153 S Main Street\, Boerne\, TX\, 78006\, United States
CATEGORIES:Arts and Culture,Food and Drink
ATTACH;FMTTYPE=image/jpeg:https://theboernelife.com/wp-content/uploads/2025/12/a-deadly-vintage-murder-mystery-night-at-richter-boerne-cork-and-keg.jpg
END:VEVENT
BEGIN:VEVENT
DTSTART;TZID=America/Chicago:20260116T170000
DTEND;TZID=America/Chicago:20260116T200000
DTSTAMP:20260421T125241
CREATED:20251108T141513Z
LAST-MODIFIED:20260106T214110Z
UID:10033288-1768582800-1768593600@theboernelife.com
SUMMARY:The Forum VIII: The Official Men's Mixer of The Kendall Gentleman
DESCRIPTION:Join The Kendall Gentleman for a special edition of The Forum as we mark one full year of gathering men\, friends\, and neighbors around the things that matter.\n\nThis January\, we’re celebrating our 1st Anniversary at La Cascada at Tapatio Springs.\nThis isn’t a meeting.It’s not a conference.And it’s still not a networking event.\n\nIt’s a few good hours set aside for real fellowship. Time to slow down\, share a drink\, shake a few hands\, and enjoy the company of people who care about this place and the people in it.\nWe call it a men’s mixer\, but everyone is welcome. This is about celebrating the gentlemen of Kendall County and the folks who stand beside them. Always has been.\n\nWhat to expect:• A relaxed evening in a great Hill Country setting• Good conversation and familiar faces• No agenda\, no pressure\, just time well spent\n\nWhen: Friday\, January 16 at 5:00–8:00 PMWhere: La Cascada at Tapatio Springs1 Resort Way\, Boerne\, TX\n\nCome help us raise a glass to one year of The Kendall Gentleman and to many more evenings like it.
URL:https://theboernelife.com/events/the-forum-vii-the-official-mens-mixer-of-the-kendall-gentleman/
LOCATION:La Cascada Table & Bar\, 1 Resort Way\, Boerne\, TX\, 78006\, United States
CATEGORIES:Food and Drink
ATTACH;FMTTYPE=image/jpeg:https://theboernelife.com/wp-content/uploads/2025/11/TKG-1-Social-Posts_New-Logos_LinkedIn-Logo_300x300.jpg
ORGANIZER;CN="The Kendall Gentleman":MAILTO:michael@thekendallgentleman.com
END:VEVENT
BEGIN:VEVENT
DTSTART;TZID=America/Chicago:20260116T190000
DTEND;TZID=America/Chicago:20260116T220000
DTSTAMP:20260421T125241
CREATED:20250914T125752Z
LAST-MODIFIED:20251212T122919Z
UID:10033775-1768590000-1768600800@theboernelife.com
SUMMARY:Live Music at the Bevy
DESCRIPTION:Hangout at the Bevy hotel bar and listen to live music every Friday and Saturday night. When the weather’s nice out\, the windows will be open to the patio bar and you can sit by the pool to enjoy the weather while you listen. \nCheck their social media to see who is playing this week.
URL:https://theboernelife.com/events/live-music-at-the-bevy-2/2026-01-16/
LOCATION:The Bevy Hotel Boerne\, 101 Herff Rd\, Boerne\, TX\, 78006\, United States
CATEGORIES:Music
ATTACH;FMTTYPE=image/jpeg:https://theboernelife.com/wp-content/uploads/2024/03/Live-Music-at-the-Bevy.jpg
END:VEVENT
BEGIN:VEVENT
DTSTART;TZID=America/Chicago:20260116T193000
DTEND;TZID=America/Chicago:20260116T233000
DTSTAMP:20260421T125241
CREATED:20251020T195602Z
LAST-MODIFIED:20251226T022025Z
UID:10033117-1768591800-1768606200@theboernelife.com
SUMMARY:Friday Night Karaoke at Longbranch
DESCRIPTION:Come sing karaoke at Boerne’s favorite dive bar\, Longbranch Saloon. Think Cheers\, but more country. Singing starts at 7:30. Bar is cash only. There’s pool\, darts\, and more.
URL:https://theboernelife.com/events/friday-night-karaoke-at-longbranch/2026-01-16/
LOCATION:Longbranch Saloon\, 817 N. Main Street\, Boerne\, TX\, 78006\, United States
CATEGORIES:Music
ATTACH;FMTTYPE=image/jpeg:https://theboernelife.com/wp-content/uploads/2024/12/Longbranch-1.jpg
END:VEVENT
BEGIN:VEVENT
DTSTART;TZID=America/Chicago:20260116T200000
DTEND;TZID=America/Chicago:20260116T230000
DTSTAMP:20260421T125241
CREATED:20260101T023619Z
LAST-MODIFIED:20260106T214106Z
UID:10033950-1768593600-1768604400@theboernelife.com
SUMMARY:Barefoot in the Park at Boerne Community Theatre
DESCRIPTION:Boerne Community Theatre presents Barefoot in the Park\, Neil Simon’s beloved romantic comedy that explores marriage\, compromise\, and the realities of life just after the honeymoon. The story follows newlyweds Corie and Paul Bratter as they navigate married life in a tiny walk-up apartment in New York City\, quickly discovering that love alone does not solve every difference. \nPerformances run from January 16 through February 1\, 2026\, at Boerne Community Theatre\, located at 907 E. Blanco Rd.\, Boerne\, Texas 78006. Shows take place on Fridays and Saturdays at 8 pm\, Sundays at 2:30 pm\, and include a special Thursday performance on January 29 at 7:30 pm. \nThis classic comedy is known for its sharp dialogue\, relatable characters\, and heartfelt humor\, making it a favorite for theatergoers of all ages. For ticket information and additional details\, contact Boerne Community Theatre at 830-249-9166.
URL:https://theboernelife.com/events/barefoot-in-the-park-at-boerne-community-theatre/2026-01-16/
LOCATION:Boerne Community Theatre\, 907 E. Blanco Rd.\, Boerne\, TX\, 78006\, United States
CATEGORIES:Arts and Culture
ATTACH;FMTTYPE=image/jpeg:https://theboernelife.com/wp-content/uploads/2025/12/barefoot-in-the-park-at-boerne-community-theatre.jpg
END:VEVENT
BEGIN:VEVENT
DTSTART;TZID=America/Chicago:20260116T210000
DTEND;TZID=America/Chicago:20260116T233000
DTSTAMP:20260421T125241
CREATED:20251217T033004Z
LAST-MODIFIED:20260106T214055Z
UID:10033861-1768597200-1768606200@theboernelife.com
SUMMARY:Kainoa at Salvador DOBBS
DESCRIPTION:Kainoa brings his original blend of reggae\, reggaeton\, and rock to the Salvador DOBBS stage for his first appearance at the venue. Known for high-energy performances and a genre-crossing sound\, the show offers a lively late-night music experience paired with the bar’s signature cocktails. \nThe performance takes place on Friday\, January 16\, 2026\, from 9 pm to 12 am at Salvador DOBBS in Boerne. This event is open to guests ages 21 and over. Additional artist information is available through Kainoa’s social media channels.
URL:https://theboernelife.com/events/kainoa-at-salvador-dobbs/
LOCATION:Salvador Dobbs\, 512 River Rd\, Boerne\, TX\, 78006\, United States
CATEGORIES:Music
ATTACH;FMTTYPE=image/jpeg:https://theboernelife.com/wp-content/uploads/2025/12/kainoa-at-salvador-dobbs.jpg
END:VEVENT
BEGIN:VEVENT
DTSTART;TZID=America/Chicago:20260117T190000
DTEND;TZID=America/Chicago:20260117T210000
DTSTAMP:20260421T125241
CREATED:20251217T025628Z
LAST-MODIFIED:20260106T214048Z
UID:10033851-1768676400-1768683600@theboernelife.com
SUMMARY:Concert in the Cave: Quintessential Classics at Cave Without A Name
DESCRIPTION:Concert in the Cave: Quintessential Classics brings live classical music deep underground in the Queen’s Throne Room at Cave Without A Name with a performance by The Woodland Winds. Set among towering stalactites and enhanced by the cave’s natural acoustics\, the concert features a thoughtfully curated program of woodwind masterworks ranging from timeless classics to contemporary compositions\, including works by Mendelssohn\, Beethoven\, Piazzolla\, and others. The setting creates a distinctive and immersive musical experience unlike a traditional concert hall. \nThe concert takes place on January 17 from 7 pm to 9 pm CST at Cave Without A Name in the Texas Hill Country. Advance tickets are available for $40 until 5 pm on the day of the show\, with tickets available at the door for $45.
URL:https://theboernelife.com/events/concert-in-the-cave-quintessential-classics-at-cave-without-a-name/
LOCATION:Cave Without A Name\, 325 Kreutzberg Rd\, Boerne\, TX\, 78006\, United States
CATEGORIES:Music
ATTACH;FMTTYPE=image/jpeg:https://theboernelife.com/wp-content/uploads/2025/12/concert-in-the-cave-quintessential-classics-at-cave-without-a-name.jpg
END:VEVENT
BEGIN:VEVENT
DTSTART;TZID=America/Chicago:20260117T190000
DTEND;TZID=America/Chicago:20260117T220000
DTSTAMP:20260421T125241
CREATED:20250914T125752Z
LAST-MODIFIED:20251212T122919Z
UID:10033776-1768676400-1768687200@theboernelife.com
SUMMARY:Live Music at the Bevy
DESCRIPTION:Hangout at the Bevy hotel bar and listen to live music every Friday and Saturday night. When the weather’s nice out\, the windows will be open to the patio bar and you can sit by the pool to enjoy the weather while you listen. \nCheck their social media to see who is playing this week.
URL:https://theboernelife.com/events/live-music-at-the-bevy-2/2026-01-17/
LOCATION:The Bevy Hotel Boerne\, 101 Herff Rd\, Boerne\, TX\, 78006\, United States
CATEGORIES:Music
ATTACH;FMTTYPE=image/jpeg:https://theboernelife.com/wp-content/uploads/2024/03/Live-Music-at-the-Bevy.jpg
END:VEVENT
BEGIN:VEVENT
DTSTART;TZID=America/Chicago:20260117T200000
DTEND;TZID=America/Chicago:20260117T230000
DTSTAMP:20260421T125241
CREATED:20260101T023619Z
LAST-MODIFIED:20260106T214106Z
UID:10033951-1768680000-1768690800@theboernelife.com
SUMMARY:Barefoot in the Park at Boerne Community Theatre
DESCRIPTION:Boerne Community Theatre presents Barefoot in the Park\, Neil Simon’s beloved romantic comedy that explores marriage\, compromise\, and the realities of life just after the honeymoon. The story follows newlyweds Corie and Paul Bratter as they navigate married life in a tiny walk-up apartment in New York City\, quickly discovering that love alone does not solve every difference. \nPerformances run from January 16 through February 1\, 2026\, at Boerne Community Theatre\, located at 907 E. Blanco Rd.\, Boerne\, Texas 78006. Shows take place on Fridays and Saturdays at 8 pm\, Sundays at 2:30 pm\, and include a special Thursday performance on January 29 at 7:30 pm. \nThis classic comedy is known for its sharp dialogue\, relatable characters\, and heartfelt humor\, making it a favorite for theatergoers of all ages. For ticket information and additional details\, contact Boerne Community Theatre at 830-249-9166.
URL:https://theboernelife.com/events/barefoot-in-the-park-at-boerne-community-theatre/2026-01-17/
LOCATION:Boerne Community Theatre\, 907 E. Blanco Rd.\, Boerne\, TX\, 78006\, United States
CATEGORIES:Arts and Culture
ATTACH;FMTTYPE=image/jpeg:https://theboernelife.com/wp-content/uploads/2025/12/barefoot-in-the-park-at-boerne-community-theatre.jpg
END:VEVENT
BEGIN:VEVENT
DTSTART;TZID=America/Chicago:20260117T210000
DTEND;TZID=America/Chicago:20260117T233000
DTSTAMP:20260421T125241
CREATED:20251217T033148Z
LAST-MODIFIED:20260106T214044Z
UID:10033862-1768683600-1768692600@theboernelife.com
SUMMARY:Abyss of Bliss at Salvador DOBBS
DESCRIPTION:Abyss of Bliss brings a dynamic late-night live music experience to Salvador DOBBS with a sound that spans slow and steady grooves\, hard and heavy moments\, and bursts of funk that keep the energy moving. Known for refusing to fit into a single genre\, the band delivers a varied and engaging set designed for an energetic night of live music. \nThe performance takes place on Saturday\, January 17\, 2026\, from 9 pm to 12 am at Salvador DOBBS in Boerne. Guests can enjoy live music alongside cocktails throughout the evening. This event is open to guests ages 21 and over.
URL:https://theboernelife.com/events/abyss-of-bliss-at-salvador-dobbs/
LOCATION:Salvador Dobbs\, 512 River Rd\, Boerne\, TX\, 78006\, United States
CATEGORIES:Music
ATTACH;FMTTYPE=image/jpeg:https://theboernelife.com/wp-content/uploads/2025/12/abyss-of-bliss-at-salvador-dobbs.jpg
END:VEVENT
BEGIN:VEVENT
DTSTART;VALUE=DATE:20260118
DTEND;VALUE=DATE:20260119
DTSTAMP:20260421T125241
CREATED:20260101T024220Z
LAST-MODIFIED:20260106T214039Z
UID:10033960-1768694400-1768780799@theboernelife.com
SUMMARY:Hill Country Houndin’ at Anhalt Dance Hall
DESCRIPTION:Hill Country Houndin’ brings an evening of live music\, community spirit\, and fundraising to the historic Anhalt Dance Hall on Sunday\, January 18\, 2026. Presented by the Greyhound Athletic Booster Club\, the event features live performances by The Sunday Songwriters along with a high-stakes raffle offering a $10\,000 prize. \nThe event takes place at Anhalt Dance Hall\, located in Spring Branch\, Texas\, and supports local student athletes through the Greyhound Athletic Booster Club. Tickets are available in advance at gohoundsgo.org\, and proceeds benefit athletic programs in the Boerne area. \nAdditional information about the event and raffle can be found through the Greyhound Athletic Booster Club\, PO Box 312\, Boerne\, Texas 78006.
URL:https://theboernelife.com/events/hill-country-houndin-at-anhalt-dance-hall/
LOCATION:Anhalt Dance Hall\, 2390 Anhalt Rd\, Spring Branch\, TX\, 78070\, United States
CATEGORIES:Fundraiser
ATTACH;FMTTYPE=image/jpeg:https://theboernelife.com/wp-content/uploads/2025/12/hill-country-houndin-at-anhalt-dance-hall.jpg
END:VEVENT
BEGIN:VEVENT
DTSTART;TZID=America/Chicago:20260118T143000
DTEND;TZID=America/Chicago:20260118T173000
DTSTAMP:20260421T125241
CREATED:20260101T023619Z
LAST-MODIFIED:20260106T214106Z
UID:10033952-1768746600-1768757400@theboernelife.com
SUMMARY:Barefoot in the Park at Boerne Community Theatre
DESCRIPTION:Boerne Community Theatre presents Barefoot in the Park\, Neil Simon’s beloved romantic comedy that explores marriage\, compromise\, and the realities of life just after the honeymoon. The story follows newlyweds Corie and Paul Bratter as they navigate married life in a tiny walk-up apartment in New York City\, quickly discovering that love alone does not solve every difference. \nPerformances run from January 16 through February 1\, 2026\, at Boerne Community Theatre\, located at 907 E. Blanco Rd.\, Boerne\, Texas 78006. Shows take place on Fridays and Saturdays at 8 pm\, Sundays at 2:30 pm\, and include a special Thursday performance on January 29 at 7:30 pm. \nThis classic comedy is known for its sharp dialogue\, relatable characters\, and heartfelt humor\, making it a favorite for theatergoers of all ages. For ticket information and additional details\, contact Boerne Community Theatre at 830-249-9166.
URL:https://theboernelife.com/events/barefoot-in-the-park-at-boerne-community-theatre/2026-01-18/
LOCATION:Boerne Community Theatre\, 907 E. Blanco Rd.\, Boerne\, TX\, 78006\, United States
CATEGORIES:Arts and Culture
ATTACH;FMTTYPE=image/jpeg:https://theboernelife.com/wp-content/uploads/2025/12/barefoot-in-the-park-at-boerne-community-theatre.jpg
END:VEVENT
END:VCALENDAR