BEGIN:VCALENDAR
VERSION:2.0
PRODID:-//The Boerne Life - ECPv6.15.15//NONSGML v1.0//EN
CALSCALE:GREGORIAN
METHOD:PUBLISH
X-ORIGINAL-URL:https://theboernelife.com
X-WR-CALDESC:Events for The Boerne Life
REFRESH-INTERVAL;VALUE=DURATION:PT1H
X-Robots-Tag:noindex
X-PUBLISHED-TTL:PT1H
BEGIN:VTIMEZONE
TZID:America/Chicago
BEGIN:DAYLIGHT
TZOFFSETFROM:-0600
TZOFFSETTO:-0500
TZNAME:CDT
DTSTART:20230312T080000
END:DAYLIGHT
BEGIN:STANDARD
TZOFFSETFROM:-0500
TZOFFSETTO:-0600
TZNAME:CST
DTSTART:20231105T070000
END:STANDARD
BEGIN:DAYLIGHT
TZOFFSETFROM:-0600
TZOFFSETTO:-0500
TZNAME:CDT
DTSTART:20240310T080000
END:DAYLIGHT
BEGIN:STANDARD
TZOFFSETFROM:-0500
TZOFFSETTO:-0600
TZNAME:CST
DTSTART:20241103T070000
END:STANDARD
BEGIN:DAYLIGHT
TZOFFSETFROM:-0600
TZOFFSETTO:-0500
TZNAME:CDT
DTSTART:20250309T080000
END:DAYLIGHT
BEGIN:STANDARD
TZOFFSETFROM:-0500
TZOFFSETTO:-0600
TZNAME:CST
DTSTART:20251102T070000
END:STANDARD
BEGIN:DAYLIGHT
TZOFFSETFROM:-0600
TZOFFSETTO:-0500
TZNAME:CDT
DTSTART:20260308T080000
END:DAYLIGHT
BEGIN:STANDARD
TZOFFSETFROM:-0500
TZOFFSETTO:-0600
TZNAME:CST
DTSTART:20261101T070000
END:STANDARD
BEGIN:DAYLIGHT
TZOFFSETFROM:-0600
TZOFFSETTO:-0500
TZNAME:CDT
DTSTART:20270314T080000
END:DAYLIGHT
BEGIN:STANDARD
TZOFFSETFROM:-0500
TZOFFSETTO:-0600
TZNAME:CST
DTSTART:20271107T070000
END:STANDARD
END:VTIMEZONE
BEGIN:VEVENT
DTSTART;TZID=America/Chicago:20260306T173000
DTEND;TZID=America/Chicago:20260306T220000
DTSTAMP:20260423T015158
CREATED:20240210T150414Z
LAST-MODIFIED:20260223T193133Z
UID:10014896-1772818200-1772834400@theboernelife.com
SUMMARY:Movie in the Park
DESCRIPTION:Boerne Parks and Recreation offers Movies in the Park at various times throughout the year. These complimentary\, family-friendly movie screenings provide entertainment for all ages. \nFilms begin at sundown\, but guests are invited to arrive early for pre-movie activities starting at 5:30 p.m. on designated movie nights. There ate typically food trucks\, games\, and a bounce house. \nRemember to pack your blankets\, chairs\, and favorite snacks to enjoy some no-cost entertainment leading up to the movie. \nThe first movie of the season is A Minecraft Movie. \nThis is a great opportunity for families and friends to gather under the stars for an entertaining and memorable evening. Don’t miss out on the showdown where dreams and determination collide!
URL:https://theboernelife.com/events/movie-in-the-park/
LOCATION:Boerne Main Plaza\, 100 N. Main Street\, Boerne\, TX\, 78006\, United States
CATEGORIES:Kids and Family
ATTACH;FMTTYPE=image/jpeg:https://theboernelife.com/wp-content/uploads/2024/08/Movie-in-the-Park.jpg
END:VEVENT
BEGIN:VEVENT
DTSTART;TZID=America/Chicago:20250711T180000
DTEND;TZID=America/Chicago:20250711T200000
DTSTAMP:20260423T015158
CREATED:20250529T015923Z
LAST-MODIFIED:20250628T142533Z
UID:10028752-1752256800-1752264000@theboernelife.com
SUMMARY:Family Night at the Pool at the Boerne Municipal Pool
DESCRIPTION:Families can enjoy an evening of summer fun during Family Night at the Pool on Friday\, July 11\, 2025\, from 6:00 pm to 8:00 pm at the Boerne Municipal Pool. Admission is free\, and the evening will feature games and activities designed for all ages. \nThis community event offers a great way to cool off\, relax\, and connect with neighbors in a lively outdoor setting. The Boerne Municipal Pool is located at 106 City Park Road\, Boerne\, TX. \nFor more information\, contact Boerne Parks and Recreation at (830) 248-1635 or visit www.boerneparks.com.
URL:https://theboernelife.com/events/family-night-at-the-pool-at-the-boerne-municipal-pool/
LOCATION:Boerne Municipal Pool\, 106 City Park Road\, Boerne\, TX\, 78006\, United States
CATEGORIES:Kids and Family
ATTACH;FMTTYPE=image/jpeg:https://theboernelife.com/wp-content/uploads/2025/05/family-night-at-the-pool-at-the-boerne-municipal-pool.jpg
END:VEVENT
BEGIN:VEVENT
DTSTART;TZID=America/Chicago:20240804T100000
DTEND;TZID=America/Chicago:20240804T160000
DTSTAMP:20260423T015158
CREATED:20240801T113746Z
LAST-MODIFIED:20240803T151812Z
UID:10021227-1722765600-1722787200@theboernelife.com
SUMMARY:Summer Pool Closing Day
DESCRIPTION:Don’t miss out on the last splash of summer at the Boerne Municipal Swimming Pool! Join us for our final day open on August 4th with special hours from 10am – 4pm!
URL:https://theboernelife.com/events/summer-pool-closing-day/
LOCATION:Boerne Municipal Pool\, 106 City Park Road\, Boerne\, TX\, 78006\, United States
CATEGORIES:Health and Wellness,Kids and Family
ATTACH;FMTTYPE=image/jpeg:https://theboernelife.com/wp-content/uploads/2024/08/Pool-Closing.jpg
END:VEVENT
END:VCALENDAR