BEGIN:VCALENDAR
VERSION:2.0
PRODID:-//The Boerne Life - ECPv6.15.15//NONSGML v1.0//EN
CALSCALE:GREGORIAN
METHOD:PUBLISH
X-WR-CALNAME:The Boerne Life
X-ORIGINAL-URL:https://theboernelife.com
X-WR-CALDESC:Events for The Boerne Life
REFRESH-INTERVAL;VALUE=DURATION:PT1H
X-Robots-Tag:noindex
X-PUBLISHED-TTL:PT1H
BEGIN:VTIMEZONE
TZID:America/Chicago
BEGIN:DAYLIGHT
TZOFFSETFROM:-0600
TZOFFSETTO:-0500
TZNAME:CDT
DTSTART:20230312T080000
END:DAYLIGHT
BEGIN:STANDARD
TZOFFSETFROM:-0500
TZOFFSETTO:-0600
TZNAME:CST
DTSTART:20231105T070000
END:STANDARD
BEGIN:DAYLIGHT
TZOFFSETFROM:-0600
TZOFFSETTO:-0500
TZNAME:CDT
DTSTART:20240310T080000
END:DAYLIGHT
BEGIN:STANDARD
TZOFFSETFROM:-0500
TZOFFSETTO:-0600
TZNAME:CST
DTSTART:20241103T070000
END:STANDARD
BEGIN:DAYLIGHT
TZOFFSETFROM:-0600
TZOFFSETTO:-0500
TZNAME:CDT
DTSTART:20250309T080000
END:DAYLIGHT
BEGIN:STANDARD
TZOFFSETFROM:-0500
TZOFFSETTO:-0600
TZNAME:CST
DTSTART:20251102T070000
END:STANDARD
BEGIN:DAYLIGHT
TZOFFSETFROM:-0600
TZOFFSETTO:-0500
TZNAME:CDT
DTSTART:20260308T080000
END:DAYLIGHT
BEGIN:STANDARD
TZOFFSETFROM:-0500
TZOFFSETTO:-0600
TZNAME:CST
DTSTART:20261101T070000
END:STANDARD
BEGIN:DAYLIGHT
TZOFFSETFROM:-0600
TZOFFSETTO:-0500
TZNAME:CDT
DTSTART:20270314T080000
END:DAYLIGHT
BEGIN:STANDARD
TZOFFSETFROM:-0500
TZOFFSETTO:-0600
TZNAME:CST
DTSTART:20271107T070000
END:STANDARD
END:VTIMEZONE
BEGIN:VEVENT
DTSTART;TZID=America/Chicago:20260321T080000
DTEND;TZID=America/Chicago:20260321T120000
DTSTAMP:20260424T051050
CREATED:20260107T075743Z
LAST-MODIFIED:20260107T115447Z
UID:10034061-1774080000-1774094400@theboernelife.com
SUMMARY:Tails on the Trail 1K/3K Fun Run at The Watershed at the Main Plaza
DESCRIPTION:The Tails on the Trail 1K/3K Fun Run will take place on Saturday\, March 21\, 2026\, beginning at 8 am at The Watershed at the Main Plaza in downtown Boerne. This community fun run offers participants the option to choose between a 1K or 3K course in a scenic setting along Main Street. \nBoth the 1K and 3K races are scheduled to start at 8 am\, creating a lively and energetic start to the morning. The event is designed to be accessible and enjoyable for runners and walkers of all experience levels. \nThe Watershed at the Main Plaza is located at 132 S. Main St.\, Boerne\, TX 78006. For additional information\, contact Becky Forrester at becky@hcaltx.org.
URL:https://theboernelife.com/events/tails-on-the-trail-1k-3k-fun-run-at-the-watershed-at-the-main-plaza/
LOCATION:The Watershed at the Main Plaza\, 132 S. Main St.\, Boerne\, TX\, 78006\, United States
CATEGORIES:Health and Wellness,Outdoors
ATTACH;FMTTYPE=image/png:https://theboernelife.com/wp-content/uploads/2026/01/TBL-FB-Post-2026-01-07T055424.268.png
END:VEVENT
BEGIN:VEVENT
DTSTART;TZID=America/Chicago:20260228T070000
DTEND;TZID=America/Chicago:20260228T120000
DTSTAMP:20260424T051050
CREATED:20251226T133934Z
LAST-MODIFIED:20260105T124017Z
UID:10033890-1772262000-1772280000@theboernelife.com
SUMMARY:Hope In Motion 5K at Champion High School
DESCRIPTION:Name of event: Champion HS (Blood Cancer United) Hope in Motion 5k\n \nDate of event: Saturday\, 2/28/26\n \nTime of event: Race start is 8:00am\n\nPacket pickup location and time: Thursday (2/26) and Friday (2/27) 5:00-7:00pm at CHS Bus Loop\n\n$10 PRICE INCREASE RACE WEEK\n\n\nThe second annual Hope in Motion 5k is a walking/running event that will be taking place on February 28\, 2026 at Champion High School (201 Charger Blvd\, Boerne\, TX 78006). The purpose of this event is to both bring the community together as well as serve as a fundraiser for Blood Cancer United.\n\nLearn more or register here.
URL:https://theboernelife.com/events/hope-in-motion-5k-at-champion-high-school/
LOCATION:Boerne Champion High School\, 201 Charger Blvd\, Boerne\, TX\, 78006\, United States
CATEGORIES:Health and Wellness,Outdoors
ATTACH;FMTTYPE=image/jpeg:https://theboernelife.com/wp-content/uploads/2025/12/hope-in-motion-5k-at-champion-high-school.jpg
END:VEVENT
BEGIN:VEVENT
DTSTART;TZID=America/Chicago:20260110T080000
DTEND;TZID=America/Chicago:20260110T120000
DTSTAMP:20260424T051050
CREATED:20251014T000850Z
LAST-MODIFIED:20251014T000850Z
UID:10032780-1768032000-1768046400@theboernelife.com
SUMMARY:River Road Run 2026 at Comfort Park
DESCRIPTION:Start the new year with scenic views\, historic charm\, and a challenge for every runner at the 2026 River Road Run in Comfort\, Texas. Taking place on Saturday\, January 10\, this popular race is the first of four in the Texas Hill Country Series and features multiple race options including a half marathon\, the all-new SKYDOME 10-Miler\, 10K\, 5K\, and a .05K fun run. \nThe race begins at Comfort Park near the town’s iconic gazebo and leads runners into the heart of the Hill Country. Participants will wind through shady streets\, pass historic architecture\, and enjoy glimpses of Cypress Creek and the Guadalupe River along the way. Comfort’s welcoming downtown offers shops\, local eateries\, and the rich character of nearly 100 pre-1910 buildings\, making this event a true “run-cation” destination. \nStart times are staggered by distance: \n\n8:01 am: Half Marathon & 10-Miler\n8:31 am: 10K & Competitive 5K Walkers\n9:01 am: 5K\n9:06 am: .05K Fun Run\n\nEntry fees range from $40 to $99 depending on distance and registration timing. A $5 late fee applies 15 days before the event\, and another $5 is added within the last 5 days. Race day registration is available with a $10 upcharge. \nAll participants will receive a finisher medal\, and awards will be presented to the top four finishers in each age group for the 5K\, 10K\, and half marathon. Special awards will also go to overall\, masters\, and super masters male and female finishers. \nThe event also introduces the SKYDOME 10-Miler—a challenging new route through the hills that promises bragging rights and a bonus race shirt for those who conquer it. \nPacket pickup is available Friday\, January 9 from 4 pm to 7 pm at Alamo Beer Company\, 202 Lamar\, San Antonio\, TX. Race morning pickup begins at 7 am at the start line in Comfort Park (TX-27\, Comfort\, TX 78013). \nCourse maps: \n\nHalf Marathon: View Map\nSKYDOME 10-Miler: View Map\n10K: View Map\n5K: View Map\n\nPlease note that registrations are non-refundable. Race changes or transfers incur a $20 fee in advance or $30 the day before the event. No transfers will be accepted on race day. Late registrants may need to pick up their shirts after the race has started. \nFor deferrals or more information\, contact the race organizers directly.
URL:https://theboernelife.com/events/river-road-run-2026-at-comfort-park/
LOCATION:Comfort Park\, 446 Broadway\, Comfort\, TX\, 78013\, United States
CATEGORIES:Health and Wellness,Outdoors
ATTACH;FMTTYPE=image/jpeg:https://theboernelife.com/wp-content/uploads/2025/10/river-road-run-2026-at-comfort-park.jpg
END:VEVENT
BEGIN:VEVENT
DTSTART;TZID=America/Chicago:20251018T090000
DTEND;TZID=America/Chicago:20251018T120000
DTSTAMP:20260424T051050
CREATED:20251015T175107Z
LAST-MODIFIED:20251016T020238Z
UID:10033008-1760778000-1760788800@theboernelife.com
SUMMARY:Just a Little 5K
DESCRIPTION:Join us for the inaugural Just a Little 5K on Saturday\, October 18\, 2025\, in the charming town of Boerne! This uplifting event is dedicated to raising awareness for dwarfism and supporting children with disabilities. Lace up your running shoes and be part of a community focused on making a difference\, as we come together to promote inclusivity and understanding. \nWhether you’re a seasoned runner or looking to enjoy a fun day out with family and friends\, the 5K race offers an exciting opportunity to celebrate strength\, resilience\, and unity. Don’t miss your chance to make an impact while enjoying the scenic surroundings of Boerne. Sign up today and help us make this event a memorable one! \nThrough the link below you can register\, buy an optional T-shirt\, and add a donation if you’d like: https://runsignup.com/Race/TX/Boerne/JustALittle5K
URL:https://theboernelife.com/events/just-a-little-5k/
LOCATION:Boerne Main Plaza\, 100 N. Main Street\, Boerne\, TX\, 78006\, United States
CATEGORIES:Fundraiser,Health and Wellness
ATTACH;FMTTYPE=image/jpeg:https://theboernelife.com/wp-content/uploads/2025/10/555624603_10231409811973914_1079440679486963882_n.jpg
END:VEVENT
BEGIN:VEVENT
DTSTART;TZID=America/Chicago:20250927T073000
DTEND;TZID=America/Chicago:20250927T120000
DTSTAMP:20260424T051050
CREATED:20250819T225858Z
LAST-MODIFIED:20250819T225858Z
UID:10030367-1758958200-1758974400@theboernelife.com
SUMMARY:Diablo del Desperado Trail Race at Desperado Resort
DESCRIPTION:The Diablo del Desperado Trail Race brings grit\, heat\, and high reward to the rugged trails of the Texas Hill Country. Set for Saturday\, September 27\, with a 7:30 am start time\, this endurance challenge takes place at the private Desperado Resort\, located at 646 FM 474\, Boerne\, TX 78006. \nDesigned for runners who thrive in tough conditions\, the course offers 30K\, 10K\, and 5K options through rocky canyon trails\, steep ascents\, and winding single track terrain. Expect minimal shade and plenty of classic late-September Texas heat—hot\, humid\, and demanding. \nAid stations will be fully stocked with cold water\, electrolytes\, fuel\, and first aid to support runners along the course. At the finish line\, participants can cool off with a refreshing dip in the Guadalupe River\, located just steps away. \nAll finishers will receive a race shirt and a medal as a reward for conquering the course. \nSpectators are welcome but must purchase a $10 “Buddy Pass” in advance\, as the venue is private property. \nThis event is organized by I Run Texas. For registration and details\, visit the event’s official site or social media pages.
URL:https://theboernelife.com/events/diablo-del-desperado-trail-race-at-desperado-resort/
LOCATION:Desperado Resort\, 161 Fawn Dr\, Boerne\, TX\, 78006\, United States
CATEGORIES:Health and Wellness,Outdoors
ATTACH;FMTTYPE=image/jpeg:https://theboernelife.com/wp-content/uploads/2025/08/diablo-del-desperado-trail-race-at-desperado-resort.jpg
END:VEVENT
BEGIN:VEVENT
DTSTART;TZID=America/Chicago:20250920T083000
DTEND;TZID=America/Chicago:20250920T103000
DTSTAMP:20260424T051050
CREATED:20250602T222244Z
LAST-MODIFIED:20250602T222244Z
UID:10029378-1758357000-1758364200@theboernelife.com
SUMMARY:The GVTC Foundation Game Day 5K
DESCRIPTION:Sign up today for The GVTC Foundation‘s Game Day 5K taking place on Saturday\, September 20th! This will be an experience like no other at the Knibbe Ranch in Spring Branch. Running a 5K race in the Knibbe Ranch is a truly unique experience that you won’t find in the city. Come cheer on your favorite First Responders as they compete for department funding. Join the GVTC Foundation for food vendors\, cold drinks\, libations\, music\, outdoor games and more at the Knibbe Ranch after the completion of the 5K.$0.98 of every dollar raised goes to support our local nonprofits providing Health & Human Services\, Education\, Youth Programs\, Cultural Programs and Volunteer Emergency Services. Have a good time on the ranch while raising funds to support our community!Race Day Schedule:7AM Registration Opens8:00 Fun Stretch8:15 Announcements8:30 Race Starts9:30 Games Start – Local Volunteer Emergency Services competing for funding10:00 – 10:30 Awards & ConclusionREGISTER HERE: https://gvtc.com/foundation
URL:https://theboernelife.com/events/the-gvtc-foundation-game-day-5k/
LOCATION:Knibbe Ranch\, 9836 Spring Branch Rd\, Spring Branch\, 78070
CATEGORIES:Outdoors
ATTACH;FMTTYPE=image/jpeg:https://theboernelife.com/wp-content/uploads/2025/06/gameday-5k.jpg
END:VEVENT
BEGIN:VEVENT
DTSTART;TZID=America/Chicago:20250704T080000
DTEND;TZID=America/Chicago:20250704T120000
DTSTAMP:20260424T051050
CREATED:20250405T013351Z
LAST-MODIFIED:20250622T004914Z
UID:10027824-1751616000-1751630400@theboernelife.com
SUMMARY:Flag Run 5K at Boerne Main Plaza
DESCRIPTION:The 6th Annual Flag Run 5K returns to Boerne on Friday\, July 4\, 2025\, promoting patriotism through fitness in celebration of Independence Day. This family-friendly race invites participants of all ages to walk or run in honor of the red\, white\, and blue. \nThe race begins at 8:00 am at Main Plaza in downtown Boerne\, and early registration is recommended to secure your spot and guarantee a race shirt. Participants can expect a festive atmosphere filled with patriotic spirit\, community pride\, and post-race fun. \nPacket pickup and additional race details will be announced closer to the event date. Updates will be posted on the official registration site. \nMain Plaza is located at 100 N. Main Street\, Boerne\, TX 78006. \nTo register or learn more\, visit runsignup.com.
URL:https://theboernelife.com/events/flag-run-5k-at-boerne-main-plaza/
LOCATION:Boerne Main Plaza\, 100 N. Main Street\, Boerne\, TX\, 78006\, United States
CATEGORIES:Holiday,Outdoors
ATTACH;FMTTYPE=image/jpeg:https://theboernelife.com/wp-content/uploads/2025/04/flag-run-5k-at-boerne-main-plaza.jpg
END:VEVENT
BEGIN:VEVENT
DTSTART;TZID=America/Chicago:20250614T080000
DTEND;TZID=America/Chicago:20250614T090000
DTSTAMP:20260424T051050
CREATED:20250602T223216Z
LAST-MODIFIED:20250602T223216Z
UID:10029379-1749888000-1749891600@theboernelife.com
SUMMARY:BeLocal Run for Fun
DESCRIPTION:Lace up and join the Boerne community for a spirited start to Das Festival Saturday. Whether you run\, jog\, or walk\, this fun meet-up is the perfect way to kick off the festivities. The event is a casual 5K route that begins at the intersection of North Main Street and School Street in Boerne and loops through the scenic Number 9 Trail. Streets will be closed for this event\, creating a safe and enjoyable environment for everyone. \nThe run starts promptly at 8:15 am on Saturday\, June 14\, 2025. It’s not a race—just a great way to kick off the celebration with friends\, fitness\, and a little pre-parade cheer before the parade begins. This event is free to attend\, and participants are encouraged to bring their own water and be ready to have fun. Come out and join your neighbors for this unofficial but totally fun Boerne run! \nWhen: Saturday\, June 14\, 2025\, 8:15 am start\nWhere: Intersection of North Main Street and School Street\, Boerne\, TX\nHow much:  Free \nFor more details and the route map\, visit here.
URL:https://theboernelife.com/events/belocal-run-for-fun/
LOCATION:Hill Country Mile\, 100 North Main St.\, Boerne\, TX\, 78006\, United States
CATEGORIES:Outdoors
ATTACH;FMTTYPE=image/jpeg:https://theboernelife.com/wp-content/uploads/2025/06/belocal-run-for-fun.jpg
END:VEVENT
BEGIN:VEVENT
DTSTART;TZID=America/Chicago:20250607T090000
DTEND;TZID=America/Chicago:20250607T120000
DTSTAMP:20260424T051050
CREATED:20250605T203509Z
LAST-MODIFIED:20250613T011625Z
UID:10029383-1749286800-1749297600@theboernelife.com
SUMMARY:Celebrate Comfort Fun Run and Rally
DESCRIPTION:A rally is scheduled for JUNE 7th at Comfort Park. Join us as we advocate to our legislators that we are dedicated to preserving the quality of life in Texas Hill Country. \n\nThe Rally will commence with a 5K Fun Run/Walk themed around WATER. Participants are encouraged to incorporate elements related to WATER into their attire. A 5k-ish course has been mapped out that starts and ends at the Comfort Park Rally. Whether you are an experienced runner or simply seeking a fun outdoor activity\, this event promises to be enjoyable for all attendees. \n\nThe Comfort 590 project\, known as the Lennar development\, has applied for a wastewater permit to dump 600\,000 gallons a day into Comfort’s waterways. We oppose wastewater dumping. We oppose high-density development requiring as many water taps as all of Comfort has today. We do not oppose responsible development\, but we must find a way to SLOW THE ROLL. \nLennar has targeted vulnerable areas in the Texas Hill Country\, including Grey Forest with 2\,900 homes and daily discharge of 1\,000\,000 gallons\, and Broken Cedar Ranch in Comal County with daily discharge of 600\,000 gallons. Public attention is crucial to persuading Lennar to reconsider their plans. Grey Forest’s rally in February gained positive media coverage. Comfort Neighbors aims to build on that momentum with a rally at Comfort Park on Saturday\, June 7 called CELEBRATE COMFORT! \nThe park grounds will be open from 9 AM to NOON and will feature information booths\, native plants\, rain catchment\, kid games\, etc. Greater Edwards Aquifer Alliance\, Cow Creek Groundwater Conservation District\, Hill Country Alliance\, Upper Guadalupe River Authority and many more will be there to share information. Mid-morning will be a PROTECT OUR WATER news conference hosted by Kendall County Commissioner Chad Carpenter. \nREMINDER OF THE FACTS \nComfort has been in Stage 4 Drought Emergency since July 2023\, as determined by CCGCD based on (1) lack of rainfall\, (2) low waterway flow and (3) falling water table\nGuadalupe River is running approximately 10% of normal\, and this is rainy season\nCanyon Lake is down to 47%\nMedina Lake is bordering ‘dead pool’ status\nThe Trinity Aquifer has a very low recharge rate of less than 5%
URL:https://theboernelife.com/events/celebrate-comfort/
LOCATION:Comfort Park\, 446 Broadway\, Comfort\, TX\, 78013\, United States
CATEGORIES:General
ATTACH;FMTTYPE=image/png:https://theboernelife.com/wp-content/uploads/2025/06/Celebrate-Comfort-blue-background.png
ORGANIZER;CN="Comfort Neighbors":MAILTO:sherryhwalden@sbcglobal.net
END:VEVENT
BEGIN:VEVENT
DTSTART;TZID=America/Chicago:20250517T073000
DTEND;TZID=America/Chicago:20250517T120000
DTSTAMP:20260424T051050
CREATED:20250405T012457Z
LAST-MODIFIED:20250405T012712Z
UID:10027822-1747467000-1747483200@theboernelife.com
SUMMARY:Desperado Gravel Run & Ruck in Boerne
DESCRIPTION:The Desperado Gravel Run & Ruck returns to the rugged terrain of Boerne on Saturday\, May 17\, 2025. Hosted at the developing Desperado Resort property\, this unique endurance event features a variety of gravel runs and weighted ruck divisions across scenic and challenging trails. \nAll race categories begin at 7:30 am and take place on a mix of loose gravel roads and single-track trails. Participants can choose from the following events: \n\n20k Gravel Run – $65 through April 30; $75 after\n10k Gravel Run – $55 through April 30; $65 after\n5k Gravel Run – $45 through April 30; $55 after\n20k Ruck – $65 through April 30; $75 after\n10k Ruck – $55 through April 30; $65 after\n\nRuck participants must carry a weighted pack for the duration of their race. Those under 150 lbs must carry at least 20 lbs; those 150 lbs and over must carry at least 30 lbs. \nSpectators are welcome with the purchase of a $10 Buddy Pass\, which includes access to the resort property\, river\, post-race festivities\, and beverages for guests 21 and older. \nRegistration is available online through May 17. For full event details or to sign up\, visit RunSignup Event Page. \nLocation: Desperado Resort\, Boerne\, TX 78006\nContact: Visit event page for inquiries and registration.
URL:https://theboernelife.com/events/desperado-gravel-run-ruck-in-boerne/
LOCATION:Desperado Resort\, 161 Fawn Dr\, Boerne\, TX\, 78006\, United States
CATEGORIES:Outdoors
ATTACH;FMTTYPE=image/jpeg:https://theboernelife.com/wp-content/uploads/2025/04/desperado-gravel-run-and-ruck-in-boerne.jpg
END:VEVENT
BEGIN:VEVENT
DTSTART;TZID=America/Chicago:20250412T073000
DTEND;TZID=America/Chicago:20250412T100000
DTSTAMP:20260424T051050
CREATED:20250403T105638Z
LAST-MODIFIED:20250405T010413Z
UID:10027750-1744443000-1744452000@theboernelife.com
SUMMARY:Cibolo Creek Elementary School- Cub Crawl 5k
DESCRIPTION:Calling all runners and walkers! Join the Cibolo Creek Elementary school family for our second annual Cub Crawl 5K and Fun Run. Our Kids Fun Run is a fantastic opportunity for the little ones to join in the excitement of a run designed just for them. This non-competitive\, enjoyable event is all about promoting an active lifestyle while having a great time. The course is specially crafted with the safety and enjoyment of our youngest participants in mind\, as it is an out-and-back route\, making it the perfect introduction to the world of running. Parents are encouraged to run or walk with their children. \nJoin us for an exhilarating 5K run that promises not just a challenge for your body but an experience for your spirit. This event is designed for runners of all levels\, from seasoned athletes to those just starting their fitness journey. The scenic route will take you through picturesque landscapes\, offering a perfect blend of urban and natural surroundings. Whether you’re aiming for a personal best or simply enjoying a morning jog\, the 5K run promises a sense of accomplishment and camaraderie. We prefer that children 1st grade and younger do not run without supervision. \nLace-up your running shoes\, bring the whole family\, and make this event a day to remember! \nThe first 350 registered are guaranteed shirts and medals.
URL:https://theboernelife.com/events/cibolo-creek-elementary-school-cub-crawl-5k/
LOCATION:Cibolo Creek Elementary School\, 300 Herff Blvd\, Boerne\, 78006
CATEGORIES:Health and Wellness,Kids and Family,Outdoors,Sports
ATTACH;FMTTYPE=image/jpeg:https://theboernelife.com/wp-content/uploads/2025/03/IMG_4455.jpeg
ORGANIZER;CN="Cibolo Creek Elementary PTO":MAILTO:Ccescubcrawl@gmail.com
END:VEVENT
BEGIN:VEVENT
DTSTART;TZID=America/Chicago:20241214T080000
DTEND;TZID=America/Chicago:20241214T100000
DTSTAMP:20260424T051050
CREATED:20240827T111640Z
LAST-MODIFIED:20241028T212734Z
UID:10021829-1734163200-1734170400@theboernelife.com
SUMMARY:Jingle All the Way 5/10k Benefitting Transformation House
DESCRIPTION:Time to gear up for the 5th annual Jingle All the Way 5/10k and fun run! The family-friendly run had over 300 runners last year and this  year’s race should be even bigger. All of the proceeds from this event benefit the women and children at Transformation House. \nThis year’s race will begin and end at the beautiful Patrick Heath Amphitheater and follow a portion of the historic Old No. 9 trail. All participants will receive a medal\, and 5k and 10k participants who register by Nov 24th will be guaranteed a shirt. \nTransformation House provides women and children who have experienced trauma and abuse with the time and tools they need to reclaim and rebuild their lives. We provide transitional housing and support services such as therapy and case management. These dual-generation\, wrap-around services enable our families to create new lives free from abuse.
URL:https://theboernelife.com/events/jingle-all-the-way-5-10k-benefitting-transformation-house/
LOCATION:Patrick Heath Ampitheater\, 451 N. Main Street\, Boerne\, TX\, 78006\, United States
CATEGORIES:Health and Wellness,Holiday,Kids and Family
ATTACH;FMTTYPE=image/jpeg:https://theboernelife.com/wp-content/uploads/2024/08/Jingle-All-the-Way-5K-10K.jpg
ORGANIZER;CN="Transformation":MAILTO:taylor@transformation-house.org
END:VEVENT
BEGIN:VEVENT
DTSTART;TZID=America/Chicago:20241115T090000
DTEND;TZID=America/Chicago:20241115T100000
DTSTAMP:20260424T051050
CREATED:20241113T120026Z
LAST-MODIFIED:20241113T120026Z
UID:10023588-1731661200-1731664800@theboernelife.com
SUMMARY:Kids .5K with Boerne Momco at City Park
DESCRIPTION:oin Boerne MomCo and Fit4Mom for a fun-filled morning at the .5K Turkey Trot on Friday\, November 15\, at Boerne City Park. The event kicks off with a free Stroller Strides preview class from 9:00 to 9:30 a.m.\, followed by a warm-up trot for the little ones (ages walking to 6 years old) at 9:30 a.m. \nMedals will be awarded right after the race\, making it a memorable experience for the kids. It’s a great way for families to get active and enjoy the crisp fall air together. Don’t miss out—sign up through the provided link to secure your spot!
URL:https://theboernelife.com/events/kids-5k-with-boerne-momco-at-city-park/
LOCATION:Boerne City Park\, 106 City Park Road\, Boerne\, TX\, 78006\, United States
CATEGORIES:Kids and Family,Outdoors
ATTACH;FMTTYPE=image/jpeg:https://theboernelife.com/wp-content/uploads/2024/11/Home-on-the-Ranch-Holiday-Market-1.jpg
END:VEVENT
BEGIN:VEVENT
DTSTART;TZID=America/Chicago:20240914T070000
DTEND;TZID=America/Chicago:20240914T220000
DTSTAMP:20260424T051050
CREATED:20240904T104805Z
LAST-MODIFIED:20240913T124830Z
UID:10021929-1726297200-1726351200@theboernelife.com
SUMMARY:Back the Badge 5K
DESCRIPTION:The Saturday following September 11th is the BACK THE BADGE 5-K here in the Beautiful Texas Hill Country in Boerne Texas.\n\nLaw Enforcement Officers run for free with a special link available at registration. Departments can form teams to compete for a special award and bragging rights too!\n\nRace time is 7:30 a.m.\n\n\nSign up for the race here.
URL:https://theboernelife.com/events/back-the-badge-5k/
LOCATION:Kendall County Fairgrounds\, 1307 River Road\, Boerne\, TX\, 78006\, United States
CATEGORIES:Outdoors
ATTACH;FMTTYPE=image/jpeg:https://theboernelife.com/wp-content/uploads/2024/09/Where-to-Volunteer-in-Boerne-1.jpg
END:VEVENT
END:VCALENDAR