BEGIN:VCALENDAR
VERSION:2.0
PRODID:-//The Boerne Life - ECPv6.15.15//NONSGML v1.0//EN
CALSCALE:GREGORIAN
METHOD:PUBLISH
X-WR-CALNAME:The Boerne Life
X-ORIGINAL-URL:https://theboernelife.com
X-WR-CALDESC:Events for The Boerne Life
REFRESH-INTERVAL;VALUE=DURATION:PT1H
X-Robots-Tag:noindex
X-PUBLISHED-TTL:PT1H
BEGIN:VTIMEZONE
TZID:America/Chicago
BEGIN:DAYLIGHT
TZOFFSETFROM:-0600
TZOFFSETTO:-0500
TZNAME:CDT
DTSTART:20250309T080000
END:DAYLIGHT
BEGIN:STANDARD
TZOFFSETFROM:-0500
TZOFFSETTO:-0600
TZNAME:CST
DTSTART:20251102T070000
END:STANDARD
BEGIN:DAYLIGHT
TZOFFSETFROM:-0600
TZOFFSETTO:-0500
TZNAME:CDT
DTSTART:20260308T080000
END:DAYLIGHT
BEGIN:STANDARD
TZOFFSETFROM:-0500
TZOFFSETTO:-0600
TZNAME:CST
DTSTART:20261101T070000
END:STANDARD
BEGIN:DAYLIGHT
TZOFFSETFROM:-0600
TZOFFSETTO:-0500
TZNAME:CDT
DTSTART:20270314T080000
END:DAYLIGHT
BEGIN:STANDARD
TZOFFSETFROM:-0500
TZOFFSETTO:-0600
TZNAME:CST
DTSTART:20271107T070000
END:STANDARD
END:VTIMEZONE
BEGIN:VEVENT
DTSTART;TZID=America/Chicago:20260501T180000
DTEND;TZID=America/Chicago:20260501T190000
DTSTAMP:20260421T180342
CREATED:20240210T140554Z
LAST-MODIFIED:20251227T185940Z
UID:10033902-1777658400-1777662000@theboernelife.com
SUMMARY:First Friday Yoga
DESCRIPTION:Every first Friday of the month\, Janeen Castillo guides attendees through a soothing hour-long yoga session. Participants are advised to bring their own mats\, though a limited number are available for those without one. This complimentary class is accessible to everyone. While the class is free\, donations are accepted. \nThis event is held in the Community Room at the library.
URL:https://theboernelife.com/events/first-friday-yoga/2026-05-01/
LOCATION:Patrick Heath Public Library\, 451 N. Main Street\, Boerne\, TX\, 78006\, United States
CATEGORIES:Health and Wellness
ATTACH;FMTTYPE=image/jpeg:https://theboernelife.com/wp-content/uploads/2024/04/First-Friday-Yoga.jpg
END:VEVENT
BEGIN:VEVENT
DTSTART;TZID=America/Chicago:20260605T180000
DTEND;TZID=America/Chicago:20260605T190000
DTSTAMP:20260421T180342
CREATED:20240210T140554Z
LAST-MODIFIED:20251227T185940Z
UID:10033903-1780682400-1780686000@theboernelife.com
SUMMARY:First Friday Yoga
DESCRIPTION:Every first Friday of the month\, Janeen Castillo guides attendees through a soothing hour-long yoga session. Participants are advised to bring their own mats\, though a limited number are available for those without one. This complimentary class is accessible to everyone. While the class is free\, donations are accepted. \nThis event is held in the Community Room at the library.
URL:https://theboernelife.com/events/first-friday-yoga/2026-06-05/
LOCATION:Patrick Heath Public Library\, 451 N. Main Street\, Boerne\, TX\, 78006\, United States
CATEGORIES:Health and Wellness
ATTACH;FMTTYPE=image/jpeg:https://theboernelife.com/wp-content/uploads/2024/04/First-Friday-Yoga.jpg
END:VEVENT
BEGIN:VEVENT
DTSTART;TZID=America/Chicago:20260703T180000
DTEND;TZID=America/Chicago:20260703T190000
DTSTAMP:20260421T180342
CREATED:20240210T140554Z
LAST-MODIFIED:20251227T185940Z
UID:10033904-1783101600-1783105200@theboernelife.com
SUMMARY:First Friday Yoga
DESCRIPTION:Every first Friday of the month\, Janeen Castillo guides attendees through a soothing hour-long yoga session. Participants are advised to bring their own mats\, though a limited number are available for those without one. This complimentary class is accessible to everyone. While the class is free\, donations are accepted. \nThis event is held in the Community Room at the library.
URL:https://theboernelife.com/events/first-friday-yoga/2026-07-03/
LOCATION:Patrick Heath Public Library\, 451 N. Main Street\, Boerne\, TX\, 78006\, United States
CATEGORIES:Health and Wellness
ATTACH;FMTTYPE=image/jpeg:https://theboernelife.com/wp-content/uploads/2024/04/First-Friday-Yoga.jpg
END:VEVENT
BEGIN:VEVENT
DTSTART;TZID=America/Chicago:20260807T180000
DTEND;TZID=America/Chicago:20260807T190000
DTSTAMP:20260421T180342
CREATED:20240210T140554Z
LAST-MODIFIED:20251227T185940Z
UID:10033905-1786125600-1786129200@theboernelife.com
SUMMARY:First Friday Yoga
DESCRIPTION:Every first Friday of the month\, Janeen Castillo guides attendees through a soothing hour-long yoga session. Participants are advised to bring their own mats\, though a limited number are available for those without one. This complimentary class is accessible to everyone. While the class is free\, donations are accepted. \nThis event is held in the Community Room at the library.
URL:https://theboernelife.com/events/first-friday-yoga/2026-08-07/
LOCATION:Patrick Heath Public Library\, 451 N. Main Street\, Boerne\, TX\, 78006\, United States
CATEGORIES:Health and Wellness
ATTACH;FMTTYPE=image/jpeg:https://theboernelife.com/wp-content/uploads/2024/04/First-Friday-Yoga.jpg
END:VEVENT
BEGIN:VEVENT
DTSTART;TZID=America/Chicago:20260904T180000
DTEND;TZID=America/Chicago:20260904T190000
DTSTAMP:20260421T180342
CREATED:20240210T140554Z
LAST-MODIFIED:20251227T185940Z
UID:10033906-1788544800-1788548400@theboernelife.com
SUMMARY:First Friday Yoga
DESCRIPTION:Every first Friday of the month\, Janeen Castillo guides attendees through a soothing hour-long yoga session. Participants are advised to bring their own mats\, though a limited number are available for those without one. This complimentary class is accessible to everyone. While the class is free\, donations are accepted. \nThis event is held in the Community Room at the library.
URL:https://theboernelife.com/events/first-friday-yoga/2026-09-04/
LOCATION:Patrick Heath Public Library\, 451 N. Main Street\, Boerne\, TX\, 78006\, United States
CATEGORIES:Health and Wellness
ATTACH;FMTTYPE=image/jpeg:https://theboernelife.com/wp-content/uploads/2024/04/First-Friday-Yoga.jpg
END:VEVENT
BEGIN:VEVENT
DTSTART;TZID=America/Chicago:20261002T180000
DTEND;TZID=America/Chicago:20261002T190000
DTSTAMP:20260421T180342
CREATED:20240210T140554Z
LAST-MODIFIED:20251227T185940Z
UID:10033907-1790964000-1790967600@theboernelife.com
SUMMARY:First Friday Yoga
DESCRIPTION:Every first Friday of the month\, Janeen Castillo guides attendees through a soothing hour-long yoga session. Participants are advised to bring their own mats\, though a limited number are available for those without one. This complimentary class is accessible to everyone. While the class is free\, donations are accepted. \nThis event is held in the Community Room at the library.
URL:https://theboernelife.com/events/first-friday-yoga/2026-10-02/
LOCATION:Patrick Heath Public Library\, 451 N. Main Street\, Boerne\, TX\, 78006\, United States
CATEGORIES:Health and Wellness
ATTACH;FMTTYPE=image/jpeg:https://theboernelife.com/wp-content/uploads/2024/04/First-Friday-Yoga.jpg
END:VEVENT
BEGIN:VEVENT
DTSTART;TZID=America/Chicago:20261106T180000
DTEND;TZID=America/Chicago:20261106T190000
DTSTAMP:20260421T180342
CREATED:20240210T140554Z
LAST-MODIFIED:20251227T185940Z
UID:10033908-1793988000-1793991600@theboernelife.com
SUMMARY:First Friday Yoga
DESCRIPTION:Every first Friday of the month\, Janeen Castillo guides attendees through a soothing hour-long yoga session. Participants are advised to bring their own mats\, though a limited number are available for those without one. This complimentary class is accessible to everyone. While the class is free\, donations are accepted. \nThis event is held in the Community Room at the library.
URL:https://theboernelife.com/events/first-friday-yoga/2026-11-06/
LOCATION:Patrick Heath Public Library\, 451 N. Main Street\, Boerne\, TX\, 78006\, United States
CATEGORIES:Health and Wellness
ATTACH;FMTTYPE=image/jpeg:https://theboernelife.com/wp-content/uploads/2024/04/First-Friday-Yoga.jpg
END:VEVENT
BEGIN:VEVENT
DTSTART;TZID=America/Chicago:20261204T180000
DTEND;TZID=America/Chicago:20261204T190000
DTSTAMP:20260421T180342
CREATED:20240210T140554Z
LAST-MODIFIED:20251227T185940Z
UID:10033909-1796407200-1796410800@theboernelife.com
SUMMARY:First Friday Yoga
DESCRIPTION:Every first Friday of the month\, Janeen Castillo guides attendees through a soothing hour-long yoga session. Participants are advised to bring their own mats\, though a limited number are available for those without one. This complimentary class is accessible to everyone. While the class is free\, donations are accepted. \nThis event is held in the Community Room at the library.
URL:https://theboernelife.com/events/first-friday-yoga/2026-12-04/
LOCATION:Patrick Heath Public Library\, 451 N. Main Street\, Boerne\, TX\, 78006\, United States
CATEGORIES:Health and Wellness
ATTACH;FMTTYPE=image/jpeg:https://theboernelife.com/wp-content/uploads/2024/04/First-Friday-Yoga.jpg
END:VEVENT
END:VCALENDAR