BEGIN:VCALENDAR
VERSION:2.0
PRODID:-//The Boerne Life - ECPv6.15.15//NONSGML v1.0//EN
CALSCALE:GREGORIAN
METHOD:PUBLISH
X-WR-CALNAME:The Boerne Life
X-ORIGINAL-URL:https://theboernelife.com
X-WR-CALDESC:Events for The Boerne Life
REFRESH-INTERVAL;VALUE=DURATION:PT1H
X-Robots-Tag:noindex
X-PUBLISHED-TTL:PT1H
BEGIN:VTIMEZONE
TZID:America/Chicago
BEGIN:DAYLIGHT
TZOFFSETFROM:-0600
TZOFFSETTO:-0500
TZNAME:CDT
DTSTART:20240310T080000
END:DAYLIGHT
BEGIN:STANDARD
TZOFFSETFROM:-0500
TZOFFSETTO:-0600
TZNAME:CST
DTSTART:20241103T070000
END:STANDARD
BEGIN:DAYLIGHT
TZOFFSETFROM:-0600
TZOFFSETTO:-0500
TZNAME:CDT
DTSTART:20250309T080000
END:DAYLIGHT
BEGIN:STANDARD
TZOFFSETFROM:-0500
TZOFFSETTO:-0600
TZNAME:CST
DTSTART:20251102T070000
END:STANDARD
BEGIN:DAYLIGHT
TZOFFSETFROM:-0600
TZOFFSETTO:-0500
TZNAME:CDT
DTSTART:20260308T080000
END:DAYLIGHT
BEGIN:STANDARD
TZOFFSETFROM:-0500
TZOFFSETTO:-0600
TZNAME:CST
DTSTART:20261101T070000
END:STANDARD
END:VTIMEZONE
BEGIN:VEVENT
DTSTART;TZID=America/Chicago:20251222T130000
DTEND;TZID=America/Chicago:20251222T160000
DTSTAMP:20260422T044146
CREATED:20251208T044020Z
LAST-MODIFIED:20251208T044020Z
UID:10033744-1766408400-1766419200@theboernelife.com
SUMMARY:Kids Holiday Camp at The Little Gym Boerne
DESCRIPTION:The Little Gym Boerne will offer a Kids Holiday Camp with an afternoon of active fun\, games\, and seasonal crafts during winter break. Campers will rotate through skill stations and holiday-themed activities\, enjoy a craft project\, and have a snack included as part of the experience. Kids Holiday Camp will take place on December 22 and December 23 from 1 pm to 4 pm at The Little Gym Boerne\, located at 1433 S Main Street Ste 101\, Boerne\, TX 78006. \nCost is $40 per day\, with discounts available for members. Space is limited\, and families are encouraged to reserve a spot in advance. For registration details\, call 830-375-1542.
URL:https://theboernelife.com/events/kids-holiday-camp-at-the-little-gym-boerne/2025-12-22/
LOCATION:TX
CATEGORIES:Holiday,Kids and Family
ATTACH;FMTTYPE=image/jpeg:https://theboernelife.com/wp-content/uploads/2025/12/kids-holiday-camp-at-the-little-gym-boerne.jpg
END:VEVENT
BEGIN:VEVENT
DTSTART;TZID=America/Chicago:20251223T130000
DTEND;TZID=America/Chicago:20251223T160000
DTSTAMP:20260422T044146
CREATED:20251208T044020Z
LAST-MODIFIED:20251208T044020Z
UID:10033745-1766494800-1766505600@theboernelife.com
SUMMARY:Kids Holiday Camp at The Little Gym Boerne
DESCRIPTION:The Little Gym Boerne will offer a Kids Holiday Camp with an afternoon of active fun\, games\, and seasonal crafts during winter break. Campers will rotate through skill stations and holiday-themed activities\, enjoy a craft project\, and have a snack included as part of the experience. Kids Holiday Camp will take place on December 22 and December 23 from 1 pm to 4 pm at The Little Gym Boerne\, located at 1433 S Main Street Ste 101\, Boerne\, TX 78006. \nCost is $40 per day\, with discounts available for members. Space is limited\, and families are encouraged to reserve a spot in advance. For registration details\, call 830-375-1542.
URL:https://theboernelife.com/events/kids-holiday-camp-at-the-little-gym-boerne/2025-12-23/
LOCATION:TX
CATEGORIES:Holiday,Kids and Family
ATTACH;FMTTYPE=image/jpeg:https://theboernelife.com/wp-content/uploads/2025/12/kids-holiday-camp-at-the-little-gym-boerne.jpg
END:VEVENT
BEGIN:VEVENT
DTSTART;TZID=America/Chicago:20251224T173000
DTEND;TZID=America/Chicago:20251224T203000
DTSTAMP:20260422T044146
CREATED:20250923T035915Z
LAST-MODIFIED:20250923T035915Z
UID:10032521-1766597400-1766608200@theboernelife.com
SUMMARY:Game Knight at Cooper's Kingdom
DESCRIPTION:Game enthusiasts are invited to an evening of tabletop fun during Game Knight at Cooper’s Kingdom\, held every Wednesday at 5:30 pm. Players can enjoy access to dice\, games\, pencils\, and paper in a welcoming and competitive atmosphere designed for all experience levels. \nParticipants are encouraged to bring their own food and drinks\, along with a $5 entry fee to join the evening’s festivities. Whether you’re strategizing with friends or making new ones\, this midweek game night promises lively entertainment in a community setting. \nGame Knight takes place at Cooper’s Kingdom\, located at 129 Old San Antonio Road\, Boerne\, Texas.
URL:https://theboernelife.com/events/game-knight-at-coopers-kingdom/2025-12-24/
LOCATION:Cooper’s Kingdom Indoor Mini-Golf\, 129 Old San Antonio Rd\, Boerne\, TX\, 78006\, United States
CATEGORIES:General
ATTACH;FMTTYPE=image/jpeg:https://theboernelife.com/wp-content/uploads/2025/09/game-knight-at-coopers-kingdom.jpg
END:VEVENT
BEGIN:VEVENT
DTSTART;TZID=America/Chicago:20251224T180000
DTEND;TZID=America/Chicago:20251224T200000
DTSTAMP:20260422T044146
CREATED:20251208T050900Z
LAST-MODIFIED:20251208T050900Z
UID:10033751-1766599200-1766606400@theboernelife.com
SUMMARY:Wednesday Music Bingo at Lost Oak Cellars
DESCRIPTION:Lost Oak Cellars will host Wednesday Music Bingo\, a weekly event that blends the classic game of bingo with an upbeat music twist. Instead of calling numbers\, the host plays short song clips and guests mark matching titles on their bingo cards\, making it an easy\, fast-paced game for both music lovers and anyone looking for a fun night out. Music Bingo takes place every Wednesday from 6 pm to 8 pm at Lost Oak Cellars\, located at 111 Rosewood Avenue\, Boerne\, TX 78006. \nAdmission is free and no reservations are required. Guests can enjoy Lost Oak wines throughout the evening\, and charcuterie boards and light bites from the menu will be available for purchase. Winners can expect prizes each round\, creating a lively midweek outing that works well for groups\, casual date nights\, or an after-work meet-up.
URL:https://theboernelife.com/events/wednesday-music-bingo-at-lost-oak-cellars/2025-12-24/
LOCATION:Lost Oak Cellars\, 111 Rosewood Ave\, Boerne\, TX\, 78006\, United States
CATEGORIES:Music
ATTACH;FMTTYPE=image/jpeg:https://theboernelife.com/wp-content/uploads/2025/12/wednesday-music-bingo-at-lost-oak-cellars.jpg
END:VEVENT
END:VCALENDAR