BEGIN:VCALENDAR
VERSION:2.0
PRODID:-//The Boerne Life - ECPv6.15.15//NONSGML v1.0//EN
CALSCALE:GREGORIAN
METHOD:PUBLISH
X-ORIGINAL-URL:https://theboernelife.com
X-WR-CALDESC:Events for The Boerne Life
REFRESH-INTERVAL;VALUE=DURATION:PT1H
X-Robots-Tag:noindex
X-PUBLISHED-TTL:PT1H
BEGIN:VTIMEZONE
TZID:America/Chicago
BEGIN:DAYLIGHT
TZOFFSETFROM:-0600
TZOFFSETTO:-0500
TZNAME:CDT
DTSTART:20250309T080000
END:DAYLIGHT
BEGIN:STANDARD
TZOFFSETFROM:-0500
TZOFFSETTO:-0600
TZNAME:CST
DTSTART:20251102T070000
END:STANDARD
BEGIN:DAYLIGHT
TZOFFSETFROM:-0600
TZOFFSETTO:-0500
TZNAME:CDT
DTSTART:20260308T080000
END:DAYLIGHT
BEGIN:STANDARD
TZOFFSETFROM:-0500
TZOFFSETTO:-0600
TZNAME:CST
DTSTART:20261101T070000
END:STANDARD
BEGIN:DAYLIGHT
TZOFFSETFROM:-0600
TZOFFSETTO:-0500
TZNAME:CDT
DTSTART:20270314T080000
END:DAYLIGHT
BEGIN:STANDARD
TZOFFSETFROM:-0500
TZOFFSETTO:-0600
TZNAME:CST
DTSTART:20271107T070000
END:STANDARD
END:VTIMEZONE
BEGIN:VEVENT
DTSTART;TZID=America/Chicago:20260314T120000
DTEND;TZID=America/Chicago:20260314T140000
DTSTAMP:20260424T121131
CREATED:20260203T132959Z
LAST-MODIFIED:20260204T001448Z
UID:10034768-1773489600-1773496800@theboernelife.com
SUMMARY:Cruisin for a Cause Car Show
DESCRIPTION:Cruisin for a Cause Car Show benefitting the American Heart Association\nFree to the public
URL:https://theboernelife.com/events/cruisin-for-a-cause-car-show/
LOCATION:Fair Oaks Emergency Room\, 27638 I-10W\, Boerne\, TX\, 78006\, United States
CATEGORIES:Fundraiser
ATTACH;FMTTYPE=image/png:https://theboernelife.com/wp-content/uploads/2026/02/4097723773386015734.png
ORGANIZER;CN="American Heart Association":MAILTO:Madeleine.Ebeling@gmail.com
END:VEVENT
END:VCALENDAR