BEGIN:VCALENDAR
VERSION:2.0
PRODID:-//The Boerne Life - ECPv6.15.15//NONSGML v1.0//EN
CALSCALE:GREGORIAN
METHOD:PUBLISH
X-ORIGINAL-URL:https://theboernelife.com
X-WR-CALDESC:Events for The Boerne Life
REFRESH-INTERVAL;VALUE=DURATION:PT1H
X-Robots-Tag:noindex
X-PUBLISHED-TTL:PT1H
BEGIN:VTIMEZONE
TZID:America/Chicago
BEGIN:DAYLIGHT
TZOFFSETFROM:-0600
TZOFFSETTO:-0500
TZNAME:CDT
DTSTART:20230312T080000
END:DAYLIGHT
BEGIN:STANDARD
TZOFFSETFROM:-0500
TZOFFSETTO:-0600
TZNAME:CST
DTSTART:20231105T070000
END:STANDARD
BEGIN:DAYLIGHT
TZOFFSETFROM:-0600
TZOFFSETTO:-0500
TZNAME:CDT
DTSTART:20240310T080000
END:DAYLIGHT
BEGIN:STANDARD
TZOFFSETFROM:-0500
TZOFFSETTO:-0600
TZNAME:CST
DTSTART:20241103T070000
END:STANDARD
BEGIN:DAYLIGHT
TZOFFSETFROM:-0600
TZOFFSETTO:-0500
TZNAME:CDT
DTSTART:20250309T080000
END:DAYLIGHT
BEGIN:STANDARD
TZOFFSETFROM:-0500
TZOFFSETTO:-0600
TZNAME:CST
DTSTART:20251102T070000
END:STANDARD
END:VTIMEZONE
BEGIN:VEVENT
DTSTART;TZID=America/Chicago:20241119T100000
DTEND;TZID=America/Chicago:20241119T110000
DTSTAMP:20260421T004817
CREATED:20241023T112235Z
LAST-MODIFIED:20241118T115557Z
UID:10022760-1732010400-1732014000@theboernelife.com
SUMMARY:Free Stroller Strides Class
DESCRIPTION:Join Fit4Mom Stone Oak/Bulverde/Boerne for a special Stroller Strides class and food drive at Pure Country BBQ on Tuesday\, November 19. Bring a canned good or non-perishable item to donate and receive a free Stroller Strides class from 10 a.m. to 11 a.m.\, followed by lunch at 11 a.m. \nIt’s a great way to get active\, support a good cause\, and enjoy some quality time with other families. Don’t miss this chance to give back and take part in a fun\, fitness-filled morning at Pure Country BBQ!
URL:https://theboernelife.com/events/free-stroller-strides-class/
LOCATION:Pure Country BBQ & Grill\, 1481 S Main St\, Boerne\, TX\, 78006\, United States
CATEGORIES:Health and Wellness,Kids and Family,Women
ATTACH;FMTTYPE=image/jpeg:https://theboernelife.com/wp-content/uploads/2024/10/Stroller-Workout.jpg
END:VEVENT
END:VCALENDAR