BEGIN:VCALENDAR
VERSION:2.0
PRODID:-//The Boerne Life - ECPv6.15.15//NONSGML v1.0//EN
CALSCALE:GREGORIAN
METHOD:PUBLISH
X-WR-CALNAME:The Boerne Life
X-ORIGINAL-URL:https://theboernelife.com
X-WR-CALDESC:Events for The Boerne Life
REFRESH-INTERVAL;VALUE=DURATION:PT1H
X-Robots-Tag:noindex
X-PUBLISHED-TTL:PT1H
BEGIN:VTIMEZONE
TZID:America/Chicago
BEGIN:DAYLIGHT
TZOFFSETFROM:-0600
TZOFFSETTO:-0500
TZNAME:CDT
DTSTART:20250309T080000
END:DAYLIGHT
BEGIN:STANDARD
TZOFFSETFROM:-0500
TZOFFSETTO:-0600
TZNAME:CST
DTSTART:20251102T070000
END:STANDARD
BEGIN:DAYLIGHT
TZOFFSETFROM:-0600
TZOFFSETTO:-0500
TZNAME:CDT
DTSTART:20260308T080000
END:DAYLIGHT
BEGIN:STANDARD
TZOFFSETFROM:-0500
TZOFFSETTO:-0600
TZNAME:CST
DTSTART:20261101T070000
END:STANDARD
BEGIN:DAYLIGHT
TZOFFSETFROM:-0600
TZOFFSETTO:-0500
TZNAME:CDT
DTSTART:20270314T080000
END:DAYLIGHT
BEGIN:STANDARD
TZOFFSETFROM:-0500
TZOFFSETTO:-0600
TZNAME:CST
DTSTART:20271107T070000
END:STANDARD
END:VTIMEZONE
BEGIN:VEVENT
DTSTART;TZID=America/Chicago:20260207T110000
DTEND;TZID=America/Chicago:20260207T160000
DTSTAMP:20260419T161705
CREATED:20260203T004536Z
LAST-MODIFIED:20260203T004536Z
UID:10034767-1770462000-1770480000@theboernelife.com
SUMMARY:Branded J One-Year Anniversary Celebration at Branded J
DESCRIPTION:A milestone moment on Main Street marks one year of Branded J in downtown Boerne with a special in-store anniversary celebration. The event highlights the shop’s first year at its Main Street location and offers guests a chance to enjoy a relaxed afternoon of shopping paired with exclusive savings\, special surprises\, and complimentary sips and snacks. \nThe celebration takes place on Saturday\, February 7\, from 11 am to 4 pm at Branded J\, located at 248 N Main Street\, Boerne\, TX 78006. In addition to anniversary specials and giveaways\, the event will also feature the debut of a new addition to the Branded J experience\, making this a first look opportunity for shoppers and longtime supporters. Admission is free\, and guests are welcome to stop by at any point during the event hours.
URL:https://theboernelife.com/events/branded-j-one-year-anniversary-celebration-at-branded-j/
LOCATION:Branded J Boutique\, 248 N Main Street\, Boerne\, TX\, 78006\, United States
CATEGORIES:Shopping
ATTACH;FMTTYPE=image/jpeg:https://theboernelife.com/wp-content/uploads/2026/02/branded-j-one-year-anniversary-celebration-at-branded-j.jpg
END:VEVENT
END:VCALENDAR