BEGIN:VCALENDAR
VERSION:2.0
PRODID:-//The Boerne Life - ECPv6.15.15//NONSGML v1.0//EN
CALSCALE:GREGORIAN
METHOD:PUBLISH
X-ORIGINAL-URL:https://theboernelife.com
X-WR-CALDESC:Events for The Boerne Life
REFRESH-INTERVAL;VALUE=DURATION:PT1H
X-Robots-Tag:noindex
X-PUBLISHED-TTL:PT1H
BEGIN:VTIMEZONE
TZID:America/Chicago
BEGIN:DAYLIGHT
TZOFFSETFROM:-0600
TZOFFSETTO:-0500
TZNAME:CDT
DTSTART:20230312T080000
END:DAYLIGHT
BEGIN:STANDARD
TZOFFSETFROM:-0500
TZOFFSETTO:-0600
TZNAME:CST
DTSTART:20231105T070000
END:STANDARD
BEGIN:DAYLIGHT
TZOFFSETFROM:-0600
TZOFFSETTO:-0500
TZNAME:CDT
DTSTART:20240310T080000
END:DAYLIGHT
BEGIN:STANDARD
TZOFFSETFROM:-0500
TZOFFSETTO:-0600
TZNAME:CST
DTSTART:20241103T070000
END:STANDARD
BEGIN:DAYLIGHT
TZOFFSETFROM:-0600
TZOFFSETTO:-0500
TZNAME:CDT
DTSTART:20250309T080000
END:DAYLIGHT
BEGIN:STANDARD
TZOFFSETFROM:-0500
TZOFFSETTO:-0600
TZNAME:CST
DTSTART:20251102T070000
END:STANDARD
END:VTIMEZONE
BEGIN:VEVENT
DTSTART;TZID=America/Chicago:20241121T180000
DTEND;TZID=America/Chicago:20241121T193000
DTSTAMP:20260420T025643
CREATED:20241120T072926Z
LAST-MODIFIED:20241120T115929Z
UID:10024038-1732212000-1732217400@theboernelife.com
SUMMARY:Holiday Tamale Free Sample Kick-Off at Chilito's Tamales
DESCRIPTION:Kick off the holiday season with Chilito’s Tamales and enjoy free samples of their delicious tamales. Join this festive event\, where you can taste some of the best tamales around and sip on refreshing cold beer on tap. \nCome hang out with friends\, savor incredible flavors\, and celebrate the start of the holiday season in a warm and welcoming atmosphere. Don’t miss out on this tasty opportunity to enjoy great food and drinks!
URL:https://theboernelife.com/events/holiday-tamale-free-sample-kick-off-at-chilitos-tamales/
LOCATION:Chilito’s Express\, 826 Johns Rd\, Boerne\, TX\, 78006\, United States
CATEGORIES:Food and Drink,Holiday
ATTACH;FMTTYPE=image/jpeg:https://theboernelife.com/wp-content/uploads/2024/11/holiday-tamale-free-sample-kickoff-at-chilitos-tamales.jpg
END:VEVENT
END:VCALENDAR