BEGIN:VCALENDAR
VERSION:2.0
PRODID:-//The Boerne Life - ECPv6.15.15//NONSGML v1.0//EN
CALSCALE:GREGORIAN
METHOD:PUBLISH
X-ORIGINAL-URL:https://theboernelife.com
X-WR-CALDESC:Events for The Boerne Life
REFRESH-INTERVAL;VALUE=DURATION:PT1H
X-Robots-Tag:noindex
X-PUBLISHED-TTL:PT1H
BEGIN:VTIMEZONE
TZID:America/Chicago
BEGIN:DAYLIGHT
TZOFFSETFROM:-0600
TZOFFSETTO:-0500
TZNAME:CDT
DTSTART:20250309T080000
END:DAYLIGHT
BEGIN:STANDARD
TZOFFSETFROM:-0500
TZOFFSETTO:-0600
TZNAME:CST
DTSTART:20251102T070000
END:STANDARD
BEGIN:DAYLIGHT
TZOFFSETFROM:-0600
TZOFFSETTO:-0500
TZNAME:CDT
DTSTART:20260308T080000
END:DAYLIGHT
BEGIN:STANDARD
TZOFFSETFROM:-0500
TZOFFSETTO:-0600
TZNAME:CST
DTSTART:20261101T070000
END:STANDARD
BEGIN:DAYLIGHT
TZOFFSETFROM:-0600
TZOFFSETTO:-0500
TZNAME:CDT
DTSTART:20270314T080000
END:DAYLIGHT
BEGIN:STANDARD
TZOFFSETFROM:-0500
TZOFFSETTO:-0600
TZNAME:CST
DTSTART:20271107T070000
END:STANDARD
END:VTIMEZONE
BEGIN:VEVENT
DTSTART;TZID=America/Chicago:20260507T090000
DTEND;TZID=America/Chicago:20260507T160000
DTSTAMP:20260424T093823
CREATED:20260415T003455Z
LAST-MODIFIED:20260415T003615Z
UID:10037591-1778144400-1778169600@theboernelife.com
SUMMARY:Mom’s & Marg’s at Enrich Health and Wellness
DESCRIPTION:Mom’s & Marg’s offers a come-and-go event focused on skincare\, wellness treatments\, and special savings at Enrich Health and Wellness. The event will take place on May 7 from 9 am to 4 pm at 27650 I-10 W\, Ste 201\, Boerne\, TX 78006. \nGuests can take advantage of a variety of discounted services and treatments throughout the day\, including 30 percent off ZO skincare and esthetic services\, $9 per unit for tox treatments with the option to bank units\, and $5 MIC/B12 injections. Additional offers include buy-two-get-one-free promotions on dermal fillers for facial balancing and Sculptra treatments. \nThis event provides an opportunity to explore aesthetic services and wellness options in a relaxed setting\, with flexible arrival times throughout the day. For more information\, contact 830-240-2540.
URL:https://theboernelife.com/events/moms-margs-at-enrich-health-and-wellness/
LOCATION:Enrich Health & Wellness\, 27650 I-10 Suite 201\, Boerne\, TX\, 78006\, United States
CATEGORIES:Health and Wellness
ATTACH;FMTTYPE=image/jpeg:https://theboernelife.com/wp-content/uploads/2026/04/moms-and-margs-at-enrich-health-and-wellness.jpg
END:VEVENT
END:VCALENDAR