BEGIN:VCALENDAR
VERSION:2.0
PRODID:-//The Boerne Life - ECPv6.15.15//NONSGML v1.0//EN
CALSCALE:GREGORIAN
METHOD:PUBLISH
X-WR-CALNAME:The Boerne Life
X-ORIGINAL-URL:https://theboernelife.com
X-WR-CALDESC:Events for The Boerne Life
REFRESH-INTERVAL;VALUE=DURATION:PT1H
X-Robots-Tag:noindex
X-PUBLISHED-TTL:PT1H
BEGIN:VTIMEZONE
TZID:America/Chicago
BEGIN:DAYLIGHT
TZOFFSETFROM:-0600
TZOFFSETTO:-0500
TZNAME:CDT
DTSTART:20250309T080000
END:DAYLIGHT
BEGIN:STANDARD
TZOFFSETFROM:-0500
TZOFFSETTO:-0600
TZNAME:CST
DTSTART:20251102T070000
END:STANDARD
BEGIN:DAYLIGHT
TZOFFSETFROM:-0600
TZOFFSETTO:-0500
TZNAME:CDT
DTSTART:20260308T080000
END:DAYLIGHT
BEGIN:STANDARD
TZOFFSETFROM:-0500
TZOFFSETTO:-0600
TZNAME:CST
DTSTART:20261101T070000
END:STANDARD
BEGIN:DAYLIGHT
TZOFFSETFROM:-0600
TZOFFSETTO:-0500
TZNAME:CDT
DTSTART:20270314T080000
END:DAYLIGHT
BEGIN:STANDARD
TZOFFSETFROM:-0500
TZOFFSETTO:-0600
TZNAME:CST
DTSTART:20271107T070000
END:STANDARD
END:VTIMEZONE
BEGIN:VEVENT
DTSTART;TZID=America/Chicago:20260320T130000
DTEND;TZID=America/Chicago:20260320T153000
DTSTAMP:20260419T085909
CREATED:20260213T215519Z
LAST-MODIFIED:20260216T022302Z
UID:10034751-1774011600-1774020600@theboernelife.com
SUMMARY:Knife Skills Cooking Class
DESCRIPTION:Kiss the Cook is honored to have our Wusthof Representative\, Jessica\, return for another knife skills class. We are offering two classes\, but can open that to three classes\, if needed. Each class accommodates 10 participants. Each class will be given a Wusthof apron and an opportunity to win a Wusthof product. The class focuses on learning all about your knives\, knowing the best knives for certain tasks and the best practices to help your blades stay sharp for longer. A simple dish will be prepared in learning these skills and can be enjoyed at the end of the class.
URL:https://theboernelife.com/events/knife-skills-cooking-class/2026-03-20/2/
LOCATION:Kiss the Cook\, 113 West Theissen\, Boerne\, TX\, 78006\, United States
ATTACH;FMTTYPE=image/jpeg:https://theboernelife.com/wp-content/uploads/2026/02/Screenshot_20260130_115800_Facebook.jpeg
END:VEVENT
BEGIN:VEVENT
DTSTART;TZID=America/Chicago:20260320T110000
DTEND;TZID=America/Chicago:20260320T123000
DTSTAMP:20260419T085909
CREATED:20260213T215519Z
LAST-MODIFIED:20260216T022302Z
UID:10034750-1774004400-1774009800@theboernelife.com
SUMMARY:Knife Skills Cooking Class
DESCRIPTION:Kiss the Cook is honored to have our Wusthof Representative\, Jessica\, return for another knife skills class. We are offering two classes\, but can open that to three classes\, if needed. Each class accommodates 10 participants. Each class will be given a Wusthof apron and an opportunity to win a Wusthof product. The class focuses on learning all about your knives\, knowing the best knives for certain tasks and the best practices to help your blades stay sharp for longer. A simple dish will be prepared in learning these skills and can be enjoyed at the end of the class.
URL:https://theboernelife.com/events/knife-skills-cooking-class/2026-03-20/1/
LOCATION:Kiss the Cook\, 113 West Theissen\, Boerne\, TX\, 78006\, United States
ATTACH;FMTTYPE=image/jpeg:https://theboernelife.com/wp-content/uploads/2026/02/Screenshot_20260130_115800_Facebook.jpeg
END:VEVENT
END:VCALENDAR