BEGIN:VCALENDAR
VERSION:2.0
PRODID:-//The Boerne Life - ECPv6.15.15//NONSGML v1.0//EN
CALSCALE:GREGORIAN
METHOD:PUBLISH
X-ORIGINAL-URL:https://theboernelife.com
X-WR-CALDESC:Events for The Boerne Life
REFRESH-INTERVAL;VALUE=DURATION:PT1H
X-Robots-Tag:noindex
X-PUBLISHED-TTL:PT1H
BEGIN:VTIMEZONE
TZID:America/Chicago
BEGIN:DAYLIGHT
TZOFFSETFROM:-0600
TZOFFSETTO:-0500
TZNAME:CDT
DTSTART:20240310T080000
END:DAYLIGHT
BEGIN:STANDARD
TZOFFSETFROM:-0500
TZOFFSETTO:-0600
TZNAME:CST
DTSTART:20241103T070000
END:STANDARD
BEGIN:DAYLIGHT
TZOFFSETFROM:-0600
TZOFFSETTO:-0500
TZNAME:CDT
DTSTART:20250309T080000
END:DAYLIGHT
BEGIN:STANDARD
TZOFFSETFROM:-0500
TZOFFSETTO:-0600
TZNAME:CST
DTSTART:20251102T070000
END:STANDARD
BEGIN:DAYLIGHT
TZOFFSETFROM:-0600
TZOFFSETTO:-0500
TZNAME:CDT
DTSTART:20260308T080000
END:DAYLIGHT
BEGIN:STANDARD
TZOFFSETFROM:-0500
TZOFFSETTO:-0600
TZNAME:CST
DTSTART:20261101T070000
END:STANDARD
BEGIN:DAYLIGHT
TZOFFSETFROM:-0600
TZOFFSETTO:-0500
TZNAME:CDT
DTSTART:20270314T080000
END:DAYLIGHT
BEGIN:STANDARD
TZOFFSETFROM:-0500
TZOFFSETTO:-0600
TZNAME:CST
DTSTART:20271107T070000
END:STANDARD
END:VTIMEZONE
BEGIN:VEVENT
DTSTART;TZID=America/Chicago:20260321T120000
DTEND;TZID=America/Chicago:20260321T140000
DTSTAMP:20260423T183930
CREATED:20250421T095850Z
LAST-MODIFIED:20260224T201625Z
UID:10027898-1774094400-1774101600@theboernelife.com
SUMMARY:Boerne PD vs Boerne FD Kickball Game Benefitting Boerne Blaze
DESCRIPTION:IRE vs. POLICE KICKBALL SHOWDOWN!\n\nSaturday\, March 21\, at Northrup Park in Boerne\, TX there will be an epic kickball game like no other!\n\n–Game Time: 12 pm – 2 pm–Location: Northrup Park\, Field 10\n\n\nHere’s what to expect:\n\n• Unified Kickball Game• Cane’s Chicken provided• Free ice cream• Live drumline performance from Champion High School• DJ music• Face painting & balloon art for kids\n\nIf you have a special someone who is wanting to play\, contact by DM.
URL:https://theboernelife.com/events/boerne-pd-vs-boerne-fd-kickball-game-benefitting-boerne-blaze/
LOCATION:Northrup Park\, 37550 IH-10 West\, Boerne\, TX\, 78006\, United States
CATEGORIES:Outdoors
ATTACH;FMTTYPE=image/jpeg:https://theboernelife.com/wp-content/uploads/2025/04/TBL-FB-Post-2025-04-21T045615.724.jpg
END:VEVENT
BEGIN:VEVENT
DTSTART;TZID=America/Chicago:20260303T180000
DTEND;TZID=America/Chicago:20260303T210000
DTSTAMP:20260423T183930
CREATED:20260302T235318Z
LAST-MODIFIED:20260302T235318Z
UID:10035051-1772560800-1772571600@theboernelife.com
SUMMARY:Field 11 “Flip the Switch” Celebration at Northrup Park – Field 11
DESCRIPTION:The City of Boerne will commemorate the completion of improvements at Northrup Park’s Field 11 with a special “Flip the Switch” Celebration on Tuesday\, March 3\, at 6 pm at 37550 Interstate 10 W\, Boerne\, TX 78006. The event marks the successful delivery of a key component of the 2022 Bond Election\, including the installation of new sports field lighting at both Northrup Park and Boerne City Park. \nNorthrup Park has long been a cornerstone of youth and adult athletics in Boerne. In 1995\, the City of Boerne purchased 103 acres from the Lynn L. Northrup Jr. family to meet the growing need for youth baseball\, softball\, and adult league fields. Since opening in 2000\, the park has served generations of local families and athletes and continues to play an important role in the community. \nThe celebration will include hot dogs\, drinks\, and fun giveaways\, along with brief remarks from city leaders. The evening will conclude with a ceremonial “flip the switch” as the new lights are officially turned on\, highlighting continued investment in Boerne’s parks and recreation facilities. For more information\, contact the City of Boerne directly.
URL:https://theboernelife.com/events/field-11-flip-the-switch-celebration-at-northrup-park-field-11/
LOCATION:Northrup Park\, 37550 IH-10 West\, Boerne\, TX\, 78006\, United States
CATEGORIES:Outdoors
ATTACH;FMTTYPE=image/jpeg:https://theboernelife.com/wp-content/uploads/2026/03/field-11-flip-the-switch-celebration-at-northrup-park-field-11.jpg
END:VEVENT
BEGIN:VEVENT
DTSTART;TZID=America/Chicago:20260303T180000
DTEND;TZID=America/Chicago:20260303T190000
DTSTAMP:20260423T183930
CREATED:20260302T120621Z
LAST-MODIFIED:20260302T120621Z
UID:10035037-1772560800-1772564400@theboernelife.com
SUMMARY:Flip the Switch Celebration at Northrup Park
DESCRIPTION:The City of Boerne is excited to invite you to a special celebration at one of our community’s most important parks – the completion of improvements at Northrup Park’s Field 11. This celebration marks the completion of Field 11 and the successful delivery of a key component of the 2022 Bond Election — the installation of new sports field lighting at both Northrup Park and Boerne City Park.\n\nWhen?  Tuesday\, March 3 at 6 p.m.Where? Northrup Park – Field 11\, Boerne\, TX\n\nNorthrup Park has long been a cornerstone of youth and adult athletics in Boerne. In 1995\, recognizing the growing need for youth baseball\, softball\, and adult league fields\, the City of Boerne purchased 103 acres from the Lynn L. Northrup Jr. family. The park proudly bears their name in recognition of the family’s generosity and partnership in making the land acquisition possible. Since opening in 2000\, the park has served generations of Boerne families and athletes.\n\nTo mark the occasion\, we’ll have hot dogs\, drinks and fun giveaways as we gather to celebrate the continued investment in our parks and the bright future ahead. The evening will feature brief remarks from city leaders and a special “flip the switch” ceremony as we officially turn on the new lights.
URL:https://theboernelife.com/events/flip-the-switch-celebration-at-northrup-park/
LOCATION:Northrup Park\, 37550 IH-10 West\, Boerne\, TX\, 78006\, United States
CATEGORIES:Kids and Family,Outdoors
ATTACH;FMTTYPE=image/jpeg:https://theboernelife.com/wp-content/uploads/2026/03/638881780_1336193171878383_7479929469491035674_n-1-scaled.jpg
END:VEVENT
BEGIN:VEVENT
DTSTART;TZID=America/Chicago:20250906T180000
DTEND;TZID=America/Chicago:20250906T213000
DTSTAMP:20260423T183930
CREATED:20250807T104835Z
LAST-MODIFIED:20250807T104907Z
UID:10030237-1757181600-1757194200@theboernelife.com
SUMMARY:Field of Dreams Movie Night
DESCRIPTION:Join Boerne Little League on September 6th at 6 pm at the fields for a fundraising movie night showcasing The Sandlot & Rookie of the Year. \nHelp us raise money for Ingram Little League to rebuild their own diamonds after devastating destruction from the recent flooding. \nWe will have wiffle ball\, kickball\, vendors\, and food trucks available!\nMovies will start at 7:30pm at Northrup Park. \nTickets are on sale NOW!! \nSAVE THE DATE\, grab your blankets and chairs and get ready to be a part of the magic. \nTicket Prices: $10 general admission\n$25 VIP seating for movies\n$20 VIP Parking\n(VIP options limited) \nAll for a good cause! Help us support Ingram Little League.\nAll proceeds will be donated to Ingram LL. \nIf interested in sponsorships or donations reach out  and join us!
URL:https://theboernelife.com/events/field-of-dreams-movie-night/
LOCATION:Northrup Park\, 37550 IH-10 West\, Boerne\, TX\, 78006\, United States
CATEGORIES:Kids and Family,Outdoors
ATTACH;FMTTYPE=image/jpeg:https://theboernelife.com/wp-content/uploads/2025/08/Copy-of-Blog-Featured-Image.jpg
END:VEVENT
END:VCALENDAR