BEGIN:VCALENDAR
VERSION:2.0
PRODID:-//The Boerne Life - ECPv6.15.15//NONSGML v1.0//EN
CALSCALE:GREGORIAN
METHOD:PUBLISH
X-ORIGINAL-URL:https://theboernelife.com
X-WR-CALDESC:Events for The Boerne Life
REFRESH-INTERVAL;VALUE=DURATION:PT1H
X-Robots-Tag:noindex
X-PUBLISHED-TTL:PT1H
BEGIN:VTIMEZONE
TZID:America/Chicago
BEGIN:DAYLIGHT
TZOFFSETFROM:-0600
TZOFFSETTO:-0500
TZNAME:CDT
DTSTART:20240310T080000
END:DAYLIGHT
BEGIN:STANDARD
TZOFFSETFROM:-0500
TZOFFSETTO:-0600
TZNAME:CST
DTSTART:20241103T070000
END:STANDARD
BEGIN:DAYLIGHT
TZOFFSETFROM:-0600
TZOFFSETTO:-0500
TZNAME:CDT
DTSTART:20250309T080000
END:DAYLIGHT
BEGIN:STANDARD
TZOFFSETFROM:-0500
TZOFFSETTO:-0600
TZNAME:CST
DTSTART:20251102T070000
END:STANDARD
BEGIN:DAYLIGHT
TZOFFSETFROM:-0600
TZOFFSETTO:-0500
TZNAME:CDT
DTSTART:20260308T080000
END:DAYLIGHT
BEGIN:STANDARD
TZOFFSETFROM:-0500
TZOFFSETTO:-0600
TZNAME:CST
DTSTART:20261101T070000
END:STANDARD
BEGIN:DAYLIGHT
TZOFFSETFROM:-0600
TZOFFSETTO:-0500
TZNAME:CDT
DTSTART:20270314T080000
END:DAYLIGHT
BEGIN:STANDARD
TZOFFSETFROM:-0500
TZOFFSETTO:-0600
TZNAME:CST
DTSTART:20271107T070000
END:STANDARD
END:VTIMEZONE
BEGIN:VEVENT
DTSTART;TZID=America/Chicago:20260204T090000
DTEND;TZID=America/Chicago:20260204T100000
DTSTAMP:20260420T154525
CREATED:20260104T222227Z
LAST-MODIFIED:20260201T163801Z
UID:10034674-1770195600-1770199200@theboernelife.com
SUMMARY:Women’s Walking Club
DESCRIPTION:Welcome to this Women’s Walking group in Boerne! We are on a mission to bring women of all ages & stages together as we walk our way around town. Join us every other Wednesday to walk & talk and we can’t wait to meet you. \nMeet in front of Peggy’s at 9am to walk the trail past the river to the dam and back! Strollers welcome.
URL:https://theboernelife.com/events/womens-walking-club-2/2026-02-04/2/
LOCATION:Peggy’s on the Green\, 128 W Blanco Rd\, Boerne\, TX\, 78006\, United States
CATEGORIES:Health and Wellness,Outdoors,Women
ATTACH;FMTTYPE=image/jpeg:https://theboernelife.com/wp-content/uploads/2025/07/boerne-2.jpg
END:VEVENT
BEGIN:VEVENT
DTSTART;TZID=America/Chicago:20260204T080000
DTEND;TZID=America/Chicago:20260204T170000
DTSTAMP:20260420T154525
CREATED:20260104T222227Z
LAST-MODIFIED:20260201T163801Z
UID:10034673-1770192000-1770224400@theboernelife.com
SUMMARY:Women’s Walking Club
DESCRIPTION:Welcome to this Women’s Walking group in Boerne! We are on a mission to bring women of all ages & stages together as we walk our way around town. Join us every other Wednesday to walk & talk and we can’t wait to meet you. \nMeet in front of Peggy’s at 9am to walk the trail past the river to the dam and back! Strollers welcome.
URL:https://theboernelife.com/events/womens-walking-club-2/2026-02-04/1/
LOCATION:Peggy’s on the Green\, 128 W Blanco Rd\, Boerne\, TX\, 78006\, United States
CATEGORIES:Health and Wellness,Outdoors,Women
ATTACH;FMTTYPE=image/jpeg:https://theboernelife.com/wp-content/uploads/2025/07/boerne-2.jpg
END:VEVENT
BEGIN:VEVENT
DTSTART;TZID=America/Chicago:20250420T110000
DTEND;TZID=America/Chicago:20250420T140000
DTSTAMP:20260420T154525
CREATED:20250417T185243Z
LAST-MODIFIED:20250418T100733Z
UID:10027888-1745146800-1745157600@theboernelife.com
SUMMARY:Peggy's on the Green Easter Brunch
DESCRIPTION:Join Peggy’s on the Green for a special Easter Brunch menu! Spots are limited\, so reserve your table today. \n 
URL:https://theboernelife.com/events/peggys-on-the-green-easter-brunch/
LOCATION:Peggy’s on the Green\, 128 W Blanco Rd\, Boerne\, TX\, 78006\, United States
CATEGORIES:Food and Drink,Holiday
ATTACH;FMTTYPE=image/jpeg:https://theboernelife.com/wp-content/uploads/2025/04/peggsy-brunch-easter.jpg
END:VEVENT
END:VCALENDAR