BEGIN:VCALENDAR
VERSION:2.0
PRODID:-//The Boerne Life - ECPv6.15.15//NONSGML v1.0//EN
CALSCALE:GREGORIAN
METHOD:PUBLISH
X-WR-CALNAME:The Boerne Life
X-ORIGINAL-URL:https://theboernelife.com
X-WR-CALDESC:Events for The Boerne Life
REFRESH-INTERVAL;VALUE=DURATION:PT1H
X-Robots-Tag:noindex
X-PUBLISHED-TTL:PT1H
BEGIN:VTIMEZONE
TZID:America/Chicago
BEGIN:DAYLIGHT
TZOFFSETFROM:-0600
TZOFFSETTO:-0500
TZNAME:CDT
DTSTART:20250309T080000
END:DAYLIGHT
BEGIN:STANDARD
TZOFFSETFROM:-0500
TZOFFSETTO:-0600
TZNAME:CST
DTSTART:20251102T070000
END:STANDARD
BEGIN:DAYLIGHT
TZOFFSETFROM:-0600
TZOFFSETTO:-0500
TZNAME:CDT
DTSTART:20260308T080000
END:DAYLIGHT
BEGIN:STANDARD
TZOFFSETFROM:-0500
TZOFFSETTO:-0600
TZNAME:CST
DTSTART:20261101T070000
END:STANDARD
BEGIN:DAYLIGHT
TZOFFSETFROM:-0600
TZOFFSETTO:-0500
TZNAME:CDT
DTSTART:20270314T080000
END:DAYLIGHT
BEGIN:STANDARD
TZOFFSETFROM:-0500
TZOFFSETTO:-0600
TZNAME:CST
DTSTART:20271107T070000
END:STANDARD
END:VTIMEZONE
BEGIN:VEVENT
DTSTART;TZID=America/Chicago:20260807T190000
DTEND;TZID=America/Chicago:20260807T220000
DTSTAMP:20260421T082618
CREATED:20260307T104246Z
LAST-MODIFIED:20260308T091303Z
UID:10036512-1786129200-1786140000@theboernelife.com
SUMMARY:Karaoke Night at Pure Country BBQ & Grill
DESCRIPTION:Friday evenings bring lively entertainment during Karaoke Night at Pure Country BBQ & Grill in Boerne\, TX. The weekly event offers a fun\, family-friendly atmosphere where guests can enjoy singing\, great food\, and cold drinks. \nThe evening begins with Kids Sing from 7 pm to 8 pm\, giving younger performers the chance to take the stage. Adult singers follow from 8 pm to 10 pm\, keeping the energy going with favorite songs and spirited performances. \nGuests can pair the entertainment with barbecue favorites and beverages while enjoying one of Boerne’s welcoming gathering spots. For more information\, contact Pure Country BBQ & Grill directly.
URL:https://theboernelife.com/events/karaoke-night-at-pure-country-bbq-grill/2026-08-07/
LOCATION:Pure Country BBQ & Grill\, 1481 S Main St\, Boerne\, TX\, 78006\, United States
CATEGORIES:Kids and Family,Music
ATTACH;FMTTYPE=image/jpeg:https://theboernelife.com/wp-content/uploads/2026/03/karaoke-night-at-pure-country-bbq-and-grill.jpg
END:VEVENT
BEGIN:VEVENT
DTSTART;TZID=America/Chicago:20260814T190000
DTEND;TZID=America/Chicago:20260814T220000
DTSTAMP:20260421T082618
CREATED:20260307T104246Z
LAST-MODIFIED:20260308T091303Z
UID:10036513-1786734000-1786744800@theboernelife.com
SUMMARY:Karaoke Night at Pure Country BBQ & Grill
DESCRIPTION:Friday evenings bring lively entertainment during Karaoke Night at Pure Country BBQ & Grill in Boerne\, TX. The weekly event offers a fun\, family-friendly atmosphere where guests can enjoy singing\, great food\, and cold drinks. \nThe evening begins with Kids Sing from 7 pm to 8 pm\, giving younger performers the chance to take the stage. Adult singers follow from 8 pm to 10 pm\, keeping the energy going with favorite songs and spirited performances. \nGuests can pair the entertainment with barbecue favorites and beverages while enjoying one of Boerne’s welcoming gathering spots. For more information\, contact Pure Country BBQ & Grill directly.
URL:https://theboernelife.com/events/karaoke-night-at-pure-country-bbq-grill/2026-08-14/
LOCATION:Pure Country BBQ & Grill\, 1481 S Main St\, Boerne\, TX\, 78006\, United States
CATEGORIES:Kids and Family,Music
ATTACH;FMTTYPE=image/jpeg:https://theboernelife.com/wp-content/uploads/2026/03/karaoke-night-at-pure-country-bbq-and-grill.jpg
END:VEVENT
BEGIN:VEVENT
DTSTART;TZID=America/Chicago:20260821T190000
DTEND;TZID=America/Chicago:20260821T220000
DTSTAMP:20260421T082618
CREATED:20260307T104246Z
LAST-MODIFIED:20260308T091303Z
UID:10036514-1787338800-1787349600@theboernelife.com
SUMMARY:Karaoke Night at Pure Country BBQ & Grill
DESCRIPTION:Friday evenings bring lively entertainment during Karaoke Night at Pure Country BBQ & Grill in Boerne\, TX. The weekly event offers a fun\, family-friendly atmosphere where guests can enjoy singing\, great food\, and cold drinks. \nThe evening begins with Kids Sing from 7 pm to 8 pm\, giving younger performers the chance to take the stage. Adult singers follow from 8 pm to 10 pm\, keeping the energy going with favorite songs and spirited performances. \nGuests can pair the entertainment with barbecue favorites and beverages while enjoying one of Boerne’s welcoming gathering spots. For more information\, contact Pure Country BBQ & Grill directly.
URL:https://theboernelife.com/events/karaoke-night-at-pure-country-bbq-grill/2026-08-21/
LOCATION:Pure Country BBQ & Grill\, 1481 S Main St\, Boerne\, TX\, 78006\, United States
CATEGORIES:Kids and Family,Music
ATTACH;FMTTYPE=image/jpeg:https://theboernelife.com/wp-content/uploads/2026/03/karaoke-night-at-pure-country-bbq-and-grill.jpg
END:VEVENT
BEGIN:VEVENT
DTSTART;TZID=America/Chicago:20260828T190000
DTEND;TZID=America/Chicago:20260828T220000
DTSTAMP:20260421T082618
CREATED:20260307T104246Z
LAST-MODIFIED:20260308T091303Z
UID:10036515-1787943600-1787954400@theboernelife.com
SUMMARY:Karaoke Night at Pure Country BBQ & Grill
DESCRIPTION:Friday evenings bring lively entertainment during Karaoke Night at Pure Country BBQ & Grill in Boerne\, TX. The weekly event offers a fun\, family-friendly atmosphere where guests can enjoy singing\, great food\, and cold drinks. \nThe evening begins with Kids Sing from 7 pm to 8 pm\, giving younger performers the chance to take the stage. Adult singers follow from 8 pm to 10 pm\, keeping the energy going with favorite songs and spirited performances. \nGuests can pair the entertainment with barbecue favorites and beverages while enjoying one of Boerne’s welcoming gathering spots. For more information\, contact Pure Country BBQ & Grill directly.
URL:https://theboernelife.com/events/karaoke-night-at-pure-country-bbq-grill/2026-08-28/
LOCATION:Pure Country BBQ & Grill\, 1481 S Main St\, Boerne\, TX\, 78006\, United States
CATEGORIES:Kids and Family,Music
ATTACH;FMTTYPE=image/jpeg:https://theboernelife.com/wp-content/uploads/2026/03/karaoke-night-at-pure-country-bbq-and-grill.jpg
END:VEVENT
BEGIN:VEVENT
DTSTART;TZID=America/Chicago:20260904T190000
DTEND;TZID=America/Chicago:20260904T220000
DTSTAMP:20260421T082618
CREATED:20260307T104246Z
LAST-MODIFIED:20260308T091303Z
UID:10036516-1788548400-1788559200@theboernelife.com
SUMMARY:Karaoke Night at Pure Country BBQ & Grill
DESCRIPTION:Friday evenings bring lively entertainment during Karaoke Night at Pure Country BBQ & Grill in Boerne\, TX. The weekly event offers a fun\, family-friendly atmosphere where guests can enjoy singing\, great food\, and cold drinks. \nThe evening begins with Kids Sing from 7 pm to 8 pm\, giving younger performers the chance to take the stage. Adult singers follow from 8 pm to 10 pm\, keeping the energy going with favorite songs and spirited performances. \nGuests can pair the entertainment with barbecue favorites and beverages while enjoying one of Boerne’s welcoming gathering spots. For more information\, contact Pure Country BBQ & Grill directly.
URL:https://theboernelife.com/events/karaoke-night-at-pure-country-bbq-grill/2026-09-04/
LOCATION:Pure Country BBQ & Grill\, 1481 S Main St\, Boerne\, TX\, 78006\, United States
CATEGORIES:Kids and Family,Music
ATTACH;FMTTYPE=image/jpeg:https://theboernelife.com/wp-content/uploads/2026/03/karaoke-night-at-pure-country-bbq-and-grill.jpg
END:VEVENT
BEGIN:VEVENT
DTSTART;TZID=America/Chicago:20260911T190000
DTEND;TZID=America/Chicago:20260911T220000
DTSTAMP:20260421T082618
CREATED:20260307T104246Z
LAST-MODIFIED:20260308T091303Z
UID:10036517-1789153200-1789164000@theboernelife.com
SUMMARY:Karaoke Night at Pure Country BBQ & Grill
DESCRIPTION:Friday evenings bring lively entertainment during Karaoke Night at Pure Country BBQ & Grill in Boerne\, TX. The weekly event offers a fun\, family-friendly atmosphere where guests can enjoy singing\, great food\, and cold drinks. \nThe evening begins with Kids Sing from 7 pm to 8 pm\, giving younger performers the chance to take the stage. Adult singers follow from 8 pm to 10 pm\, keeping the energy going with favorite songs and spirited performances. \nGuests can pair the entertainment with barbecue favorites and beverages while enjoying one of Boerne’s welcoming gathering spots. For more information\, contact Pure Country BBQ & Grill directly.
URL:https://theboernelife.com/events/karaoke-night-at-pure-country-bbq-grill/2026-09-11/
LOCATION:Pure Country BBQ & Grill\, 1481 S Main St\, Boerne\, TX\, 78006\, United States
CATEGORIES:Kids and Family,Music
ATTACH;FMTTYPE=image/jpeg:https://theboernelife.com/wp-content/uploads/2026/03/karaoke-night-at-pure-country-bbq-and-grill.jpg
END:VEVENT
BEGIN:VEVENT
DTSTART;TZID=America/Chicago:20260918T190000
DTEND;TZID=America/Chicago:20260918T220000
DTSTAMP:20260421T082618
CREATED:20260307T104246Z
LAST-MODIFIED:20260308T091303Z
UID:10036518-1789758000-1789768800@theboernelife.com
SUMMARY:Karaoke Night at Pure Country BBQ & Grill
DESCRIPTION:Friday evenings bring lively entertainment during Karaoke Night at Pure Country BBQ & Grill in Boerne\, TX. The weekly event offers a fun\, family-friendly atmosphere where guests can enjoy singing\, great food\, and cold drinks. \nThe evening begins with Kids Sing from 7 pm to 8 pm\, giving younger performers the chance to take the stage. Adult singers follow from 8 pm to 10 pm\, keeping the energy going with favorite songs and spirited performances. \nGuests can pair the entertainment with barbecue favorites and beverages while enjoying one of Boerne’s welcoming gathering spots. For more information\, contact Pure Country BBQ & Grill directly.
URL:https://theboernelife.com/events/karaoke-night-at-pure-country-bbq-grill/2026-09-18/
LOCATION:Pure Country BBQ & Grill\, 1481 S Main St\, Boerne\, TX\, 78006\, United States
CATEGORIES:Kids and Family,Music
ATTACH;FMTTYPE=image/jpeg:https://theboernelife.com/wp-content/uploads/2026/03/karaoke-night-at-pure-country-bbq-and-grill.jpg
END:VEVENT
BEGIN:VEVENT
DTSTART;TZID=America/Chicago:20260925T190000
DTEND;TZID=America/Chicago:20260925T220000
DTSTAMP:20260421T082618
CREATED:20260307T104246Z
LAST-MODIFIED:20260308T091303Z
UID:10036519-1790362800-1790373600@theboernelife.com
SUMMARY:Karaoke Night at Pure Country BBQ & Grill
DESCRIPTION:Friday evenings bring lively entertainment during Karaoke Night at Pure Country BBQ & Grill in Boerne\, TX. The weekly event offers a fun\, family-friendly atmosphere where guests can enjoy singing\, great food\, and cold drinks. \nThe evening begins with Kids Sing from 7 pm to 8 pm\, giving younger performers the chance to take the stage. Adult singers follow from 8 pm to 10 pm\, keeping the energy going with favorite songs and spirited performances. \nGuests can pair the entertainment with barbecue favorites and beverages while enjoying one of Boerne’s welcoming gathering spots. For more information\, contact Pure Country BBQ & Grill directly.
URL:https://theboernelife.com/events/karaoke-night-at-pure-country-bbq-grill/2026-09-25/
LOCATION:Pure Country BBQ & Grill\, 1481 S Main St\, Boerne\, TX\, 78006\, United States
CATEGORIES:Kids and Family,Music
ATTACH;FMTTYPE=image/jpeg:https://theboernelife.com/wp-content/uploads/2026/03/karaoke-night-at-pure-country-bbq-and-grill.jpg
END:VEVENT
BEGIN:VEVENT
DTSTART;TZID=America/Chicago:20261002T190000
DTEND;TZID=America/Chicago:20261002T220000
DTSTAMP:20260421T082618
CREATED:20260307T104246Z
LAST-MODIFIED:20260308T091303Z
UID:10036520-1790967600-1790978400@theboernelife.com
SUMMARY:Karaoke Night at Pure Country BBQ & Grill
DESCRIPTION:Friday evenings bring lively entertainment during Karaoke Night at Pure Country BBQ & Grill in Boerne\, TX. The weekly event offers a fun\, family-friendly atmosphere where guests can enjoy singing\, great food\, and cold drinks. \nThe evening begins with Kids Sing from 7 pm to 8 pm\, giving younger performers the chance to take the stage. Adult singers follow from 8 pm to 10 pm\, keeping the energy going with favorite songs and spirited performances. \nGuests can pair the entertainment with barbecue favorites and beverages while enjoying one of Boerne’s welcoming gathering spots. For more information\, contact Pure Country BBQ & Grill directly.
URL:https://theboernelife.com/events/karaoke-night-at-pure-country-bbq-grill/2026-10-02/
LOCATION:Pure Country BBQ & Grill\, 1481 S Main St\, Boerne\, TX\, 78006\, United States
CATEGORIES:Kids and Family,Music
ATTACH;FMTTYPE=image/jpeg:https://theboernelife.com/wp-content/uploads/2026/03/karaoke-night-at-pure-country-bbq-and-grill.jpg
END:VEVENT
BEGIN:VEVENT
DTSTART;TZID=America/Chicago:20261009T190000
DTEND;TZID=America/Chicago:20261009T220000
DTSTAMP:20260421T082618
CREATED:20260307T104246Z
LAST-MODIFIED:20260308T091303Z
UID:10036521-1791572400-1791583200@theboernelife.com
SUMMARY:Karaoke Night at Pure Country BBQ & Grill
DESCRIPTION:Friday evenings bring lively entertainment during Karaoke Night at Pure Country BBQ & Grill in Boerne\, TX. The weekly event offers a fun\, family-friendly atmosphere where guests can enjoy singing\, great food\, and cold drinks. \nThe evening begins with Kids Sing from 7 pm to 8 pm\, giving younger performers the chance to take the stage. Adult singers follow from 8 pm to 10 pm\, keeping the energy going with favorite songs and spirited performances. \nGuests can pair the entertainment with barbecue favorites and beverages while enjoying one of Boerne’s welcoming gathering spots. For more information\, contact Pure Country BBQ & Grill directly.
URL:https://theboernelife.com/events/karaoke-night-at-pure-country-bbq-grill/2026-10-09/
LOCATION:Pure Country BBQ & Grill\, 1481 S Main St\, Boerne\, TX\, 78006\, United States
CATEGORIES:Kids and Family,Music
ATTACH;FMTTYPE=image/jpeg:https://theboernelife.com/wp-content/uploads/2026/03/karaoke-night-at-pure-country-bbq-and-grill.jpg
END:VEVENT
BEGIN:VEVENT
DTSTART;TZID=America/Chicago:20261016T190000
DTEND;TZID=America/Chicago:20261016T220000
DTSTAMP:20260421T082618
CREATED:20260307T104246Z
LAST-MODIFIED:20260308T091303Z
UID:10036522-1792177200-1792188000@theboernelife.com
SUMMARY:Karaoke Night at Pure Country BBQ & Grill
DESCRIPTION:Friday evenings bring lively entertainment during Karaoke Night at Pure Country BBQ & Grill in Boerne\, TX. The weekly event offers a fun\, family-friendly atmosphere where guests can enjoy singing\, great food\, and cold drinks. \nThe evening begins with Kids Sing from 7 pm to 8 pm\, giving younger performers the chance to take the stage. Adult singers follow from 8 pm to 10 pm\, keeping the energy going with favorite songs and spirited performances. \nGuests can pair the entertainment with barbecue favorites and beverages while enjoying one of Boerne’s welcoming gathering spots. For more information\, contact Pure Country BBQ & Grill directly.
URL:https://theboernelife.com/events/karaoke-night-at-pure-country-bbq-grill/2026-10-16/
LOCATION:Pure Country BBQ & Grill\, 1481 S Main St\, Boerne\, TX\, 78006\, United States
CATEGORIES:Kids and Family,Music
ATTACH;FMTTYPE=image/jpeg:https://theboernelife.com/wp-content/uploads/2026/03/karaoke-night-at-pure-country-bbq-and-grill.jpg
END:VEVENT
BEGIN:VEVENT
DTSTART;TZID=America/Chicago:20261023T190000
DTEND;TZID=America/Chicago:20261023T220000
DTSTAMP:20260421T082618
CREATED:20260307T104246Z
LAST-MODIFIED:20260308T091303Z
UID:10036523-1792782000-1792792800@theboernelife.com
SUMMARY:Karaoke Night at Pure Country BBQ & Grill
DESCRIPTION:Friday evenings bring lively entertainment during Karaoke Night at Pure Country BBQ & Grill in Boerne\, TX. The weekly event offers a fun\, family-friendly atmosphere where guests can enjoy singing\, great food\, and cold drinks. \nThe evening begins with Kids Sing from 7 pm to 8 pm\, giving younger performers the chance to take the stage. Adult singers follow from 8 pm to 10 pm\, keeping the energy going with favorite songs and spirited performances. \nGuests can pair the entertainment with barbecue favorites and beverages while enjoying one of Boerne’s welcoming gathering spots. For more information\, contact Pure Country BBQ & Grill directly.
URL:https://theboernelife.com/events/karaoke-night-at-pure-country-bbq-grill/2026-10-23/
LOCATION:Pure Country BBQ & Grill\, 1481 S Main St\, Boerne\, TX\, 78006\, United States
CATEGORIES:Kids and Family,Music
ATTACH;FMTTYPE=image/jpeg:https://theboernelife.com/wp-content/uploads/2026/03/karaoke-night-at-pure-country-bbq-and-grill.jpg
END:VEVENT
BEGIN:VEVENT
DTSTART;TZID=America/Chicago:20261030T190000
DTEND;TZID=America/Chicago:20261030T220000
DTSTAMP:20260421T082618
CREATED:20260307T104246Z
LAST-MODIFIED:20260308T091303Z
UID:10036524-1793386800-1793397600@theboernelife.com
SUMMARY:Karaoke Night at Pure Country BBQ & Grill
DESCRIPTION:Friday evenings bring lively entertainment during Karaoke Night at Pure Country BBQ & Grill in Boerne\, TX. The weekly event offers a fun\, family-friendly atmosphere where guests can enjoy singing\, great food\, and cold drinks. \nThe evening begins with Kids Sing from 7 pm to 8 pm\, giving younger performers the chance to take the stage. Adult singers follow from 8 pm to 10 pm\, keeping the energy going with favorite songs and spirited performances. \nGuests can pair the entertainment with barbecue favorites and beverages while enjoying one of Boerne’s welcoming gathering spots. For more information\, contact Pure Country BBQ & Grill directly.
URL:https://theboernelife.com/events/karaoke-night-at-pure-country-bbq-grill/2026-10-30/
LOCATION:Pure Country BBQ & Grill\, 1481 S Main St\, Boerne\, TX\, 78006\, United States
CATEGORIES:Kids and Family,Music
ATTACH;FMTTYPE=image/jpeg:https://theboernelife.com/wp-content/uploads/2026/03/karaoke-night-at-pure-country-bbq-and-grill.jpg
END:VEVENT
BEGIN:VEVENT
DTSTART;TZID=America/Chicago:20261106T190000
DTEND;TZID=America/Chicago:20261106T220000
DTSTAMP:20260421T082618
CREATED:20260307T104246Z
LAST-MODIFIED:20260308T091303Z
UID:10036525-1793991600-1794002400@theboernelife.com
SUMMARY:Karaoke Night at Pure Country BBQ & Grill
DESCRIPTION:Friday evenings bring lively entertainment during Karaoke Night at Pure Country BBQ & Grill in Boerne\, TX. The weekly event offers a fun\, family-friendly atmosphere where guests can enjoy singing\, great food\, and cold drinks. \nThe evening begins with Kids Sing from 7 pm to 8 pm\, giving younger performers the chance to take the stage. Adult singers follow from 8 pm to 10 pm\, keeping the energy going with favorite songs and spirited performances. \nGuests can pair the entertainment with barbecue favorites and beverages while enjoying one of Boerne’s welcoming gathering spots. For more information\, contact Pure Country BBQ & Grill directly.
URL:https://theboernelife.com/events/karaoke-night-at-pure-country-bbq-grill/2026-11-06/
LOCATION:Pure Country BBQ & Grill\, 1481 S Main St\, Boerne\, TX\, 78006\, United States
CATEGORIES:Kids and Family,Music
ATTACH;FMTTYPE=image/jpeg:https://theboernelife.com/wp-content/uploads/2026/03/karaoke-night-at-pure-country-bbq-and-grill.jpg
END:VEVENT
BEGIN:VEVENT
DTSTART;TZID=America/Chicago:20261113T190000
DTEND;TZID=America/Chicago:20261113T220000
DTSTAMP:20260421T082618
CREATED:20260307T104246Z
LAST-MODIFIED:20260308T091303Z
UID:10036526-1794596400-1794607200@theboernelife.com
SUMMARY:Karaoke Night at Pure Country BBQ & Grill
DESCRIPTION:Friday evenings bring lively entertainment during Karaoke Night at Pure Country BBQ & Grill in Boerne\, TX. The weekly event offers a fun\, family-friendly atmosphere where guests can enjoy singing\, great food\, and cold drinks. \nThe evening begins with Kids Sing from 7 pm to 8 pm\, giving younger performers the chance to take the stage. Adult singers follow from 8 pm to 10 pm\, keeping the energy going with favorite songs and spirited performances. \nGuests can pair the entertainment with barbecue favorites and beverages while enjoying one of Boerne’s welcoming gathering spots. For more information\, contact Pure Country BBQ & Grill directly.
URL:https://theboernelife.com/events/karaoke-night-at-pure-country-bbq-grill/2026-11-13/
LOCATION:Pure Country BBQ & Grill\, 1481 S Main St\, Boerne\, TX\, 78006\, United States
CATEGORIES:Kids and Family,Music
ATTACH;FMTTYPE=image/jpeg:https://theboernelife.com/wp-content/uploads/2026/03/karaoke-night-at-pure-country-bbq-and-grill.jpg
END:VEVENT
BEGIN:VEVENT
DTSTART;TZID=America/Chicago:20261120T190000
DTEND;TZID=America/Chicago:20261120T220000
DTSTAMP:20260421T082618
CREATED:20260307T104246Z
LAST-MODIFIED:20260308T091303Z
UID:10036527-1795201200-1795212000@theboernelife.com
SUMMARY:Karaoke Night at Pure Country BBQ & Grill
DESCRIPTION:Friday evenings bring lively entertainment during Karaoke Night at Pure Country BBQ & Grill in Boerne\, TX. The weekly event offers a fun\, family-friendly atmosphere where guests can enjoy singing\, great food\, and cold drinks. \nThe evening begins with Kids Sing from 7 pm to 8 pm\, giving younger performers the chance to take the stage. Adult singers follow from 8 pm to 10 pm\, keeping the energy going with favorite songs and spirited performances. \nGuests can pair the entertainment with barbecue favorites and beverages while enjoying one of Boerne’s welcoming gathering spots. For more information\, contact Pure Country BBQ & Grill directly.
URL:https://theboernelife.com/events/karaoke-night-at-pure-country-bbq-grill/2026-11-20/
LOCATION:Pure Country BBQ & Grill\, 1481 S Main St\, Boerne\, TX\, 78006\, United States
CATEGORIES:Kids and Family,Music
ATTACH;FMTTYPE=image/jpeg:https://theboernelife.com/wp-content/uploads/2026/03/karaoke-night-at-pure-country-bbq-and-grill.jpg
END:VEVENT
BEGIN:VEVENT
DTSTART;TZID=America/Chicago:20261127T190000
DTEND;TZID=America/Chicago:20261127T220000
DTSTAMP:20260421T082618
CREATED:20260307T104246Z
LAST-MODIFIED:20260308T091303Z
UID:10036528-1795806000-1795816800@theboernelife.com
SUMMARY:Karaoke Night at Pure Country BBQ & Grill
DESCRIPTION:Friday evenings bring lively entertainment during Karaoke Night at Pure Country BBQ & Grill in Boerne\, TX. The weekly event offers a fun\, family-friendly atmosphere where guests can enjoy singing\, great food\, and cold drinks. \nThe evening begins with Kids Sing from 7 pm to 8 pm\, giving younger performers the chance to take the stage. Adult singers follow from 8 pm to 10 pm\, keeping the energy going with favorite songs and spirited performances. \nGuests can pair the entertainment with barbecue favorites and beverages while enjoying one of Boerne’s welcoming gathering spots. For more information\, contact Pure Country BBQ & Grill directly.
URL:https://theboernelife.com/events/karaoke-night-at-pure-country-bbq-grill/2026-11-27/
LOCATION:Pure Country BBQ & Grill\, 1481 S Main St\, Boerne\, TX\, 78006\, United States
CATEGORIES:Kids and Family,Music
ATTACH;FMTTYPE=image/jpeg:https://theboernelife.com/wp-content/uploads/2026/03/karaoke-night-at-pure-country-bbq-and-grill.jpg
END:VEVENT
BEGIN:VEVENT
DTSTART;TZID=America/Chicago:20261204T190000
DTEND;TZID=America/Chicago:20261204T220000
DTSTAMP:20260421T082618
CREATED:20260307T104246Z
LAST-MODIFIED:20260308T091303Z
UID:10036529-1796410800-1796421600@theboernelife.com
SUMMARY:Karaoke Night at Pure Country BBQ & Grill
DESCRIPTION:Friday evenings bring lively entertainment during Karaoke Night at Pure Country BBQ & Grill in Boerne\, TX. The weekly event offers a fun\, family-friendly atmosphere where guests can enjoy singing\, great food\, and cold drinks. \nThe evening begins with Kids Sing from 7 pm to 8 pm\, giving younger performers the chance to take the stage. Adult singers follow from 8 pm to 10 pm\, keeping the energy going with favorite songs and spirited performances. \nGuests can pair the entertainment with barbecue favorites and beverages while enjoying one of Boerne’s welcoming gathering spots. For more information\, contact Pure Country BBQ & Grill directly.
URL:https://theboernelife.com/events/karaoke-night-at-pure-country-bbq-grill/2026-12-04/
LOCATION:Pure Country BBQ & Grill\, 1481 S Main St\, Boerne\, TX\, 78006\, United States
CATEGORIES:Kids and Family,Music
ATTACH;FMTTYPE=image/jpeg:https://theboernelife.com/wp-content/uploads/2026/03/karaoke-night-at-pure-country-bbq-and-grill.jpg
END:VEVENT
BEGIN:VEVENT
DTSTART;TZID=America/Chicago:20261211T190000
DTEND;TZID=America/Chicago:20261211T220000
DTSTAMP:20260421T082618
CREATED:20260307T104246Z
LAST-MODIFIED:20260308T091303Z
UID:10036530-1797015600-1797026400@theboernelife.com
SUMMARY:Karaoke Night at Pure Country BBQ & Grill
DESCRIPTION:Friday evenings bring lively entertainment during Karaoke Night at Pure Country BBQ & Grill in Boerne\, TX. The weekly event offers a fun\, family-friendly atmosphere where guests can enjoy singing\, great food\, and cold drinks. \nThe evening begins with Kids Sing from 7 pm to 8 pm\, giving younger performers the chance to take the stage. Adult singers follow from 8 pm to 10 pm\, keeping the energy going with favorite songs and spirited performances. \nGuests can pair the entertainment with barbecue favorites and beverages while enjoying one of Boerne’s welcoming gathering spots. For more information\, contact Pure Country BBQ & Grill directly.
URL:https://theboernelife.com/events/karaoke-night-at-pure-country-bbq-grill/2026-12-11/
LOCATION:Pure Country BBQ & Grill\, 1481 S Main St\, Boerne\, TX\, 78006\, United States
CATEGORIES:Kids and Family,Music
ATTACH;FMTTYPE=image/jpeg:https://theboernelife.com/wp-content/uploads/2026/03/karaoke-night-at-pure-country-bbq-and-grill.jpg
END:VEVENT
BEGIN:VEVENT
DTSTART;TZID=America/Chicago:20261218T190000
DTEND;TZID=America/Chicago:20261218T220000
DTSTAMP:20260421T082618
CREATED:20260307T104246Z
LAST-MODIFIED:20260308T091303Z
UID:10036531-1797620400-1797631200@theboernelife.com
SUMMARY:Karaoke Night at Pure Country BBQ & Grill
DESCRIPTION:Friday evenings bring lively entertainment during Karaoke Night at Pure Country BBQ & Grill in Boerne\, TX. The weekly event offers a fun\, family-friendly atmosphere where guests can enjoy singing\, great food\, and cold drinks. \nThe evening begins with Kids Sing from 7 pm to 8 pm\, giving younger performers the chance to take the stage. Adult singers follow from 8 pm to 10 pm\, keeping the energy going with favorite songs and spirited performances. \nGuests can pair the entertainment with barbecue favorites and beverages while enjoying one of Boerne’s welcoming gathering spots. For more information\, contact Pure Country BBQ & Grill directly.
URL:https://theboernelife.com/events/karaoke-night-at-pure-country-bbq-grill/2026-12-18/
LOCATION:Pure Country BBQ & Grill\, 1481 S Main St\, Boerne\, TX\, 78006\, United States
CATEGORIES:Kids and Family,Music
ATTACH;FMTTYPE=image/jpeg:https://theboernelife.com/wp-content/uploads/2026/03/karaoke-night-at-pure-country-bbq-and-grill.jpg
END:VEVENT
BEGIN:VEVENT
DTSTART;TZID=America/Chicago:20261225T190000
DTEND;TZID=America/Chicago:20261225T220000
DTSTAMP:20260421T082618
CREATED:20260307T104246Z
LAST-MODIFIED:20260308T091303Z
UID:10036532-1798225200-1798236000@theboernelife.com
SUMMARY:Karaoke Night at Pure Country BBQ & Grill
DESCRIPTION:Friday evenings bring lively entertainment during Karaoke Night at Pure Country BBQ & Grill in Boerne\, TX. The weekly event offers a fun\, family-friendly atmosphere where guests can enjoy singing\, great food\, and cold drinks. \nThe evening begins with Kids Sing from 7 pm to 8 pm\, giving younger performers the chance to take the stage. Adult singers follow from 8 pm to 10 pm\, keeping the energy going with favorite songs and spirited performances. \nGuests can pair the entertainment with barbecue favorites and beverages while enjoying one of Boerne’s welcoming gathering spots. For more information\, contact Pure Country BBQ & Grill directly.
URL:https://theboernelife.com/events/karaoke-night-at-pure-country-bbq-grill/2026-12-25/
LOCATION:Pure Country BBQ & Grill\, 1481 S Main St\, Boerne\, TX\, 78006\, United States
CATEGORIES:Kids and Family,Music
ATTACH;FMTTYPE=image/jpeg:https://theboernelife.com/wp-content/uploads/2026/03/karaoke-night-at-pure-country-bbq-and-grill.jpg
END:VEVENT
END:VCALENDAR