BEGIN:VCALENDAR
VERSION:2.0
PRODID:-//The Boerne Life - ECPv6.15.15//NONSGML v1.0//EN
CALSCALE:GREGORIAN
METHOD:PUBLISH
X-WR-CALNAME:The Boerne Life
X-ORIGINAL-URL:https://theboernelife.com
X-WR-CALDESC:Events for The Boerne Life
REFRESH-INTERVAL;VALUE=DURATION:PT1H
X-Robots-Tag:noindex
X-PUBLISHED-TTL:PT1H
BEGIN:VTIMEZONE
TZID:America/Chicago
BEGIN:DAYLIGHT
TZOFFSETFROM:-0600
TZOFFSETTO:-0500
TZNAME:CDT
DTSTART:20240310T080000
END:DAYLIGHT
BEGIN:STANDARD
TZOFFSETFROM:-0500
TZOFFSETTO:-0600
TZNAME:CST
DTSTART:20241103T070000
END:STANDARD
BEGIN:DAYLIGHT
TZOFFSETFROM:-0600
TZOFFSETTO:-0500
TZNAME:CDT
DTSTART:20250309T080000
END:DAYLIGHT
BEGIN:STANDARD
TZOFFSETFROM:-0500
TZOFFSETTO:-0600
TZNAME:CST
DTSTART:20251102T070000
END:STANDARD
BEGIN:DAYLIGHT
TZOFFSETFROM:-0600
TZOFFSETTO:-0500
TZNAME:CDT
DTSTART:20260308T080000
END:DAYLIGHT
BEGIN:STANDARD
TZOFFSETFROM:-0500
TZOFFSETTO:-0600
TZNAME:CST
DTSTART:20261101T070000
END:STANDARD
END:VTIMEZONE
BEGIN:VEVENT
DTSTART;TZID=America/Chicago:20251025T110000
DTEND;TZID=America/Chicago:20251025T150000
DTSTAMP:20260420T110048
CREATED:20251006T072816Z
LAST-MODIFIED:20251006T072816Z
UID:10032647-1761390000-1761404400@theboernelife.com
SUMMARY:Revdtober at Revd Customs
DESCRIPTION:Revdtober brings high-octane energy to Boerne on Saturday\, October 25\, from 11:00 am to 3:00 pm at Revd Customs. This family-friendly truck and car meet welcomes all builds and offers something for every auto enthusiast\, from custom rides to community vibes. \nThe event will feature music\, food\, and drinks\, along with huge free giveaways and a wide selection of vendors. It’s an opportunity to connect with fellow car lovers and explore a variety of automotive styles in a laid-back\, welcoming atmosphere. \nRevdtober will take place at Revd Customs\, 7831 Lost Creek Gap\, Boerne\, TX 78015\, just five minutes from The Rim. Admission is free and open to the public. For more updates\, follow Revd Customs on Instagram at @revdcustoms.
URL:https://theboernelife.com/events/revdtober-at-revd-customs/
LOCATION:Revd Customs\, 7831 Lost Creek Gap\, Boerne\, TX\, 78015\, United States
CATEGORIES:Kids and Family
ATTACH;FMTTYPE=image/jpeg:https://theboernelife.com/wp-content/uploads/2025/10/revdtober-at-revd-customs.jpg
END:VEVENT
END:VCALENDAR