BEGIN:VCALENDAR
VERSION:2.0
PRODID:-//The Boerne Life - ECPv6.15.15//NONSGML v1.0//EN
CALSCALE:GREGORIAN
METHOD:PUBLISH
X-ORIGINAL-URL:https://theboernelife.com
X-WR-CALDESC:Events for The Boerne Life
REFRESH-INTERVAL;VALUE=DURATION:PT1H
X-Robots-Tag:noindex
X-PUBLISHED-TTL:PT1H
BEGIN:VTIMEZONE
TZID:America/Chicago
BEGIN:DAYLIGHT
TZOFFSETFROM:-0600
TZOFFSETTO:-0500
TZNAME:CDT
DTSTART:20250309T080000
END:DAYLIGHT
BEGIN:STANDARD
TZOFFSETFROM:-0500
TZOFFSETTO:-0600
TZNAME:CST
DTSTART:20251102T070000
END:STANDARD
BEGIN:DAYLIGHT
TZOFFSETFROM:-0600
TZOFFSETTO:-0500
TZNAME:CDT
DTSTART:20260308T080000
END:DAYLIGHT
BEGIN:STANDARD
TZOFFSETFROM:-0500
TZOFFSETTO:-0600
TZNAME:CST
DTSTART:20261101T070000
END:STANDARD
BEGIN:DAYLIGHT
TZOFFSETFROM:-0600
TZOFFSETTO:-0500
TZNAME:CDT
DTSTART:20270314T080000
END:DAYLIGHT
BEGIN:STANDARD
TZOFFSETFROM:-0500
TZOFFSETTO:-0600
TZNAME:CST
DTSTART:20271107T070000
END:STANDARD
END:VTIMEZONE
BEGIN:VEVENT
DTSTART;TZID=America/Chicago:20260222T170000
DTEND;TZID=America/Chicago:20260222T180000
DTSTAMP:20260421T055655
CREATED:20260218T020732Z
LAST-MODIFIED:20260218T020732Z
UID:10034899-1771779600-1771783200@theboernelife.com
SUMMARY:Sound Meditation at San Antonio Yoga in Boerne
DESCRIPTION:An immersive evening of sound and stillness comes to Boerne with Sound Meditation on Sunday\, February 22 from 5:00 pm to 6:00 pm at San Antonio Yoga in Boerne\, 101 Oak Ridge Drive\, Boerne\, TX 78006. \nLed by Singing Bowl Lady\, this hour-long experience features quartz crystal singing bowls in a powerful\, multi-layered sonic meditation. The tones and vibrations are designed to calm the mind\, energize the body\, and create a deeply relaxing meditative state. Blending elements of music and mindfulness\, the session offers a full-body sound bath intended to soothe\, restore\, and recharge. \nParticipants are asked to bring their own mat\, blanket\, pillows\, or anything needed to feel comfortable during the session. The experience is open to ages 14 and up. Please note that bowl sessions are not recommended for individuals with pacemakers or for pregnancies under 12 weeks. \nTickets are $40 per person. Reservations are required and can be made at https://singingbowllady.timetap.com by selecting the class date and completing payment. All sales are final. Rescheduling is permitted with at least 72 hours’ notice and must be used within six months of the original session date.
URL:https://theboernelife.com/events/sound-meditation-at-san-antonio-yoga-in-boerne/
LOCATION:San Antonio Yoga in Boerne\, 101 Oak Ridge Drive\, Boerne\, TX\, 78006\, United States
CATEGORIES:General
ATTACH;FMTTYPE=image/jpeg:https://theboernelife.com/wp-content/uploads/2026/02/sound-meditation-at-san-antonio-yoga-in-boerne.jpg
END:VEVENT
END:VCALENDAR