BEGIN:VCALENDAR
VERSION:2.0
PRODID:-//The Boerne Life - ECPv6.15.15//NONSGML v1.0//EN
CALSCALE:GREGORIAN
METHOD:PUBLISH
X-ORIGINAL-URL:https://theboernelife.com
X-WR-CALDESC:Events for The Boerne Life
REFRESH-INTERVAL;VALUE=DURATION:PT1H
X-Robots-Tag:noindex
X-PUBLISHED-TTL:PT1H
BEGIN:VTIMEZONE
TZID:America/Chicago
BEGIN:DAYLIGHT
TZOFFSETFROM:-0600
TZOFFSETTO:-0500
TZNAME:CDT
DTSTART:20240310T080000
END:DAYLIGHT
BEGIN:STANDARD
TZOFFSETFROM:-0500
TZOFFSETTO:-0600
TZNAME:CST
DTSTART:20241103T070000
END:STANDARD
BEGIN:DAYLIGHT
TZOFFSETFROM:-0600
TZOFFSETTO:-0500
TZNAME:CDT
DTSTART:20250309T080000
END:DAYLIGHT
BEGIN:STANDARD
TZOFFSETFROM:-0500
TZOFFSETTO:-0600
TZNAME:CST
DTSTART:20251102T070000
END:STANDARD
BEGIN:DAYLIGHT
TZOFFSETFROM:-0600
TZOFFSETTO:-0500
TZNAME:CDT
DTSTART:20260308T080000
END:DAYLIGHT
BEGIN:STANDARD
TZOFFSETFROM:-0500
TZOFFSETTO:-0600
TZNAME:CST
DTSTART:20261101T070000
END:STANDARD
END:VTIMEZONE
BEGIN:VEVENT
DTSTART;TZID=America/Chicago:20251023T130000
DTEND;TZID=America/Chicago:20251023T170000
DTSTAMP:20260420T060358
CREATED:20250924T070622Z
LAST-MODIFIED:20250924T070622Z
UID:10032529-1761224400-1761238800@theboernelife.com
SUMMARY:Fall Pop-Up at The Bungalow by Sarah Hardin Design
DESCRIPTION:Celebrate the season—and one year of The Bungalow—with a special fall pop-up hosted by Sarah Hardin Design. On Thursday\, October 23 from 1 pm to 5 pm\, guests are invited to explore cozy layers\, curated antiques\, and handpicked fall décor designed to help you feather your nest in true Hill Country style. \nThe event will feature hand-painted pumpkins\, seasonal inspiration\, and thoughtfully selected home goods reminiscent of Round Top charm—all showcased at The Bungalow’s warm and welcoming space at 1015 N School Street\, Building D\, Boerne\, TX. \nThis fall pop-up is perfect for lovers of interior design\, unique vintage finds\, and festive seasonal accents. Whether you’re refreshing your home for autumn or marking the milestone with Sarah Hardin Design\, this is a stylish stop worth making.
URL:https://theboernelife.com/events/fall-pop-up-at-the-bungalow-by-sarah-hardin-design/
LOCATION:The Bungalow\, 1015 N School Street\, Building D\, Boerne\, TX\, 78006\, United States
CATEGORIES:Shopping
ATTACH;FMTTYPE=image/jpeg:https://theboernelife.com/wp-content/uploads/2025/09/fall-pop-up-at-the-bungalow-by-sarah-hardin-design.jpg
END:VEVENT
END:VCALENDAR