BEGIN:VCALENDAR
VERSION:2.0
PRODID:-//The Boerne Life - ECPv6.15.15//NONSGML v1.0//EN
CALSCALE:GREGORIAN
METHOD:PUBLISH
X-ORIGINAL-URL:https://theboernelife.com
X-WR-CALDESC:Events for The Boerne Life
REFRESH-INTERVAL;VALUE=DURATION:PT1H
X-Robots-Tag:noindex
X-PUBLISHED-TTL:PT1H
BEGIN:VTIMEZONE
TZID:America/Chicago
BEGIN:DAYLIGHT
TZOFFSETFROM:-0600
TZOFFSETTO:-0500
TZNAME:CDT
DTSTART:20250309T080000
END:DAYLIGHT
BEGIN:STANDARD
TZOFFSETFROM:-0500
TZOFFSETTO:-0600
TZNAME:CST
DTSTART:20251102T070000
END:STANDARD
BEGIN:DAYLIGHT
TZOFFSETFROM:-0600
TZOFFSETTO:-0500
TZNAME:CDT
DTSTART:20260308T080000
END:DAYLIGHT
BEGIN:STANDARD
TZOFFSETFROM:-0500
TZOFFSETTO:-0600
TZNAME:CST
DTSTART:20261101T070000
END:STANDARD
BEGIN:DAYLIGHT
TZOFFSETFROM:-0600
TZOFFSETTO:-0500
TZNAME:CDT
DTSTART:20270314T080000
END:DAYLIGHT
BEGIN:STANDARD
TZOFFSETFROM:-0500
TZOFFSETTO:-0600
TZNAME:CST
DTSTART:20271107T070000
END:STANDARD
END:VTIMEZONE
BEGIN:VEVENT
DTSTART;TZID=America/Chicago:20260502T120000
DTEND;TZID=America/Chicago:20260502T140000
DTSTAMP:20260421T234901
CREATED:20260415T004049Z
LAST-MODIFIED:20260415T004049Z
UID:10037592-1777723200-1777730400@theboernelife.com
SUMMARY:Tween Girls Mother’s Day Event at The Sharing Kind
DESCRIPTION:Tween Girls Mother’s Day Event at The Sharing Kind offers a creative and meaningful way for young participants to celebrate Mother’s Day. The event will take place on Saturday\, May 2 from 12 pm to 2 pm at 248 N. Main Street\, Boerne\, TX 78006. \nDesigned for tweens ages 9–13\, this hands-on workshop invites participants to create a special\, gift-worthy project for Mom. The session provides all supplies along with light snacks and beverages\, creating a relaxed and enjoyable environment for crafting and creativity. \nAdmission is $20 per participant\, and space is limited. This event is a great opportunity for tweens to spend time with friends while making something thoughtful and memorable for Mother’s Day.
URL:https://theboernelife.com/events/tween-girls-mothers-day-event-at-the-sharing-kind/
LOCATION:The Sharing Kind\, 248 N. Main Street\, Boerne\, TX\, 78006\, United States
CATEGORIES:Kids and Family
ATTACH;FMTTYPE=image/jpeg:https://theboernelife.com/wp-content/uploads/2026/04/tween-girls-mothers-day-event-at-the-sharing-kind.jpg
END:VEVENT
END:VCALENDAR